BEGIN:VCALENDAR
VERSION:2.0
PRODID:-//Urban Milwaukee - ECPv4.6.9//NONSGML v1.0//EN
CALSCALE:GREGORIAN
METHOD:PUBLISH
X-WR-CALNAME:Urban Milwaukee
X-ORIGINAL-URL:https://urbanmilwaukee.com
X-WR-CALDESC:Events for Urban Milwaukee
BEGIN:VEVENT
DTSTART;TZID=America/Chicago:20221022T130000
DTEND;TZID=America/Chicago:20221022T150000
DTSTAMP:20260425T212623
CREATED:20221012T140625Z
LAST-MODIFIED:20221012T140818Z
UID:681789-1666443600-1666450800@urbanmilwaukee.com
SUMMARY:Sounds of Nature Music Program
DESCRIPTION:(For families) Nature makes its own music! Join us as we explore the sounds around us in Washington Park. We’ll play a sound match up game\, make it rain\, listen to various animal calls\, and tune into our own rhythm with an instrument circle. Children must be accompanied by an adult- everyone is encouraged to participate. \nFor questions about this program\, please contact Registrar\, Augie Rodenbeck\, at arodenbeck@urbanecologycenter.org or call (414) 626-8518. \nRegistration is required for this event and will close 24 hours prior to event start time. \n
URL:https://urbanmilwaukee.com/event/sounds-of-nature-music-program/
LOCATION:1859 N. 40th St.\, Milwaukee\, WI\, 53208\, United States
CATEGORIES:Active,Environment,Kids
ATTACH;FMTTYPE=image/jpeg:https://urbanmilwaukee.com/wp-content/uploads/2022/10/306948175_456354136518082_8828367805033446993_n.jpg
END:VEVENT
END:VCALENDAR