BEGIN:VCALENDAR
VERSION:2.0
PRODID:-//Urban Milwaukee - ECPv4.6.9//NONSGML v1.0//EN
CALSCALE:GREGORIAN
METHOD:PUBLISH
X-WR-CALNAME:Urban Milwaukee
X-ORIGINAL-URL:https://urbanmilwaukee.com
X-WR-CALDESC:Events for Urban Milwaukee
BEGIN:VEVENT
DTSTART;TZID=America/Chicago:20220924T080000
DTEND;TZID=America/Chicago:20220924T100000
DTSTAMP:20260424T002230
CREATED:20220831T134319Z
LAST-MODIFIED:20220831T134319Z
UID:674917-1664006400-1664013600@urbanmilwaukee.com
SUMMARY:Hike & Brunch
DESCRIPTION:(For adults & teens) Join us for an early morning stroll from Washington Park to Amaranth Bakery & Cafe. This stroll is just under 2 miles round trip. We’ll gather and take in the beauty of the morning and observe nature in our neighborhood before enjoying a baked good at Amaranth Cafe. One bakery item included with registration. Walking shoes recommended! \nFor questions about this program\, please contact Registrar\, Augie Rodenbeck\, at arodenbeck@urbanecologycenter.org or call 414-626-8518. \nRegistration is required for this event and will close 24 hours prior to event start time. \n
URL:https://urbanmilwaukee.com/event/hike-brunch/
LOCATION:1859 N. 40th St.\, Milwaukee\, WI\, 53208\, United States
CATEGORIES:Active,Environment
ATTACH;FMTTYPE=image/jpeg:https://urbanmilwaukee.com/wp-content/uploads/2022/08/299580783_434560848697411_2335127604146553979_n.jpg
END:VEVENT
BEGIN:VEVENT
DTSTART;TZID=America/Chicago:20220924T130000
DTEND;TZID=America/Chicago:20220924T150000
DTSTAMP:20260424T002230
CREATED:20220914T102057Z
LAST-MODIFIED:20220914T102057Z
UID:675494-1664024400-1664031600@urbanmilwaukee.com
SUMMARY:Raft Building Challenge
DESCRIPTION:(For families) Brainstorm\, design\, build and float your own handcrafted mini raft on the Washington Park lagoon! With the guidance of an Urban Ecology Center Educator\, participants will use recycled materials and sticks to build a mini raft of their own. Let’s get creative and set sail on this design challenge together! Children must be accompanied by an adult – everyone is encouraged to participate. \nFor questions about this program\, please contact Registrar\, Augie Rodenbeck\, at arodenbeck@urbanecologycenter.org or call 414-626-8518. \nRegistration is required for this event and will close 24 hours prior to event start time. \n
URL:https://urbanmilwaukee.com/event/raft-building-challenge/
LOCATION:1859 N. 40th St.\, Milwaukee\, WI\, 53208\, United States
CATEGORIES:Arts & Entertainment,Environment,Kids
ATTACH;FMTTYPE=image/jpeg:https://urbanmilwaukee.com/wp-content/uploads/2022/08/299733704_434569495363213_4789177655772216444_n.jpg
END:VEVENT
END:VCALENDAR