BEGIN:VCALENDAR
VERSION:2.0
PRODID:-//Urban Milwaukee - ECPv4.6.9//NONSGML v1.0//EN
CALSCALE:GREGORIAN
METHOD:PUBLISH
X-WR-CALNAME:Urban Milwaukee
X-ORIGINAL-URL:https://urbanmilwaukee.com
X-WR-CALDESC:Events for Urban Milwaukee
BEGIN:VEVENT
DTSTART;TZID=America/Chicago:20220507T090000
DTEND;TZID=America/Chicago:20220507T120000
DTSTAMP:20260424T075432
CREATED:20220418T114538Z
LAST-MODIFIED:20220418T114538Z
UID:653544-1651914000-1651924800@urbanmilwaukee.com
SUMMARY:Raptors in Focus Photoshoot
DESCRIPTION:Join us for our annual Raptor Photoshoot featuring our 15 feathered ambassadors. This is a unique opportunity to photograph eagles\, hawks\, falcons\, and owls up close and learn about their species. The birds will be on the trails in natural settings to create unique photo opportunities. Keep the photos all to yourself\, or submit them for an opportunity to be featured in the 2023 Schlitz Audubon Raptor Calendar. \nYou must pre-register for this program. Rain Date: Sunday\, May 8 | 9:00 a.m. to 12:00 p.m. \nThis program will take place entirely outdoors. \nMembers: $60 Non-Members: $75 \n
URL:https://urbanmilwaukee.com/event/raptors-in-focus-photoshoot/
LOCATION:1111 E. Brown Deer Rd.\, Milwaukee\, WI\, 53217\, United States
CATEGORIES:Environment
ATTACH;FMTTYPE=image/jpeg:https://urbanmilwaukee.com/wp-content/uploads/2022/04/new-saw-whet-email.jpeg
END:VEVENT
END:VCALENDAR