BEGIN:VCALENDAR
VERSION:2.0
PRODID:-//Urban Milwaukee - ECPv4.6.9//NONSGML v1.0//EN
CALSCALE:GREGORIAN
METHOD:PUBLISH
X-WR-CALNAME:Urban Milwaukee
X-ORIGINAL-URL:https://urbanmilwaukee.com
X-WR-CALDESC:Events for Urban Milwaukee
BEGIN:VEVENT
DTSTART;TZID=America/Chicago:20260714T170000
DTEND;TZID=America/Chicago:20260714T170000
DTSTAMP:20260422T005645
CREATED:20260420T172036Z
LAST-MODIFIED:20260420T172036Z
UID:963652-1784048400-1784048400@urbanmilwaukee.com
SUMMARY:Chill on the Hill
DESCRIPTION:Chill on the Hill\, brought to you by the Bay View Neighborhood Association and Milwaukee County Parks\, is a weekly free summer concert event with live local music\, food trucks\, and fun for the whole family. The event happens Tuesday evenings at Humboldt Park in Bay View. \nFood vendors will be in the park starting at 5:00 p.m. for dinner. Music begins at 6:30 p.m. \n2026 Chill on the Hill Line Up \nJune 9: Louie & The Flashbombs\, Bright Eyed &Blind \nJune 16: Milwaukee Symphony Orchestra\, Hot & Dirty Brass Band to open \nJune 23: Wisconsin Space Program \nJune 30: American Legion Band \nJuly 7: Diet Lite\, Social Cig \nJuly 14: Full Nude and SSAANN \nJuly 21: Stallis Cowboys\, Torcado \nJuly 28: Father Sky\, Sugo \nAugust 4: Bo Randall Band\, Valley Fox \nAugust 11: Andrew Vadin Project\, Sleepersound\, Known Moons \nAugust 18: Obscure Birds\, November Criminals \nAugust 25: Crimes Against Nature\, Electricity Kills \nSeptember 1: Los Mitoteros \nAll acts and times are subject to change without notice. \n
URL:https://urbanmilwaukee.com/event/chill-on-the-hill-18/
LOCATION:3000 S. Howell Ave.\, Milwaukee\, WI\, 53207\, United States
CATEGORIES:Arts & Entertainment
ATTACH;FMTTYPE=image/jpeg:https://urbanmilwaukee.com/wp-content/uploads/2021/06/IMG_3747.jpg
END:VEVENT
BEGIN:VEVENT
DTSTART;TZID=America/Chicago:20260714T193000
DTEND;TZID=America/Chicago:20260714T193000
DTSTAMP:20260422T005645
CREATED:20251215T115021Z
LAST-MODIFIED:20251215T115021Z
UID:927952-1784057400-1784057400@urbanmilwaukee.com
SUMMARY:Monty Python’s Spamalot
DESCRIPTION:THE SHOW THAT SET BROADWAY BACK 1\,000 YEARS…RETURNS!  \nTOURING ACROSS AMERICA  \nTHE TONY AWARD-WINNING BEST MUSICAL COMEDY  \nPeter Marks of The Washington Post exclaims\, “It’s UNFAIR to make me laugh this much! SPAMALOT is a tightly packed clown car speeding to musical theater nirvana!”   \nSPAMALOT\, which first galloped onto Broadway in 2005\, features a book & lyrics by Eric Idle and music by John Du Prez and Eric Idle. The original Broadway production was nominated for fourteen Tony Awards and won three\, including Best Musical.  \nThe musical comedy lovingly ripped off from the film classic\, Monty Python and the Holy Grail\, has everything that makes a great knight at the theatre\, from flying cows to killer rabbits\, British royalty to French taunters\, dancing girls\, rubbery shrubbery\, and of course\, the Lady of the Lake. SPAMALOT features well-known song titles such as “Always Look on the Bright Side of Life\,” “The Song That Goes Like This\,” “Find Your Grail” and more that have become beloved classics in the musical theatre canon.  \n
URL:https://urbanmilwaukee.com/event/monty-pythons-spamalot/
LOCATION:929 N. Water St.\, Milwaukee\, WI\, 53202\, United States
CATEGORIES:Arts & Entertainment
ATTACH;FMTTYPE=image/jpeg:https://urbanmilwaukee.com/wp-content/uploads/2025/12/932x525.jpg
END:VEVENT
END:VCALENDAR