BEGIN:VCALENDAR
VERSION:2.0
PRODID:-//Urban Milwaukee - ECPv4.6.9//NONSGML v1.0//EN
CALSCALE:GREGORIAN
METHOD:PUBLISH
X-WR-CALNAME:Urban Milwaukee
X-ORIGINAL-URL:https://urbanmilwaukee.com
X-WR-CALDESC:Events for Urban Milwaukee
BEGIN:VEVENT
DTSTART;TZID=America/Chicago:20260703T160000
DTEND;TZID=America/Chicago:20260703T160000
DTSTAMP:20260421T060823
CREATED:20260420T212421Z
LAST-MODIFIED:20260420T212421Z
UID:963802-1783094400-1783094400@urbanmilwaukee.com
SUMMARY:The Deer Garden Summer Concert Series
DESCRIPTION:The 2026 Summer Concert Series will bring local artists to The Deer Garden presented by Michelob ULTRA\, located in Deer District\, every Friday night from June 5-Aug. 28. \nAll concerts are free to attend and will take place from 4 p.m. to 7 p.m. Drink specials will be available at The Deer Garden presented by Michelob ULTRA. \nThe complete 2026 Summer Concert Series schedule is below: \n\nJune 5: Tobias Canion\nJune 19: Xeno & Joe\nJune 26: Andrew David Weber\nJuly 3: Shuga Blu\nJuly 10: Peter Thomas\nJuly 17: Marr’Lo Parada\nJuly 24: Judson Brown Band\nJuly 31: Bruce Humphries\nAug. 7: Mixtape\nAug. 14: Tim Wright\nAug. 21: Catelyn Huckstep\nAug. 28: Party 2 Go\n\n
URL:https://urbanmilwaukee.com/event/the-deer-garden-summer-concert-series-4/
LOCATION:1134 N. Vel R. Phillips Ave.\, Milwaukee\, WI\, 53203\, United States
CATEGORIES:Arts & Entertainment
ATTACH;FMTTYPE=image/jpeg:https://urbanmilwaukee.com/wp-content/uploads/2026/04/download-1.jpg
END:VEVENT
END:VCALENDAR