BEGIN:VCALENDAR
VERSION:2.0
PRODID:-//Urban Milwaukee - ECPv4.6.9//NONSGML v1.0//EN
CALSCALE:GREGORIAN
METHOD:PUBLISH
X-WR-CALNAME:Urban Milwaukee
X-ORIGINAL-URL:https://urbanmilwaukee.com
X-WR-CALDESC:Events for Urban Milwaukee
BEGIN:VEVENT
DTSTART;TZID=America/Chicago:20260627T150000
DTEND;TZID=America/Chicago:20260627T171500
DTSTAMP:20260420T193424
CREATED:20250624T031530Z
LAST-MODIFIED:20250624T031530Z
UID:881066-1782572400-1782580500@urbanmilwaukee.com
SUMMARY:Agatha Christie's And Then There Were None
DESCRIPTION:Agatha Christie’s heart-pounding thriller takes us to a secluded island full of intrigue\, as ten strangers with dark secrets find themselves marooned at a grand estate\, trapped in a deadly game where no one can be trusted. Christie’s own acclaimed adaptation of her most famous masterpiece – the world’s #1 best-selling mystery novel – is filled with suspicious twists\, surprising turns and memorable characters that will keep you on the edge of your seat until the shocking end. \n“You will jump\, for sure… leaves you guessing till the very end.” – Houston Press \nDirected by Laura Braza \nTickets: Starting at $25 \n
URL:https://urbanmilwaukee.com/event/agatha-christies-and-then-there-were-none-35/
LOCATION:108 E. Wells St.\, Milwaukee\, WI\, 53202\, United States
CATEGORIES:Arts & Entertainment
ATTACH;FMTTYPE=image/jpeg:https://urbanmilwaukee.com/wp-content/uploads/2025/06/ATTWN_2526-Listings_Urban-Milwaukee_1200x630-33.jpg
END:VEVENT
BEGIN:VEVENT
DTSTART;TZID=America/Chicago:20260627T180000
DTEND;TZID=America/Chicago:20260627T210000
DTSTAMP:20260420T193424
CREATED:20260330T182214Z
LAST-MODIFIED:20260330T182214Z
UID:957467-1782583200-1782594000@urbanmilwaukee.com
SUMMARY:Dinner Detective
DESCRIPTION:North America’s largest interactive comedy true-crime murder mystery dinner theatre show is now playing! Solve a hilarious mystery while you feast on a fantastic dinner. Just beware! The culprit is hiding in plain sight somewhere in the room\, and you may find yourself as a Prime Suspect before you know it! Join us for an event that is very different from a traditional mystery dinner show. Our actors are not dressed in costume and are hidden in the audience! This results in a fun\, social and interactive evening suitable for all adults. Each ticket includes our signature award-winning true-crime mystery dinner theatre show (based on actual cold cases)\, along with a full plated dinner\, waitstaff gratuity\, and plenty of surprises during the show! \nTickets \n$70.95 (+ taxes/fees) \n
URL:https://urbanmilwaukee.com/event/dinner-detective-2/
LOCATION:375 S. Moorland Rd.\, Brookfield\, WI\, 53005\, United States
CATEGORIES:Arts & Entertainment,Comedy,Food & Drink
ATTACH;FMTTYPE=image/jpeg:https://urbanmilwaukee.com/wp-content/uploads/2026/03/Back-to-Back-Detectives-5.jpg
END:VEVENT
BEGIN:VEVENT
DTSTART;TZID=America/Chicago:20260627T200000
DTEND;TZID=America/Chicago:20260627T221500
DTSTAMP:20260420T193424
CREATED:20250624T031551Z
LAST-MODIFIED:20250624T031551Z
UID:881068-1782590400-1782598500@urbanmilwaukee.com
SUMMARY:Agatha Christie's And Then There Were None
DESCRIPTION:Agatha Christie’s heart-pounding thriller takes us to a secluded island full of intrigue\, as ten strangers with dark secrets find themselves marooned at a grand estate\, trapped in a deadly game where no one can be trusted. Christie’s own acclaimed adaptation of her most famous masterpiece – the world’s #1 best-selling mystery novel – is filled with suspicious twists\, surprising turns and memorable characters that will keep you on the edge of your seat until the shocking end. \n“You will jump\, for sure… leaves you guessing till the very end.” – Houston Press \nDirected by Laura Braza \nTickets: Starting at $25 \n
URL:https://urbanmilwaukee.com/event/agatha-christies-and-then-there-were-none-36/
LOCATION:108 E. Wells St.\, Milwaukee\, WI\, 53202\, United States
CATEGORIES:Arts & Entertainment
ATTACH;FMTTYPE=image/jpeg:https://urbanmilwaukee.com/wp-content/uploads/2025/06/ATTWN_2526-Listings_Urban-Milwaukee_1200x630-34.jpg
END:VEVENT
END:VCALENDAR