BEGIN:VCALENDAR
VERSION:2.0
PRODID:-//Urban Milwaukee - ECPv4.6.9//NONSGML v1.0//EN
CALSCALE:GREGORIAN
METHOD:PUBLISH
X-WR-CALNAME:Urban Milwaukee
X-ORIGINAL-URL:https://urbanmilwaukee.com
X-WR-CALDESC:Events for Urban Milwaukee
BEGIN:VEVENT
DTSTART;TZID=America/Chicago:20240804T110000
DTEND;TZID=America/Chicago:20240804T180000
DTSTAMP:20260422T210640
CREATED:20240711T061934Z
LAST-MODIFIED:20240711T061934Z
UID:796116-1722769200-1722794400@urbanmilwaukee.com
SUMMARY:Wisconsin Vintage Fest
DESCRIPTION:Wisconsin Vintage Fest\, Wisconsin’s largest vintage shopping market\, will return to Deer District on Sunday\, Aug. 4\, from 11 a.m. to 5 p.m. on the Plaza at Fiserv Forum and in The Beer Garden.\n\nWisconsin Vintage Fest is free to attend and will host more than 85 vendors from around the Midwest for a day of nostalgia and shopping for classic clothing\, records\, video games and more.\n\nVendors interested in participating in the market can apply here. More information is available at www.deerdistrict.com.\n
URL:https://urbanmilwaukee.com/event/wisconsin-vintage-fest/
LOCATION:1134 N. Vel R. Phillips Ave.\, Milwaukee\, WI\, 53203\, United States
CATEGORIES:Arts & Entertainment
ATTACH;FMTTYPE=image/jpeg:https://urbanmilwaukee.com/wp-content/uploads/2023/09/Deer-District.jpg
END:VEVENT
BEGIN:VEVENT
DTSTART;TZID=America/Chicago:20240804T120000
DTEND;TZID=America/Chicago:20240804T140000
DTSTAMP:20260422T210640
CREATED:20240802T061227Z
LAST-MODIFIED:20240802T061227Z
UID:799730-1722772800-1722780000@urbanmilwaukee.com
SUMMARY:Girls Rock Camp August 2024 Showcase
DESCRIPTION:All week camp attendees of all skill levels learn how to play a rock instrument\, form a band\, write an original song and perform that song they created on their new instrument at this magnificent showcase. Show up and support these future rockers! This is a family-friendly event. Fans and friends of all ages are welcome to attend. \n
URL:https://urbanmilwaukee.com/event/girls-rock-camp-august-2024-showcase/
LOCATION:1034 N. 4th St.\, Milwaukee\, WI\, 53203\, United States
CATEGORIES:Arts & Entertainment
ATTACH;FMTTYPE=image/png:https://urbanmilwaukee.com/wp-content/uploads/2024/07/Girls-Rock-MKE-August-2024-Showcase-940x788-1.png
END:VEVENT
BEGIN:VEVENT
DTSTART;TZID=America/Chicago:20240804T180000
DTEND;TZID=America/Chicago:20240804T230000
DTSTAMP:20260422T210640
CREATED:20240802T061409Z
LAST-MODIFIED:20240802T061409Z
UID:787499-1722794400-1722812400@urbanmilwaukee.com
SUMMARY:The Wildwoods with Admiral Radio
DESCRIPTION:Join Anodyne Coffee Roasting Co. for an evening of live music featuring The Wildwoods and Admiral Radio! \nThe Wildwoods \nIn the heart of Lincoln\, Nebraska\, The Wildwoods\, a folk/Americana trio led by Noah and Chloe Gose\, accompanied by the bassist Andrew Vaggalis deliver a musical journey through the soul of American roots. With accolades ranging from international songwriting competitions to standing ovations at festivals like Summerfest and FreshGrass\, their latest release\, “Foxfield Saint John” (2023)\, solidifies them as a force in the folk scene. \nAdmiral Radio \nInspired by their 1941 wooden Admiral radio\, this South Carolina- based husband and wife duo creates an Americana sound rooted in tradition that touches the heartstrings of the modern-day listener. With tight vocal harmonies\, endearing storytelling and authentic energy\, Becca and Coty hold a presence that is palpable and real\, both on and off stage. \nAdmiral Radio has shared stages with critically-acclaimed acts like Del McCoury\, Molly Tuttle\, Judah & the Lion\, and more. The duo has two independently-produced albums under their belt\, their debut original record ‘Sounds Like You’ in 2020 and ‘Songs From The Vault’ in 2022\, an EP of songs from the public domain. \nTickets are $12 in advance or $15 at the door. \n
URL:https://urbanmilwaukee.com/event/the-wildwoods-with-admiral-radio/
LOCATION:224 W. Bruce St.\, Milwaukee\, WI\, 53204\, United States
CATEGORIES:Arts & Entertainment
ATTACH;FMTTYPE=image/jpeg:https://urbanmilwaukee.com/wp-content/uploads/2021/11/dsc01852.jpg
END:VEVENT
END:VCALENDAR