BEGIN:VCALENDAR
VERSION:2.0
PRODID:-//Urban Milwaukee - ECPv4.6.9//NONSGML v1.0//EN
CALSCALE:GREGORIAN
METHOD:PUBLISH
X-WR-CALNAME:Urban Milwaukee
X-ORIGINAL-URL:https://urbanmilwaukee.com
X-WR-CALDESC:Events for Urban Milwaukee
BEGIN:VEVENT
DTSTART;TZID=America/Chicago:20240710T163000
DTEND;TZID=America/Chicago:20240710T190000
DTSTAMP:20260424T072950
CREATED:20240628T055102Z
LAST-MODIFIED:20240628T055102Z
UID:785023-1720629000-1720638000@urbanmilwaukee.com
SUMMARY:Family Flicks: Trolls Band Together
DESCRIPTION:Come join us for FREE summer fun with BAYSHORE’s Family Flicks movie nights presented by Shorewest Realtors – Northshore Office and St. Francis Children’s Center! Bring the whole family and experience a variety of pre-show activities and entertainment\, and then enjoy our featured PG-rated films on the Big Screen. Bring your lawn chairs and blankets\, alcohol and animals are prohibited. Festivities take place in The Yard\, the open central community space in the heart of BAYSHORE. \nPre-Show Entertainment: 4:30 – 5:30pm\nFairytale Birthday Company Princesses \nTrolls Band Together: 5:30 – 7:00pm\nThis third installment of the Trolls franchise finds friends Poppy and Branch as a couple. But as they get to know each other more\, it is revealed that Branch was a member of the old popular boyband BroZone when he was younger. Not only that\, but the group members are his real-life brothers to boot. However\, when they disbanded\, Branch never saw his boyband brothers again until his brother Floyd is kidnapped. Branch mobilizes his family for the rescue. \nPop-Ups & Food Trucks\nHawaii Fluid Art\, Vibez Creative Arts Studio\, El Sazon Dominicano\, Kona Ice\, Shorewest Realtors – Northshore Office\, St. Francis Children’s Center \n
URL:https://urbanmilwaukee.com/event/family-flicks-trolls-band-together/
LOCATION:5800 N. Bayshore Dr.\, Glendale\, WI\, 53217\, United States
CATEGORIES:Arts & Entertainment
ATTACH;FMTTYPE=image/jpeg:https://urbanmilwaukee.com/wp-content/uploads/2024/05/bayshore_FamilyFlicks2024_Trolls_600x600-email.jpg
END:VEVENT
BEGIN:VEVENT
DTSTART;TZID=America/Chicago:20240710T170000
DTEND;TZID=America/Chicago:20240710T220000
DTSTAMP:20260424T072950
CREATED:20240628T055254Z
LAST-MODIFIED:20240628T055254Z
UID:793068-1720630800-1720648800@urbanmilwaukee.com
SUMMARY:Summer of Soul: Outdoor Marketplace & Concert Series
DESCRIPTION:July 10: GROWING NATION w/ vibes provided by DJ Meg Nice\nEvery other Wednesday\, July 10th – September 18th | Peck Pavilion – Marcus Center for the Performing Arts Grounds | 4 p.m. – 10 p.m. \nThe Summer of Soul: Outdoor Marketplace & Concert Series (SoS) is not just another summer event. A unique collaboration between Culture x Design and the Marcus Center for the Performing Arts\, SOS is a night full of diverse entertainment\, local artisans\, and food vendors under the open sky for audiences of all backgrounds and ages. Best of all\, it’s FREE. \n
URL:https://urbanmilwaukee.com/event/summer-of-soul-outdoor-marketplace-concert-series/
LOCATION:929 N. Water St.\, Milwaukee\, WI\, 53202\, United States
CATEGORIES:Arts & Entertainment,Food & Drink
ATTACH;FMTTYPE=image/jpeg:https://urbanmilwaukee.com/wp-content/uploads/2024/06/cbd24-sos-flyer_square-scaled.jpg
END:VEVENT
END:VCALENDAR