BEGIN:VCALENDAR
VERSION:2.0
PRODID:-//Urban Milwaukee - ECPv4.6.9//NONSGML v1.0//EN
CALSCALE:GREGORIAN
METHOD:PUBLISH
X-WR-CALNAME:Urban Milwaukee
X-ORIGINAL-URL:https://urbanmilwaukee.com
X-WR-CALDESC:Events for Urban Milwaukee
BEGIN:VEVENT
DTSTART;TZID=America/Chicago:20240706T120000
DTEND;TZID=America/Chicago:20240706T183000
DTSTAMP:20260424T131415
CREATED:20240628T054109Z
LAST-MODIFIED:20240628T054109Z
UID:793407-1720267200-1720290600@urbanmilwaukee.com
SUMMARY:Optimist Theatre Presents: Shakespeare in the City!
DESCRIPTION:FREE event! Running every Saturday and Sunday now through July 21st\, Optimist Theatre is touring four titles plus Shakespeare-themed theatre games at outdoor locations across Milwaukee. Each date features multiple play offerings and performances by associated groups – sometimes in multiple parks! \nOn Sunday\, July 6th\, join us for one or all of the following offerings: \nNoon: The Comedy of Romeo & Juliet\, Kinda\, Sorta\n2:30 pm: Another Midsummer Night’s Dream\n4:30 pm: Performance by Early Music Now\n5 pm: Hamlet (One Woman as Everyone) \nFor full details and registration info\, visit www.optimisttheatre.org/2024season.html \n
URL:https://urbanmilwaukee.com/event/optimist-theatre-presents-shakespeare-in-the-city-3/
LOCATION:2975 N. Lake Park Rd.\, Milwaukee\, WI\, 53211\, United States
CATEGORIES:Arts & Entertainment
ATTACH;FMTTYPE=image/png:https://urbanmilwaukee.com/wp-content/uploads/2024/06/Optimist-800-by-6001-10.png
END:VEVENT
END:VCALENDAR