BEGIN:VCALENDAR
VERSION:2.0
PRODID:-//Urban Milwaukee - ECPv4.6.9//NONSGML v1.0//EN
CALSCALE:GREGORIAN
METHOD:PUBLISH
X-WR-CALNAME:Urban Milwaukee
X-ORIGINAL-URL:https://urbanmilwaukee.com
X-WR-CALDESC:Events for Urban Milwaukee
BEGIN:VEVENT
DTSTART;TZID=America/Chicago:20240629T100000
DTEND;TZID=America/Chicago:20240629T183000
DTSTAMP:20260424T233950
CREATED:20240628T052803Z
LAST-MODIFIED:20240628T052803Z
UID:793414-1719655200-1719685800@urbanmilwaukee.com
SUMMARY:Optimist Theatre Presents: Shakespeare in the City!
DESCRIPTION:FREE event! Running every Saturday and Sunday now through July 21st\, Optimist Theatre is touring four titles plus Shakespeare-themed theatre games at outdoor locations across Milwaukee. Each date features multiple play offerings and performances by associated groups – sometimes in multiple parks! \nOn Saturday\, June 29th\, join us for one or all of the following offerings: \n10 am: The PLAY’s the Thing Workshops: Theatre Games and Adventures\n11 am: The Comedy of Romeo & Juliet\, Kinda\, Sorta\n1 pm: Another Midsummer Night’s Dream\n3:30 pm: Pocket Park Puppet Players’ Macbeth\n4:30 pm: Performance by Early Music Now\n5 pm: Hamlet (One Woman as Everyone) \nFor full details and registration info\, visit www.optimisttheatre.org/2024season.html \n
URL:https://urbanmilwaukee.com/event/optimist-theatre-presents-shakespeare-in-the-city/
LOCATION:3000 S. Howell Ave.\, Milwaukee\, WI\, 53207\, United States
CATEGORIES:Arts & Entertainment
ATTACH;FMTTYPE=image/png:https://urbanmilwaukee.com/wp-content/uploads/2024/06/Optimist-800-by-6001-12.png
END:VEVENT
BEGIN:VEVENT
DTSTART;TZID=America/Chicago:20240629T180000
DTEND;TZID=America/Chicago:20240629T180000
DTSTAMP:20260424T233950
CREATED:20240625T154849Z
LAST-MODIFIED:20240625T155803Z
UID:793226-1719684000-1719684000@urbanmilwaukee.com
SUMMARY:The Dinner Detective
DESCRIPTION:The Dinner Detective invites YOU to join us for a night full of mystery and mayhem with lots of laughs along the way! Everyone is a SUSPECT and the crime could be happening right at YOUR table! No cheesy costumes\, no hokey song and dance. Based on actual cold cases\, prizes are available for the TOP SLEUTH. Get your tickets now before it’s too late! \n
URL:https://urbanmilwaukee.com/event/the-dinner-detective-3/
LOCATION:333 W Kilbourn Ave\, Milwaukee\, WI\, 53203
CATEGORIES:Arts & Entertainment
ATTACH;FMTTYPE=image/jpeg:https://urbanmilwaukee.com/wp-content/uploads/2024/06/DD-Detective-Image-1.jpg
END:VEVENT
END:VCALENDAR