BEGIN:VCALENDAR
VERSION:2.0
PRODID:-//Urban Milwaukee - ECPv4.6.9//NONSGML v1.0//EN
CALSCALE:GREGORIAN
METHOD:PUBLISH
X-WR-CALNAME:Urban Milwaukee
X-ORIGINAL-URL:https://urbanmilwaukee.com
X-WR-CALDESC:Events for Urban Milwaukee
BEGIN:VEVENT
DTSTART;TZID=America/Chicago:20240620T190000
DTEND;TZID=America/Chicago:20240620T230000
DTSTAMP:20260425T133701
CREATED:20240613T053255Z
LAST-MODIFIED:20240613T053255Z
UID:787200-1718910000-1718924400@urbanmilwaukee.com
SUMMARY:The Cancellations + Genevieve Heyward + Amelia Ford
DESCRIPTION:Join Anodyne Coffee Roasting Co. for an evening of live music featuring The Cancellations\, Genevieve Heyward and Amelia Ford. \nThe Cancellations \nDepression you can dance to. Outlaw pop. Y’allternative. Theatrical indie dream rock. Deep space nineties. Wacky waving inflatable arm flailing tube music. \nGenevieve Heyward \nSince she can remember\, Wisconsin based singer-songwriter Genevieve Heyward has grown up with music in her life. Adept at both guitar and piano\, she writes her songs based on raw emotion and relatable experiences that cuts through with melody and sultry tone. Straight out of high school\, she dove head first into music: touring nationally and internationally\, either by herself\, with her band\, or with other well renowned artists. She has released numerous records throughout her career and doesn’t plan on stopping. Her music has hints of indie folk\, bedroom pop and indie piano pop\, all tied in with her own spin and topped off with a unique and rich voice. Her songs and performing style incorporates humor and connection\, making the audience feel heard and immersed. \nAmelia Ford \nAward winning singer-songwriter Amelia Ford mixes soft soprano with raw grit in her 50+ original pop and folk-rock songs. \nOften drawing vocal comparisons to Alanis Morissette\, Amelia is innately musical\, self-taught on guitar\, piano\, and bass. However her greatest standout\, songwriting\, is unmistakably her home. \nTickets are $12 in advance or $15 at the door. \n
URL:https://urbanmilwaukee.com/event/the-cancellations-genevieve-heyward-amelia-ford/
LOCATION:224 W. Bruce St.\, Milwaukee\, WI\, 53204\, United States
CATEGORIES:Arts & Entertainment
ATTACH;FMTTYPE=image/jpeg:https://urbanmilwaukee.com/wp-content/uploads/2021/11/dsc01852.jpg
END:VEVENT
END:VCALENDAR