BEGIN:VCALENDAR
VERSION:2.0
PRODID:-//Urban Milwaukee - ECPv4.6.9//NONSGML v1.0//EN
CALSCALE:GREGORIAN
METHOD:PUBLISH
X-WR-CALNAME:Urban Milwaukee
X-ORIGINAL-URL:https://urbanmilwaukee.com
X-WR-CALDESC:Events for Urban Milwaukee
BEGIN:VEVENT
DTSTART;TZID=America/Chicago:20180520T120000
DTEND;TZID=America/Chicago:20180520T160000
DTSTAMP:20260425T211534
CREATED:20180402T221442Z
LAST-MODIFIED:20180402T221442Z
UID:400260-1526817600-1526832000@urbanmilwaukee.com
SUMMARY:Rotary's Food Truck Sunday
DESCRIPTION:One of the first food truck events of the season will be held on Sunday\, May 20 in South Milwaukee. Up to 15 food trucks will serve food in downtown South Milwaukee from noon to 4 p.m. while a classic rock cover band plays favorites at the downtown market square on 11th Avenue. \nFood will range from perennial favorites like pizza\, burgers\, barbecue and fried chicken to sweet treats for dessert. The family-focused event will not sell any alcohol. The event is being organized by the Rotary Club of Mitchell Field with support from Educators Credit Union. \n
URL:https://urbanmilwaukee.com/event/rotarys-food-truck-sunday/
LOCATION:1022 Milwaukee Ave.\, South Milwaukee\, WI\, 53172\, United States
CATEGORIES:Arts & Entertainment,Food & Drink
ATTACH;FMTTYPE=image/jpeg:https://urbanmilwaukee.com/wp-content/uploads/2018/04/IMG_6989.jpg
END:VEVENT
END:VCALENDAR