BEGIN:VCALENDAR
VERSION:2.0
PRODID:-//Urban Milwaukee - ECPv4.6.9//NONSGML v1.0//EN
CALSCALE:GREGORIAN
METHOD:PUBLISH
X-WR-CALNAME:Urban Milwaukee
X-ORIGINAL-URL:https://urbanmilwaukee.com
X-WR-CALDESC:Events for Urban Milwaukee
BEGIN:VEVENT
DTSTART;TZID=America/Chicago:20170523T190000
DTEND;TZID=America/Chicago:20170523T203000
DTSTAMP:20260420T035546
CREATED:20170519T110405Z
LAST-MODIFIED:20170519T111011Z
UID:362823-1495566000-1495571400@urbanmilwaukee.com
SUMMARY:2017 Scholarship Benefit Concert at the String Academy of Wisconsin at UWM
DESCRIPTION:Come see the incredibly talented and hard working students of the String Academy perform a special concert to raise scholarship funds. Concerto competition winners will be featured as well as a new world premier or the Concertino by Steve Ayers. Tickets are $30 each. Call 414-963-4729 for details. \n
URL:https://urbanmilwaukee.com/event/2017-scholarship-benefit-concert-at-the-string-academy-of-wisconsin-at-uwm/
CATEGORIES:Arts & Entertainment
ATTACH;FMTTYPE=image/jpeg:https://urbanmilwaukee.com/wp-content/uploads/2017/05/benefit_low.jpg
END:VEVENT
END:VCALENDAR