BEGIN:VCALENDAR
VERSION:2.0
PRODID:-//Urban Milwaukee - ECPv4.6.9//NONSGML v1.0//EN
CALSCALE:GREGORIAN
METHOD:PUBLISH
X-WR-CALNAME:Urban Milwaukee
X-ORIGINAL-URL:https://urbanmilwaukee.com
X-WR-CALDESC:Events for Urban Milwaukee
BEGIN:VEVENT
DTSTART;TZID=America/Chicago:20170522T080000
DTEND;TZID=America/Chicago:20170522T080000
DTSTAMP:20260420T055230
CREATED:20170519T111441Z
LAST-MODIFIED:20170519T111441Z
UID:208851-1495440000-1495440000@urbanmilwaukee.com
SUMMARY:Creatures of the Night! - Riverside Park
DESCRIPTION:Search for and identify the creatures of the night living in Riverside Park. We will focus on bats\, moths\, spiders\, fireflies\, nighthawks and frogs as we learn the adaptations they use to survive in the dark. \n
URL:https://urbanmilwaukee.com/event/creatures-of-the-night-riverside-park/
CATEGORIES:Arts & Entertainment
ATTACH;FMTTYPE=image/jpeg:https://urbanmilwaukee.com/wp-content/uploads/2017/04/Creatures-of-the-Night.jpg
END:VEVENT
END:VCALENDAR