BEGIN:VCALENDAR
VERSION:2.0
PRODID:-//Urban Milwaukee - ECPv4.6.9//NONSGML v1.0//EN
CALSCALE:GREGORIAN
METHOD:PUBLISH
X-WR-CALNAME:Urban Milwaukee
X-ORIGINAL-URL:https://urbanmilwaukee.com
X-WR-CALDESC:Events for Urban Milwaukee
BEGIN:VEVENT
DTSTART;TZID=America/Chicago:20170520T010000
DTEND;TZID=America/Chicago:20170520T150000
DTSTAMP:20260420T093808
CREATED:20160824T171255Z
LAST-MODIFIED:20160824T171255Z
UID:178863-1495242000-1495292400@urbanmilwaukee.com
SUMMARY:Milwaukee Youth Symphony Orchestra presents String Serenade
DESCRIPTION:The all-string ensembles Prelude Orchestra\, String Orchestras South/West and String Orchestras North/Central will be featured. \n
URL:https://urbanmilwaukee.com/event/milwaukee-youth-symphony-orchestra-presents-string-serenade/
CATEGORIES:Arts & Entertainment
ATTACH;FMTTYPE=image/jpeg:https://urbanmilwaukee.com/wp-content/uploads/2016/07/18-String-Serenade.jpg
END:VEVENT
BEGIN:VEVENT
DTSTART;TZID=America/Chicago:20170520T090000
DTEND;TZID=America/Chicago:20170520T120000
DTSTAMP:20260420T093808
CREATED:20170508T223150Z
LAST-MODIFIED:20170508T223256Z
UID:361634-1495270800-1495281600@urbanmilwaukee.com
SUMMARY:2017 Walk for Children
DESCRIPTION:Join Green Bay Packers wide receiver\, Davante Adams\, on Saturday\, May 20th as he leads Next Door’s biggest event of the year: the Walk for Children. More than 1\,000 Next Door families\, staff\, community supporters and elected officials are expected to participate in the one-mile walk and festivities. Next Door is a Central City-based non-profit organization\, specializing in comprehensive\, birth-to-five early childhood education programs for low income families. \n“Supporting an organization\, like Next Door\, is so important because the work they do is so critical for future success in life\,” Davante Adams said. “I’m proud to be a part of the Walk for Children and help get our youngest learners on a path to a bright future.” \nEvent registration opens at 9 a.m. at Next Door’s headquarters at 2545 N. 29th Street. The walk kicks off at 10 a.m. Individual and group participants are encouraged to register in advance by visiting www.nextdoormke.org. \nAdults attending the walk can enter a free raffle to win a “Selfie” with Davante Adams. A separate raffle for children features tricycles as the prize. Guests can also stop by Next Door’s Books for Kids Mobile Library and select a free book. Other festivities include children’s games\, live music from Milwaukee’s Eddie Butts Band and free lunch for registered participants. \nThis year’s Presenting Sponsor is the Harley-Davidson Motor Company. Other walk sponsors include: Bostik\, Brewer’s Community Foundation\, Children’s Community Health Plan\, CLINICARE\, Green Bay Packers Community Partners program (including Boston Store)\, Helwig Carbon Products\, Johnson Controls\, Manpower Group\, Northwestern Mutual and Rexnord. \nAbout Next Door\nFounded in 1969\, Next Door is a nationally-recognized\, birth-to-five early learning school with center-based and home-based programming. The agency currently serves more than 2\,000 children and families with three locations in Milwaukee and ten community partner sites in Milwaukee and Ozaukee counties. Our highly-qualified staff combines educational and healthcare resources to help our students thrive during a critical period of brain development and ultimately gets them ready for school. Knowing parents are a child’s first teacher\, Next Door offers additional support through prenatal services\, a Fatherhood program and adult education. For more information\, visit www.nextdoormke.org. \n
URL:https://urbanmilwaukee.com/event/2017-walk-for-children/
CATEGORIES:Arts & Entertainment
ATTACH;FMTTYPE=image/png:https://urbanmilwaukee.com/wp-content/uploads/2017/05/WALK-FOR-CHILDREN-PICTURE.png
END:VEVENT
BEGIN:VEVENT
DTSTART;TZID=America/Chicago:20170520T133000
DTEND;TZID=America/Chicago:20170520T170000
DTSTAMP:20260420T093808
CREATED:20170427T201848Z
LAST-MODIFIED:20170427T201848Z
UID:209054-1495287000-1495299600@urbanmilwaukee.com
SUMMARY:Danceworks Mad Hot Ballroom Competition
DESCRIPTION:Students from 45 Milwaukee area schools will perform in front of an audience of thousands of friends\, family and community members\, sharing the new salsa\, tango\, and swing dance steps they learned over the course of the Mad Hot Ballroom program. \n
URL:https://urbanmilwaukee.com/event/danceworks-mad-hot-ballroom-competition/
CATEGORIES:Arts & Entertainment
ATTACH;FMTTYPE=image/jpeg:https://urbanmilwaukee.com/wp-content/uploads/2017/04/8.5x11Poster.jpg
END:VEVENT
BEGIN:VEVENT
DTSTART;TZID=America/Chicago:20170520T140000
DTEND;TZID=America/Chicago:20170520T160000
DTSTAMP:20260420T093808
CREATED:20170303T171322Z
LAST-MODIFIED:20170519T233848Z
UID:202697-1495288800-1495296000@urbanmilwaukee.com
SUMMARY:Hooray For Hollywood!
DESCRIPTION:Step back in time to a golden age when Hollywood movies were filled with hit songs that have become lasting classics. Songs like Moon River\, Over The Rainbow and Cheek To Cheek lit up the screen and were hits on the radio. Relive those days with Dick Strauss and the Many Happy Returns Orchestra\, vocalist Rana Roman\, and The Radio Rosies as they take you back in time to that golden era. \n
URL:https://urbanmilwaukee.com/event/hooray-for-hollywood/
LOCATION:929 N. Water St.\, Milwaukee\, WI\, 53202\, United States
CATEGORIES:Arts & Entertainment
ATTACH;FMTTYPE=image/jpeg:https://urbanmilwaukee.com/wp-content/uploads/2017/03/hooray-for-hollywood-show-detail.jpg
END:VEVENT
BEGIN:VEVENT
DTSTART;TZID=America/Chicago:20170520T140000
DTEND;TZID=America/Chicago:20170520T230000
DTSTAMP:20260420T093808
CREATED:20170423T111819Z
LAST-MODIFIED:20170423T111819Z
UID:207192-1495288800-1495321200@urbanmilwaukee.com
SUMMARY:The Coffee House 50th Anniversary Celebration
DESCRIPTION:The Coffee House\, Milwaukee’s longest running acoustic music venue\, will celebrate its 50th Anniversary with workshops\, retrospectives\, and an evening folk concert featuring folk legends Lou and Peter Berryman\, Bill Camplin\, Fox and Branch. The day includes appearances by old friends and new faces\, a potluck dinner\, and sharing the joy of acoustic music. \n
URL:https://urbanmilwaukee.com/event/the-coffee-house-50th-anniversary-celebration/
CATEGORIES:Arts & Entertainment
ATTACH;FMTTYPE=image/jpeg:https://urbanmilwaukee.com/wp-content/uploads/2017/04/bill-camplin_3.jpg
END:VEVENT
BEGIN:VEVENT
DTSTART;TZID=America/Chicago:20170520T190000
DTEND;TZID=America/Chicago:20170520T210000
DTSTAMP:20260420T093808
CREATED:20160824T171757Z
LAST-MODIFIED:20160824T171757Z
UID:178866-1495306800-1495314000@urbanmilwaukee.com
SUMMARY:Milwaukee Youth Symphony Orchestra presents Metamorphosis
DESCRIPTION:The Sinfonia Philharmonic and Wind Ensemble will be featured. \n
URL:https://urbanmilwaukee.com/event/milwaukee-youth-symphony-orchestra-presents-metamorphosis/
CATEGORIES:Arts & Entertainment
ATTACH;FMTTYPE=image/jpeg:https://urbanmilwaukee.com/wp-content/uploads/2016/07/19-Metamorphosis.jpg
END:VEVENT
END:VCALENDAR