BEGIN:VCALENDAR
VERSION:2.0
PRODID:-//Urban Milwaukee - ECPv4.6.9//NONSGML v1.0//EN
CALSCALE:GREGORIAN
METHOD:PUBLISH
X-WR-CALNAME:Urban Milwaukee
X-ORIGINAL-URL:https://urbanmilwaukee.com
X-WR-CALDESC:Events for Urban Milwaukee
BEGIN:VEVENT
DTSTART;TZID=America/Chicago:20170519T193000
DTEND;TZID=America/Chicago:20170519T210000
DTSTAMP:20260420T112320
CREATED:20170222T201216Z
LAST-MODIFIED:20170515T215326Z
UID:201556-1495222200-1495227600@urbanmilwaukee.com
SUMMARY:Larry Gatlin
DESCRIPTION:Over a four decade career as a solo artist and with The Gatlin Brothers\, Larry Gatlin has scored 33 Top 40 hits and won several awards including a Grammy. Gatlin is known for his rich falsetto singing style and for the unique pop-inflected songs he wrote and recorded in the 1970’s and 80’s. Some of Gatlin’s biggest hits include “Broken Lady”\, “All the Gold in California”\, “Houston (Means I’m One Day Closer to You)”\, “She Used to Be Somebody’s Baby”\, and “Talkin’ to the Moon”. \n
URL:https://urbanmilwaukee.com/event/larry-gatlin/
CATEGORIES:Arts & Entertainment
ATTACH;FMTTYPE=image/jpeg:https://urbanmilwaukee.com/wp-content/uploads/2017/02/larry-gatlin-show-detail.jpg
END:VEVENT
END:VCALENDAR