BEGIN:VCALENDAR
VERSION:2.0
PRODID:-//Urban Milwaukee - ECPv4.6.9//NONSGML v1.0//EN
CALSCALE:GREGORIAN
METHOD:PUBLISH
X-WR-CALNAME:Urban Milwaukee
X-ORIGINAL-URL:https://urbanmilwaukee.com
X-WR-CALDESC:Events for Urban Milwaukee
BEGIN:VEVENT
DTSTART;TZID=America/Chicago:20170514T110000
DTEND;TZID=America/Chicago:20170514T160000
DTSTAMP:20260420T195935
CREATED:20170428T091705Z
LAST-MODIFIED:20170512T224553Z
UID:208951-1494759600-1494777600@urbanmilwaukee.com
SUMMARY:Milwaukee Museum Mile Day
DESCRIPTION:Visit five unique arts and culture museums\, located on Milwaukee’s historic East Side along Lake Michigan for FREE or reduced admission. \nThe museums are located within a comfortable walking distance of each other—along N. Prospect\, N. Wahl and N. Terrace Avenues—and offer visitors the opportunity to discover Milwaukee’s history\, architecture\, arts and culture. \nEXPLORE OUR MUSEUMS: \n\nCharles Allis Art Museum — FREE\nJewish Museum Milwaukee — FREE\nNorth Point Lighthouse— Reduced Price\nSaint John’s On The Lake — FREE\nVilla Terrace Decorative Arts Museum – FREE\n\nWHAT IS THE MILWAUKEE MUSEUM MILE?\nThe Milwaukee Museum Mile (MMM) is a joint effort of five museums to create a simple and more affordable way for visitors to access and enjoy multiple museum experiences\, while promoting Milwaukee’s East Side as a destination to both residents of and visitors to our city. \nMap of Milwaukee Museum Mile: https://goo.gl/D3R1kW \n
URL:https://urbanmilwaukee.com/event/milwaukee-museum-mile-day/
CATEGORIES:Arts & Entertainment
ATTACH;FMTTYPE=image/png:https://urbanmilwaukee.com/wp-content/uploads/2017/04/Screen-Shot-2017-04-21-at-5.01.26-PM.png
END:VEVENT
BEGIN:VEVENT
DTSTART;TZID=America/Chicago:20170514T180000
DTEND;TZID=America/Chicago:20170514T200000
DTSTAMP:20260420T195935
CREATED:20160824T165907Z
LAST-MODIFIED:20160824T165907Z
UID:178860-1494784800-1494792000@urbanmilwaukee.com
SUMMARY:Milwaukee Youth Symphony Orchestra presents Fanfare and Finale
DESCRIPTION:The Brass Choir\, Metropolitan Symphony Orchestra and Senior Symphony are showcased in the ensembles’ final performance of the season. \n
URL:https://urbanmilwaukee.com/event/milwaukee-youth-symphony-orchestra-presents-fanfare-and-finale/
CATEGORIES:Arts & Entertainment
ATTACH;FMTTYPE=image/jpeg:https://urbanmilwaukee.com/wp-content/uploads/2016/07/17-Fanfare-and-Finale.jpg
END:VEVENT
END:VCALENDAR