BEGIN:VCALENDAR
VERSION:2.0
PRODID:-//Urban Milwaukee - ECPv4.6.9//NONSGML v1.0//EN
CALSCALE:GREGORIAN
METHOD:PUBLISH
X-WR-CALNAME:Urban Milwaukee
X-ORIGINAL-URL:https://urbanmilwaukee.com
X-WR-CALDESC:Events for Urban Milwaukee
BEGIN:VEVENT
DTSTART;TZID=America/Chicago:20170513T130000
DTEND;TZID=America/Chicago:20170513T170000
DTSTAMP:20260420T215551
CREATED:20160825T044654Z
LAST-MODIFIED:20160825T044654Z
UID:178857-1494680400-1494694800@urbanmilwaukee.com
SUMMARY:Milwaukee Youth Symphony Orchestra presents Rhythm and Blues
DESCRIPTION:Performance features all Jazz Combos\, including the elite Bronzeville Jazz Ensemble\, plus Calypso and Soca steel bands. \n
URL:https://urbanmilwaukee.com/event/milwaukee-youth-symphony-orchestra-presents-rhythm-and-blues/
CATEGORIES:Arts & Entertainment
ATTACH;FMTTYPE=image/jpeg:https://urbanmilwaukee.com/wp-content/uploads/2016/07/16-Rhythm-and-Blues.jpg
END:VEVENT
END:VCALENDAR