BEGIN:VCALENDAR
VERSION:2.0
PRODID:-//Urban Milwaukee - ECPv4.6.9//NONSGML v1.0//EN
CALSCALE:GREGORIAN
METHOD:PUBLISH
X-WR-CALNAME:Urban Milwaukee
X-ORIGINAL-URL:https://urbanmilwaukee.com
X-WR-CALDESC:Events for Urban Milwaukee
BEGIN:VEVENT
DTSTART;TZID=America/Chicago:20170429T140000
DTEND;TZID=America/Chicago:20170429T160000
DTSTAMP:20260421T230114
CREATED:20170416T123809Z
LAST-MODIFIED:20170416T123809Z
UID:207512-1493474400-1493481600@urbanmilwaukee.com
SUMMARY:David HB Drake performs at the Milwaukee People's Climate Rally
DESCRIPTION:Wisconsin folksinger and environmental activist David HB Drake will perform at 2pm for the Milwaukee People’s Climate Rally at Escuela Verde at 3628 W Pierce St.\, Milwaukee\, WI\, presenting songs from his “What a Wonderful World” CD and taking requests for classic folk songs. \n
URL:https://urbanmilwaukee.com/event/david-hb-drake-performs-at-the-milwaukee-peoples-climate-rally/
CATEGORIES:Arts & Entertainment
ATTACH;FMTTYPE=image/jpeg:https://urbanmilwaukee.com/wp-content/uploads/2017/04/DDrakeEarthDay-YouTUbe.jpg
END:VEVENT
BEGIN:VEVENT
DTSTART;TZID=America/Chicago:20170429T160000
DTEND;TZID=America/Chicago:20170429T180000
DTSTAMP:20260421T230114
CREATED:20161114T153725Z
LAST-MODIFIED:20161114T153725Z
UID:190034-1493481600-1493488800@urbanmilwaukee.com
SUMMARY:The Violet Hour
DESCRIPTION:In 1919\, the dawn of the Jazz Age\, young John Pace Seavering opens his own publishing company in a cramped Manhattan office with the help of his tightly wound assistant Gidger. \nBut before John can publish his first book\, a strange machine of mysterious origin is delivered to the office. As Gidger suspiciously examines the bizarre contraption\, which has started ticking violently\, two would-be authors arrive. They are Dennis McCleary\, John’s best friend and a gifted novelist\, and Jessie Brewster\, a famed Jazz singer and John’s secret mistress\, who has written a tell-all memoir. \nWith only enough capital to produce one book\, John is caught between the two. But his struggle is cut short when the machine explodes shooting reams of paper all over the room. What’s written on these pages will throw John’s dreams and plans into disarray. THE VIOLET HOUR is a hilarious & heartfelt tale with a touch of magical realism. \n
URL:https://urbanmilwaukee.com/event/the-violet-hour-21/
LOCATION:158 N. Broadway\, Milwaukee\, WI\, 53202\, United States
CATEGORIES:Arts & Entertainment
ATTACH;FMTTYPE=image/jpeg:https://urbanmilwaukee.com/wp-content/uploads/2016/07/Violet-Hour.jpg
END:VEVENT
BEGIN:VEVENT
DTSTART;TZID=America/Chicago:20170429T200000
DTEND;TZID=America/Chicago:20170429T221500
DTSTAMP:20260421T230114
CREATED:20161122T042245Z
LAST-MODIFIED:20161122T042245Z
UID:190976-1493496000-1493504100@urbanmilwaukee.com
SUMMARY:Great Expectations
DESCRIPTION:by Charles Dickens; Adapted by Gale Childs Daly \nRunning Time: 2 hours:15 min \nCabot Theatre \nDirected by Molly Rhode \nFeaturing Andrew Crowe\, Jonathan Gillard Daly\, Karen Estrada\, Chike Johnson\, Josh Krause\, Deborah Staples and Zach Thomas Woods \nIn this literary gem\, Pip\, an orphan boy\, has a life-altering encounter one day on the moors when he helps an escaped convict named Magwitch. From this singular act of kindness\, Pip starts on a mysterious and disturbing journey to manhood that is full of twists and turns\, miraculously allowing him to advance in society while all of his great expectations seem to be coming true. Packed with curious and fascinating characters\, shadow and light\, Gale Childs Daly’s exceptional and bold reinvention of the classic Dickens novel is uncommonly tight and suspenseful – a fast-paced theatrical treat! \n
URL:https://urbanmilwaukee.com/event/great-expectations-15/
CATEGORIES:Arts & Entertainment
ATTACH;FMTTYPE=image/jpeg:https://urbanmilwaukee.com/wp-content/uploads/2016/08/Great-Expectations-Horizontal.jpg
END:VEVENT
END:VCALENDAR