BEGIN:VCALENDAR
VERSION:2.0
PRODID:-//Urban Milwaukee - ECPv4.6.9//NONSGML v1.0//EN
CALSCALE:GREGORIAN
METHOD:PUBLISH
X-WR-CALNAME:Urban Milwaukee
X-ORIGINAL-URL:https://urbanmilwaukee.com
X-WR-CALDESC:Events for Urban Milwaukee
BEGIN:VEVENT
DTSTART;TZID=America/Chicago:20170428T190000
DTEND;TZID=America/Chicago:20170428T210000
DTSTAMP:20260422T004430
CREATED:20160825T044608Z
LAST-MODIFIED:20160825T044608Z
UID:178851-1493406000-1493413200@urbanmilwaukee.com
SUMMARY:Milwaukee Youth Symphony Orchestra presents Honor Recital
DESCRIPTION:This recital features solo performances by the finalists from the 2017 Senior Symphony Concerto Competition\, plus chamber ensembles comprised of MYSO’s advanced musicians. \n
URL:https://urbanmilwaukee.com/event/milwaukee-youth-symphony-orchestra-presents-honor-recital/
CATEGORIES:Arts & Entertainment
ATTACH;FMTTYPE=image/jpeg:https://urbanmilwaukee.com/wp-content/uploads/2016/07/14-Honor-Recital.jpg
END:VEVENT
BEGIN:VEVENT
DTSTART;TZID=America/Chicago:20170428T193000
DTEND;TZID=America/Chicago:20170428T213000
DTSTAMP:20260422T004430
CREATED:20161114T153646Z
LAST-MODIFIED:20161114T153646Z
UID:190033-1493407800-1493415000@urbanmilwaukee.com
SUMMARY:The Violet Hour
DESCRIPTION:In 1919\, the dawn of the Jazz Age\, young John Pace Seavering opens his own publishing company in a cramped Manhattan office with the help of his tightly wound assistant Gidger. \nBut before John can publish his first book\, a strange machine of mysterious origin is delivered to the office. As Gidger suspiciously examines the bizarre contraption\, which has started ticking violently\, two would-be authors arrive. They are Dennis McCleary\, John’s best friend and a gifted novelist\, and Jessie Brewster\, a famed Jazz singer and John’s secret mistress\, who has written a tell-all memoir. \nWith only enough capital to produce one book\, John is caught between the two. But his struggle is cut short when the machine explodes shooting reams of paper all over the room. What’s written on these pages will throw John’s dreams and plans into disarray. THE VIOLET HOUR is a hilarious & heartfelt tale with a touch of magical realism. \n
URL:https://urbanmilwaukee.com/event/the-violet-hour-20/
LOCATION:158 N. Broadway\, Milwaukee\, WI\, 53202\, United States
CATEGORIES:Arts & Entertainment
ATTACH;FMTTYPE=image/jpeg:https://urbanmilwaukee.com/wp-content/uploads/2016/07/Violet-Hour.jpg
END:VEVENT
BEGIN:VEVENT
DTSTART;TZID=America/Chicago:20170428T193000
DTEND;TZID=America/Chicago:20170428T214500
DTSTAMP:20260422T004430
CREATED:20161122T042100Z
LAST-MODIFIED:20161122T042100Z
UID:190975-1493407800-1493415900@urbanmilwaukee.com
SUMMARY:Great Expectations
DESCRIPTION:by Charles Dickens; Adapted by Gale Childs Daly \nRunning Time: 2 hours:15 min \nCabot Theatre \nDirected by Molly Rhode \nFeaturing Andrew Crowe\, Jonathan Gillard Daly\, Karen Estrada\, Chike Johnson\, Josh Krause\, Deborah Staples and Zach Thomas Woods \nIn this literary gem\, Pip\, an orphan boy\, has a life-altering encounter one day on the moors when he helps an escaped convict named Magwitch. From this singular act of kindness\, Pip starts on a mysterious and disturbing journey to manhood that is full of twists and turns\, miraculously allowing him to advance in society while all of his great expectations seem to be coming true. Packed with curious and fascinating characters\, shadow and light\, Gale Childs Daly’s exceptional and bold reinvention of the classic Dickens novel is uncommonly tight and suspenseful – a fast-paced theatrical treat! \n
URL:https://urbanmilwaukee.com/event/great-expectations-14/
CATEGORIES:Arts & Entertainment
ATTACH;FMTTYPE=image/jpeg:https://urbanmilwaukee.com/wp-content/uploads/2016/08/Great-Expectations-Horizontal.jpg
END:VEVENT
END:VCALENDAR