BEGIN:VCALENDAR
VERSION:2.0
PRODID:-//Urban Milwaukee - ECPv4.6.9//NONSGML v1.0//EN
CALSCALE:GREGORIAN
METHOD:PUBLISH
X-WR-CALNAME:Urban Milwaukee
X-ORIGINAL-URL:https://urbanmilwaukee.com
X-WR-CALDESC:Events for Urban Milwaukee
BEGIN:VEVENT
DTSTART;TZID=America/Chicago:20170225T160000
DTEND;TZID=America/Chicago:20170225T173000
DTSTAMP:20260426T031025
CREATED:20170227T234657Z
LAST-MODIFIED:20170227T234657Z
UID:202158-1488038400-1488043800@urbanmilwaukee.com
SUMMARY:The Few
DESCRIPTION:by Samuel D. Hunter \nRunning Time: 90 minutes \nStudio Theatre\nDirected by C. Michael Wright\nFeaturing Mitch Bultman\, Mary MacDonald Kerr and James Ridge \nIt’s 1999; uncertainty and instability are in the air. Four years earlier\, Bryan had abandoned his labor of love\, a newspaper for truckers. Now he’s returned to small-town Idaho – with no word of where he’s been – and things have changed. His former lover is filled with rage\, his new coworker is filled with incessant adoration\, and his paper is filled with personal ads. From Samuel D. Hunter\, award winning-author and recent recipient of the MacArthur Foundation “Genius” Grant\, comes this compassionate\, gently-hued drama about lonely lives desperately searching for a renewed faith in humanity. [Contains mature language] \n
URL:https://urbanmilwaukee.com/event/the-few-4/
LOCATION:158 N. Broadway\, Milwaukee\, WI\, 53202\, United States
CATEGORIES:Arts & Entertainment
ATTACH;FMTTYPE=image/jpeg:https://urbanmilwaukee.com/wp-content/uploads/2016/06/few_lg.jpg
END:VEVENT
BEGIN:VEVENT
DTSTART;TZID=America/Chicago:20170225T190000
DTEND;TZID=America/Chicago:20170225T220000
DTSTAMP:20260426T031025
CREATED:20170131T013837Z
LAST-MODIFIED:20170131T013837Z
UID:199011-1488049200-1488060000@urbanmilwaukee.com
SUMMARY:Opening Night: THE ROAD LESS TRAVELED
DESCRIPTION:Celebrate the opening of the first exhibitions in THE ROAD LESS TRAVELED with an evening of music\, dancing\, complimentary appetizers\, and a cash bar. \nEnjoy a performance by songwriters Jim White and Paul Fonfara followed by a DJ and dancing. A special\, members-only panel discussion with the curators and guest artists begins at 6:00 p.m. \n
URL:https://urbanmilwaukee.com/event/opening-night-the-road-less-traveled/
CATEGORIES:Arts & Entertainment
END:VEVENT
BEGIN:VEVENT
DTSTART;TZID=America/Chicago:20170225T200000
DTEND;TZID=America/Chicago:20170225T213000
DTSTAMP:20260426T031025
CREATED:20170227T234744Z
LAST-MODIFIED:20170227T234744Z
UID:202160-1488052800-1488058200@urbanmilwaukee.com
SUMMARY:The Few
DESCRIPTION:by Samuel D. Hunter \nRunning Time: 90 minutes \nStudio Theatre\nDirected by C. Michael Wright\nFeaturing Mitch Bultman\, Mary MacDonald Kerr and James Ridge \nIt’s 1999; uncertainty and instability are in the air. Four years earlier\, Bryan had abandoned his labor of love\, a newspaper for truckers. Now he’s returned to small-town Idaho – with no word of where he’s been – and things have changed. His former lover is filled with rage\, his new coworker is filled with incessant adoration\, and his paper is filled with personal ads. From Samuel D. Hunter\, award winning-author and recent recipient of the MacArthur Foundation “Genius” Grant\, comes this compassionate\, gently-hued drama about lonely lives desperately searching for a renewed faith in humanity. [Contains mature language] \n
URL:https://urbanmilwaukee.com/event/the-few-5/
LOCATION:158 N. Broadway\, Milwaukee\, WI\, 53202\, United States
CATEGORIES:Arts & Entertainment
ATTACH;FMTTYPE=image/jpeg:https://urbanmilwaukee.com/wp-content/uploads/2016/06/few_lg.jpg
END:VEVENT
END:VCALENDAR