BEGIN:VCALENDAR
VERSION:2.0
PRODID:-//Urban Milwaukee - ECPv4.6.9//NONSGML v1.0//EN
CALSCALE:GREGORIAN
METHOD:PUBLISH
X-WR-CALNAME:Urban Milwaukee
X-ORIGINAL-URL:https://urbanmilwaukee.com
X-WR-CALDESC:Events for Urban Milwaukee
BEGIN:VEVENT
DTSTART;TZID=America/Chicago:20260816T110000
DTEND;TZID=America/Chicago:20260816T210000
DTSTAMP:20260422T020856
CREATED:20260310T114056Z
LAST-MODIFIED:20260310T114056Z
UID:953499-1786878000-1786914000@urbanmilwaukee.com
SUMMARY:Milwaukee Irish Fest
DESCRIPTION:Join CelticMKE for four days of music\, culture\, and craic. Milwaukee Irish Fest will return to Henry Maier Festival Park Aug. 13–16. \nIts 2026 entertainment lineup features internationally acclaimed headliners and rising Irish talent. \nEnjoy over 100 music and cultural performances across four days at Milwaukee Irish Fest. \nMilwaukee Irish Fest is presented by CelticMKE\, a nonprofit organization with the mission to preserve and promote Irish culture through music education\, archival initiatives\, concerts and family programming. Learn more at celticmke.com. \n
URL:https://urbanmilwaukee.com/event/milwaukee-irish-fest-8/
LOCATION:200 N. Harbor Dr.\, Milwaukee\, WI\, 53202\, United States
CATEGORIES:Arts & Entertainment,Food & Drink
ATTACH;FMTTYPE=image/jpeg:https://urbanmilwaukee.com/wp-content/uploads/2022/03/wb3-irishfest.jpg
END:VEVENT
END:VCALENDAR