BEGIN:VCALENDAR
VERSION:2.0
PRODID:-//Urban Milwaukee - ECPv4.6.9//NONSGML v1.0//EN
CALSCALE:GREGORIAN
METHOD:PUBLISH
X-WR-CALNAME:Urban Milwaukee
X-ORIGINAL-URL:https://urbanmilwaukee.com
X-WR-CALDESC:Events for Urban Milwaukee
BEGIN:VEVENT
DTSTART;TZID=America/Chicago:20260717T170000
DTEND;TZID=America/Chicago:20260717T200000
DTSTAMP:20260419T174702
CREATED:20260402T204909Z
LAST-MODIFIED:20260402T204909Z
UID:959345-1784307600-1784318400@urbanmilwaukee.com
SUMMARY:Summer in Wisconsin: Artist Reception
DESCRIPTION:Tory Folliard Gallery invites you to celebrate the opening of the latest exhibition\, “Summer in Wisconsin.” This exhibition showcases Wisconsin Art\, featuring paintings and sculptures by the state’s best-known contemporary artists. Summer in Wisconsin offers a diverse collection of work that highlights the creativity and mastery that define Wisconsin Art\, and this major exhibition is Tory Folliard Gallery’s largest show of the year. \n
URL:https://urbanmilwaukee.com/event/summer-in-wisconsin-artist-reception/
LOCATION:233 N Milwaukee St\, Milwaukee\, WI\, 53202\, United States
CATEGORIES:Arts & Entertainment
ATTACH;FMTTYPE=image/jpeg:https://urbanmilwaukee.com/wp-content/uploads/2026/04/TD-Brenner-Pushed-Asided-Acrylic-on-Canvas-14x11-e.jpg
END:VEVENT
BEGIN:VEVENT
DTSTART;TZID=America/Chicago:20260717T193000
DTEND;TZID=America/Chicago:20260717T193000
DTSTAMP:20260419T174702
CREATED:20251215T115350Z
LAST-MODIFIED:20251215T115350Z
UID:927961-1784316600-1784316600@urbanmilwaukee.com
SUMMARY:Monty Python’s Spamalot
DESCRIPTION:THE SHOW THAT SET BROADWAY BACK 1\,000 YEARS…RETURNS!  \nTOURING ACROSS AMERICA  \nTHE TONY AWARD-WINNING BEST MUSICAL COMEDY  \nPeter Marks of The Washington Post exclaims\, “It’s UNFAIR to make me laugh this much! SPAMALOT is a tightly packed clown car speeding to musical theater nirvana!”   \nSPAMALOT\, which first galloped onto Broadway in 2005\, features a book & lyrics by Eric Idle and music by John Du Prez and Eric Idle. The original Broadway production was nominated for fourteen Tony Awards and won three\, including Best Musical.  \nThe musical comedy lovingly ripped off from the film classic\, Monty Python and the Holy Grail\, has everything that makes a great knight at the theatre\, from flying cows to killer rabbits\, British royalty to French taunters\, dancing girls\, rubbery shrubbery\, and of course\, the Lady of the Lake. SPAMALOT features well-known song titles such as “Always Look on the Bright Side of Life\,” “The Song That Goes Like This\,” “Find Your Grail” and more that have become beloved classics in the musical theatre canon.  \n
URL:https://urbanmilwaukee.com/event/monty-pythons-spamalot-4/
LOCATION:929 N. Water St.\, Milwaukee\, WI\, 53202\, United States
CATEGORIES:Arts & Entertainment
ATTACH;FMTTYPE=image/jpeg:https://urbanmilwaukee.com/wp-content/uploads/2025/12/932x525.jpg
END:VEVENT
END:VCALENDAR