BEGIN:VCALENDAR
VERSION:2.0
PRODID:-//Urban Milwaukee - ECPv4.6.9//NONSGML v1.0//EN
CALSCALE:GREGORIAN
METHOD:PUBLISH
X-WR-CALNAME:Urban Milwaukee
X-ORIGINAL-URL:https://urbanmilwaukee.com
X-WR-CALDESC:Events for Urban Milwaukee
BEGIN:VEVENT
DTSTART;TZID=America/Chicago:20240727T090000
DTEND;TZID=America/Chicago:20240727T130000
DTSTAMP:20260419T230324
CREATED:20240515T200853Z
LAST-MODIFIED:20240515T204637Z
UID:785749-1722070800-1722085200@urbanmilwaukee.com
SUMMARY:Oak Creek Farmers Market
DESCRIPTION:The Oak Creek Farmers Market is held Saturdays\, May 11 through Oct. 19\, 2024\, from 9:00 a.m. to 1:00 p.m. at Drexel Town Square. \nThe market offers locally grown farm fresh foods\, such as vine-ripened produce and fruits\, cheeses\, eggs\, meats\, honey\, and flowers. Seasonal items\, such as strawberries\, apples\, and sweetcorn\, are also available at their peak of freshness. The proximity to the businesses within Drexel Town Square\, offers patrons a wide variety of food and beverage options to enjoy before\, during\, and after their time at the market. \nVisit our Taste It Tent each week. \nAt the Taste It Tent\, visitors can sample an array of fresh fruits and vegetables\, discover creative ways to incorporate them into their daily meals\, and learn about the benefits of a wholesome diet. By encouraging more people to visit the markets\, we not only support our hardworking farmers but also foster education and health within our communities. \n
URL:https://urbanmilwaukee.com/event/oak-creek-farmers-market-12/
LOCATION:361 W. Town Square Way\, Oak Creek\, WI\, 53154\, United States
CATEGORIES:Food & Drink
ATTACH;FMTTYPE=image/jpeg:https://urbanmilwaukee.com/wp-content/uploads/2024/05/oak-creek.jpg
END:VEVENT
BEGIN:VEVENT
DTSTART;TZID=America/Chicago:20240727T180000
DTEND;TZID=America/Chicago:20240727T210000
DTSTAMP:20260419T230324
CREATED:20240625T155135Z
LAST-MODIFIED:20240625T155752Z
UID:793230-1722103200-1722114000@urbanmilwaukee.com
SUMMARY:The Dinner Detective Milwaukee
DESCRIPTION:The Dinner Detective invites YOU to join us for a night full of mystery and mayhem with lots of laughs along the way! Everyone is a SUSPECT and the crime could be happening right at YOUR table! No cheesy costumes\, no hokey song and dance. Based on actual cold cases\, prizes are available for the TOP SLEUTH. Get your tickets now before it’s too late! \n
URL:https://urbanmilwaukee.com/event/the-dinner-detective-milwaukee-13/
LOCATION:WI
CATEGORIES:Comedy
ATTACH;FMTTYPE=image/jpeg:https://urbanmilwaukee.com/wp-content/uploads/2024/06/DD-Detective-Image-1-2.jpg
END:VEVENT
BEGIN:VEVENT
DTSTART;TZID=America/Chicago:20240727T193000
DTEND;TZID=America/Chicago:20240727T220000
DTSTAMP:20260419T230324
CREATED:20240622T212244Z
LAST-MODIFIED:20240622T212244Z
UID:783782-1722108600-1722117600@urbanmilwaukee.com
SUMMARY:RIP - A Musical Comedy of Life & Death
DESCRIPTION:Love\, laughter\, suspense… and a twist at the end. \nRIP speaks to regret and redemption. At the McCobb Mortuary\, The Living tend to their tasks while The Dead await their fate. The undertaker’s lonely apprentice is a jilted lover who maintains a forlorn hope for his own destiny while he prepares The Dead for their next journey. With 16 new songs from Milwaukee composer and best-selling author\, Robert Grede\, RIP reminds us that what comes next is less important than what we leave behind. \nwww.RIP-TheMusical.com \nJuly 17 to 28\, 2024\, 7:30pm\nNext Act Theatre\nwww.NextAct.org/show/RIP \n
URL:https://urbanmilwaukee.com/event/rip-a-musical-comedy-of-life-death-9/
LOCATION:255 S Water St\,\, Milwaukee\, WI\, 53204\, United States
CATEGORIES:Arts & Entertainment
ATTACH;FMTTYPE=image/jpeg:https://urbanmilwaukee.com/wp-content/uploads/2024/05/RIP-calendar-graphic-8.jpg
END:VEVENT
END:VCALENDAR