BEGIN:VCALENDAR
VERSION:2.0
PRODID:-//Urban Milwaukee - ECPv4.6.9//NONSGML v1.0//EN
CALSCALE:GREGORIAN
METHOD:PUBLISH
X-WR-CALNAME:Urban Milwaukee
X-ORIGINAL-URL:https://urbanmilwaukee.com
X-WR-CALDESC:Events for Urban Milwaukee
BEGIN:VEVENT
DTSTART;TZID=America/Chicago:20240724T100000
DTEND;TZID=America/Chicago:20240724T150000
DTSTAMP:20260420T042805
CREATED:20240515T211626Z
LAST-MODIFIED:20240515T211626Z
UID:785837-1721815200-1721833200@urbanmilwaukee.com
SUMMARY:﻿Brown Deer Farmers Market
DESCRIPTION:The Brown Deer Farmers Market is held Wednesdays\, June 26 through Oct. 23\, 2024\, from 10:00 a.m. to 3:00 p.m. at Village Park and Pond (4920 W. Green Brook Dr.) near Brown Deer Village Hall. \nThe market offers locally grown vegetables\, fruits\, flowers and plants\, mushrooms\, honey\, cheese and meats\, maple syrup\, pickles and salsa\, eggs\, home baked goods\, artisan booths\, youth entrepreneurs\, and other local specialty vendors. Live music every market from 11 a.m. to 1 p.m. \nVisit our Taste It Tent on July 17\, Aug. 21\, Sept. 18 and Oct. 16 \nAt the Taste It Tent\, visitors can sample an array of fresh fruits and vegetables\, discover creative ways to incorporate them into their daily meals\, and learn about the benefits of a wholesome diet. By encouraging more people to visit the markets\, we not only support our hardworking farmers but also foster education and health within our communities. \n
URL:https://urbanmilwaukee.com/event/%ef%bb%bfbrown-deer-farmers-market-5/
LOCATION:4920 W. Green Brook Dr.\, Brown Deer
CATEGORIES:Food & Drink
ATTACH;FMTTYPE=image/png:https://urbanmilwaukee.com/wp-content/uploads/2024/05/Brown-Deer-Farmers-Market-logo.png
END:VEVENT
BEGIN:VEVENT
DTSTART;TZID=America/Chicago:20240724T193000
DTEND;TZID=America/Chicago:20240724T220000
DTSTAMP:20260420T042805
CREATED:20240622T212122Z
LAST-MODIFIED:20240622T212122Z
UID:783776-1721849400-1721858400@urbanmilwaukee.com
SUMMARY:RIP - A Musical Comedy of Life & Death
DESCRIPTION:Love\, laughter\, suspense… and a twist at the end. \nRIP speaks to regret and redemption. At the McCobb Mortuary\, The Living tend to their tasks while The Dead await their fate. The undertaker’s lonely apprentice is a jilted lover who maintains a forlorn hope for his own destiny while he prepares The Dead for their next journey. With 16 new songs from Milwaukee composer and best-selling author\, Robert Grede\, RIP reminds us that what comes next is less important than what we leave behind. \nwww.RIP-TheMusical.com \nJuly 17 to 28\, 2024\, 7:30pm\nNext Act Theatre\nwww.NextAct.org/show/RIP \n
URL:https://urbanmilwaukee.com/event/rip-a-musical-comedy-of-life-death-6/
LOCATION:255 S Water St\,\, Milwaukee\, WI\, 53204\, United States
CATEGORIES:Arts & Entertainment
ATTACH;FMTTYPE=image/jpeg:https://urbanmilwaukee.com/wp-content/uploads/2024/05/RIP-calendar-graphic-5.jpg
END:VEVENT
END:VCALENDAR