BEGIN:VCALENDAR
VERSION:2.0
PRODID:-//Urban Milwaukee - ECPv4.6.9//NONSGML v1.0//EN
CALSCALE:GREGORIAN
METHOD:PUBLISH
X-WR-CALNAME:Urban Milwaukee
X-ORIGINAL-URL:https://urbanmilwaukee.com
X-WR-CALDESC:Events for Urban Milwaukee
BEGIN:VEVENT
DTSTART;TZID=America/Chicago:20240720T090000
DTEND;TZID=America/Chicago:20240720T130000
DTSTAMP:20260420T114115
CREATED:20240515T200810Z
LAST-MODIFIED:20240515T204649Z
UID:785747-1721466000-1721480400@urbanmilwaukee.com
SUMMARY:Oak Creek Farmers Market
DESCRIPTION:The Oak Creek Farmers Market is held Saturdays\, May 11 through Oct. 19\, 2024\, from 9:00 a.m. to 1:00 p.m. at Drexel Town Square. \nThe market offers locally grown farm fresh foods\, such as vine-ripened produce and fruits\, cheeses\, eggs\, meats\, honey\, and flowers. Seasonal items\, such as strawberries\, apples\, and sweetcorn\, are also available at their peak of freshness. The proximity to the businesses within Drexel Town Square\, offers patrons a wide variety of food and beverage options to enjoy before\, during\, and after their time at the market. \nVisit our Taste It Tent each week. \nAt the Taste It Tent\, visitors can sample an array of fresh fruits and vegetables\, discover creative ways to incorporate them into their daily meals\, and learn about the benefits of a wholesome diet. By encouraging more people to visit the markets\, we not only support our hardworking farmers but also foster education and health within our communities. \n
URL:https://urbanmilwaukee.com/event/oak-creek-farmers-market-11/
LOCATION:361 W. Town Square Way\, Oak Creek\, WI\, 53154\, United States
CATEGORIES:Food & Drink
ATTACH;FMTTYPE=image/jpeg:https://urbanmilwaukee.com/wp-content/uploads/2024/05/oak-creek.jpg
END:VEVENT
BEGIN:VEVENT
DTSTART;TZID=America/Chicago:20240720T120000
DTEND;TZID=America/Chicago:20240720T220000
DTSTAMP:20260420T114115
CREATED:20240711T061031Z
LAST-MODIFIED:20240711T112730Z
UID:796114-1721476800-1721512800@urbanmilwaukee.com
SUMMARY:Brady Street Festival
DESCRIPTION:The Brady Street Business Improvement District (BID #11) will host the Brady Street Festival Saturday\, July 20\, 12pm to 11pm. The annual festival takes place on Brady Street from Van Buren Street to Farwell Avenue. Brady Street Fest is back and\nbetter than ever this year\, with an incredible lineup of bands set to take the stage on July 20th. In between performances\, there will be a wide variety of all- local food to enjoy\, a large selection of beverages on hand\, and abundance of local retail vendor booths to browse. \n“I am thrilled to be a part of such a historic\, Milwaukee festival and to finally announce this year’s entertainment lineup! 2024’s Brady Street festival features a wide and diverse range of up and coming Wisconsin talent with a mixture of names you will recognize\, as well as a fresh group of talent that you won’t forget!” – Sam Brunelli\, the new Entertainment Director for the Brady Street Fest! \nThis year’s headliners include the born and raised in Wisconsin band\, Social Cig. Bringing their contagious authenticity\, cheery live show\, sticky lyrics while cultivating an original story with attitude and gratitude to the Bud Light stage at 9:00pm\, performance sponsored by The Pabst Theater Group. Wonderful Bluffer is a 5 piece rock band formed in Milwaukee. Their\npounding drums\, bone crushing bass\, thundering guitar\, roaring vocals and soulful keys will be taking to the North Shore Bank at 9:30pm. Brady Street’s annual Brady Street Babes drag show\, one of Milwaukee’s most iconic live drag shows\, will feature a variety of Wisconsin’s most iconic and favorite performers closing out the festival with a bang at 9:30\, performance sponsored by High Crowd Cafe\, on the Don Julio and Bacardi stage. \nStart the day off right! At noon in the center of Brady\, partake in Dog Yoga at the North Shore Bank stage. School of Rock will start things off on the East Stage at noon and another great addition is the Bee the Change project kids pollinator parade. They are a residency program part of the Cass Street school and St. Rita Square and will be kicking off the festival on the Don Julio and Bacardi stage followed by True Skool. The Adventure Rock Wall is back and part of the fun zone\, presented by Gruber Law Offices. \nThroughout the day\, enjoy a stroll around the historic street and take in a diverse and altogether impressive blend of Milwaukee’s finest bands. Don’t miss the powerful vocals of Allison Mahal or Alyssia Dominguez who is bringing a new flair to country infusing a touch of her hispanic roots or the indie soul of Ben Mulwana. Valley Fox brings their fresh take on modern folk while Louie and the Flashbombs blend a 1970’s New York City rock with a knack for hooky alternative pop. The good timing alternative country band Ladybird\, a fixture of the Indie scene Lunde and\, with a voice that fills the room\, Billy Bronsted will highlight the diverse music scene of Milwaukee. More exciting acts like Emmitt James\, a Midwest bred and now an LA- based hip hop artist\, Modern Joey who will bring a high energy show or Wire and Nail who are equal parts Honky Tonk and Rock n Roll will showcase the excellence in entertainment at our festival. Adding to the flair\, we are delighted to announce the following acts: one of Milwaukee’s favorite hip hop artists- Dave Chapelle\, the classic jam-rock band- Modern Joey\, the old school punk sounds of Jinksie and the Nashville-based indie band\, that has genre-bending arrangements and powerful vocals\, The Love-In complete the infections blend of music for the 2024 Brady Street Festival. “We are thrilled to announce the lineup for Brady Street Fest 2024\,” said the new Brady Street Business Improvement District Executive Director\, Michael Sander. “This year’s event is shaping up to be our best yet\, with an amazing roster of bands and activities that will appeal to music lovers of all ages. We can’t wait to welcome everyone to Brady Street for a day of celebration and community.” The festival is free to attend and open to the public. For more information\, visit bradystreet.org. \n
URL:https://urbanmilwaukee.com/event/brady-street-festival/
LOCATION:WI
CATEGORIES:Arts & Entertainment
ATTACH;FMTTYPE=image/jpeg:https://urbanmilwaukee.com/wp-content/uploads/2024/01/Brady-Street-Business-Improvement-District.jpg
END:VEVENT
BEGIN:VEVENT
DTSTART;TZID=America/Chicago:20240720T180000
DTEND;TZID=America/Chicago:20240720T210000
DTSTAMP:20260420T114115
CREATED:20240625T155042Z
LAST-MODIFIED:20240625T155758Z
UID:793228-1721498400-1721509200@urbanmilwaukee.com
SUMMARY:The Dinner Detective
DESCRIPTION:The Dinner Detective invites YOU to join us for a night full of mystery and mayhem with lots of laughs along the way! Everyone is a SUSPECT and the crime could be happening right at YOUR table! No cheesy costumes\, no hokey song and dance. Based on actual cold cases\, prizes are available for the TOP SLEUTH. Get your tickets now before it’s too late! \n
URL:https://urbanmilwaukee.com/event/the-dinner-detective-4/
LOCATION:333 W Kilbourn Ave\, Milwaukee\, WI\, 53203
CATEGORIES:Comedy
ATTACH;FMTTYPE=image/jpeg:https://urbanmilwaukee.com/wp-content/uploads/2024/06/DD-Detective-Image-1-1.jpg
END:VEVENT
BEGIN:VEVENT
DTSTART;TZID=America/Chicago:20240720T190000
DTEND;TZID=America/Chicago:20240720T210000
DTSTAMP:20260420T114115
CREATED:20240628T230152Z
LAST-MODIFIED:20240628T230152Z
UID:793799-1721502000-1721509200@urbanmilwaukee.com
SUMMARY:Full Moon Canoe
DESCRIPTION:For Adults and Teens. This beginner level paddle will be hosted on the Milwaukee River under the gorgeous Full Buck Moon. Join us as we canoe through downtown and try to spot the full moon rising! \n
URL:https://urbanmilwaukee.com/event/full-moon-canoe-2/
LOCATION:1500 E. Park Pl\, Milwaukee\, WI\, 53211\, United States
CATEGORIES:Active
ATTACH;FMTTYPE=image/jpeg:https://urbanmilwaukee.com/wp-content/uploads/2024/06/6.jpg
END:VEVENT
END:VCALENDAR