BEGIN:VCALENDAR
VERSION:2.0
PRODID:-//Urban Milwaukee - ECPv4.6.9//NONSGML v1.0//EN
CALSCALE:GREGORIAN
METHOD:PUBLISH
X-WR-CALNAME:Urban Milwaukee
X-ORIGINAL-URL:https://urbanmilwaukee.com
X-WR-CALDESC:Events for Urban Milwaukee
BEGIN:VEVENT
DTSTART;TZID=America/Chicago:20240719T180000
DTEND;TZID=America/Chicago:20240719T210000
DTSTAMP:20260420T133057
CREATED:20240627T182201Z
LAST-MODIFIED:20240627T182201Z
UID:783688-1721412000-1721422800@urbanmilwaukee.com
SUMMARY:Sounds of Summer: The Eddie Butts Band
DESCRIPTION:Party on with BAYSHORE’s Sounds of Summer concert series presented by OnMilwaukee and Milwaukee Radio Group. Every Friday from 6:00 – 9:00 p.m. through Aug. 23\, enjoy a bustling shopping and dining experience while surrounded by free\, lively entertainment in The Yard\, a large\, open-air community space located in the heart of BAYSHORE. Bring your dancing shoes\, lawn chairs and blankets! Carry-in alcohol and animals are prohibited. \nThe Tap will offer a lively outdoor Beer Garden featuring thirty-six craft beers from local and regional brewers\, as well as a variety of wines\, hard seltzers\, and non-alcohol beverages. \nThe Eddie Butts Band: The Eddie Butts Band delivers an exciting blend of R&B\, pop\, jazz\, and more. Eddie is well know as a premier vocalist\, and when you combine his smoky baritone with the highly-praised musicianship and vocal talents of this polished band\, it is easy to see why The Eddie Butts Band is a must-see favorite. \nFood Trucks & Pop-Ups: Bebe’s Bistro\, Rose Mob Grill\, Tiffany’s Dessert Bar\, Vibez Creative Arts Space \n
URL:https://urbanmilwaukee.com/event/sounds-of-summer-the-eddie-butts-band/
LOCATION:5800 N. Bayshore Dr.\, Glendale\, WI\, 53217\, United States
CATEGORIES:Arts & Entertainment
ATTACH;FMTTYPE=image/jpeg:https://urbanmilwaukee.com/wp-content/uploads/2024/05/bayshore_SoundsofSummer2024_EddieButtsBand_1080x1080-Instagram.jpg
END:VEVENT
BEGIN:VEVENT
DTSTART;TZID=America/Chicago:20240719T193000
DTEND;TZID=America/Chicago:20240719T220000
DTSTAMP:20260420T133057
CREATED:20240622T212030Z
LAST-MODIFIED:20240622T212030Z
UID:783770-1721417400-1721426400@urbanmilwaukee.com
SUMMARY:RIP - A Musical Comedy of Life & Death
DESCRIPTION:Love\, laughter\, suspense… and a twist at the end. \nRIP speaks to regret and redemption. At the McCobb Mortuary\, The Living tend to their tasks while The Dead await their fate. The undertaker’s lonely apprentice is a jilted lover who maintains a forlorn hope for his own destiny while he prepares The Dead for their next journey. With 16 new songs from Milwaukee composer and best-selling author\, Robert Grede\, RIP reminds us that what comes next is less important than what we leave behind. \nwww.RIP-TheMusical.com \nJuly 17 to 28\, 2024\, 7:30pm\nNext Act Theatre\nwww.NextAct.org/show/RIP \n
URL:https://urbanmilwaukee.com/event/rip-a-musical-comedy-of-life-death-4/
LOCATION:255 S Water St\,\, Milwaukee\, WI\, 53204\, United States
CATEGORIES:Arts & Entertainment
ATTACH;FMTTYPE=image/jpeg:https://urbanmilwaukee.com/wp-content/uploads/2024/05/RIP-calendar-graphic-2.jpg
END:VEVENT
END:VCALENDAR