BEGIN:VCALENDAR
VERSION:2.0
PRODID:-//Urban Milwaukee - ECPv4.6.9//NONSGML v1.0//EN
CALSCALE:GREGORIAN
METHOD:PUBLISH
X-WR-CALNAME:Urban Milwaukee
X-ORIGINAL-URL:https://urbanmilwaukee.com
X-WR-CALDESC:Events for Urban Milwaukee
BEGIN:VEVENT
DTSTART;VALUE=DATE:20240714
DTEND;VALUE=DATE:20240715
DTSTAMP:20260420T215236
CREATED:20240613T052411Z
LAST-MODIFIED:20240613T052411Z
UID:791353-1720915200-1721001599@urbanmilwaukee.com
SUMMARY:Bastille Days
DESCRIPTION:East Town Association’s Bastille Days returns July 11 –14. One of the world’s largest French festivals\, the four-day celebration will light up Milwaukee with even more great food\, entertainment\, and vendors\, as well as the popular Storm the Bastille 5K Run/Walk. Join the festivities and get in the spirit of celebration at Bastille Days\, just weeks before the Paris 2024 Olympics commence. \nStorm the Bastille 5K Run/Walk \nBastille Days’ festivities kick off with its biggest fundraiser\, Storm the Bastille 5K\, with help from Milwaukee’s favorite DJ\, DJ Shawna\, on July 11. Thanks to presenting sponsor Madison Medical with additional support from Gruber Law Offices and Saz’s Hospitality Group\, participants will run or walk the route through Downtown Milwaukee and the Historic Third Ward to commemorate the storming of the Bastille\, the 18th-century French prison that sparked the French Revolution. Register here and you can also choose to donate towards the ongoing restoration of the 42-foot Eiffel Tower replica. \nFrench Food\, Music and Performances \nFestivalgoers can again enjoy roaming street performers along the Madison Medical Bastille Day’s Marketplace\, visit the fortune tellers and henna artists\, explore the Cathedral of St. John the Evangelist\, or pay a visit to the French Bulldog Kissing Booth. The ever-popular Kids Day\, sponsored by Educators Credit Union\, on July 13 will feature a variety of activities including a Beignet Breakfast\, the Kohl’s Art Studio\, French lessons with the Milwaukee French Immersion School\, performances from the Milwaukee Ballet and a variety of other kid centered entertainment. Door Peninsula Winery will once again provide wine tastings throughout the event. Returning fan food favorites include Beignets Français\, Lake Park Bistro\, Lagniappe Brasserie\, Crème & Crepe Café\, New Orleans Cajun flavors by Crawdaddy’s on Greenfield and many more. \nThe Educators Credit Union Main Stage and Gruber Law Offices “One Call…That’s All” stage\, along with three other stages\, will offer a diverse entertainment line-up of over 60 musical acts with highlights including headliners such as the Extra Crispy Brass Band\, Sneezy\, Panadanza\, Breaking Cadence and Taylor & The Anti Heroes. This year\, the festival promises even more French entertainment including long-time performers like chanteuse extraordinaire Robin Pluer and Madame Gigi’s Outrageous French Can-Can Dancers\, as well as new additions such as Jerry Grillo French Cabaret\, Ana Everling Trio\, Marjasana\, and French Folk with Daddy Squeeze & friends. Returning for the third year is the THIS IS IT! drag show\, along with the “French Chill” house & disco mix sets in partnership with WMSE. Additionally\, attendees can anticipate special performances by Samba da Vida\, Tamarind Tribal Belly Dancers\, Professor Pinkerton’s Irreverent Orchestra\, and other surprise acts. \nVisit https://www.easttown.com/bastille-days/ for more info. \n
URL:https://urbanmilwaukee.com/event/bastille-days-8/
LOCATION:520 E. Wells St.\, Milwaukee\, WI\, United States
CATEGORIES:Arts & Entertainment,Food & Drink
ATTACH;FMTTYPE=image/jpeg:https://urbanmilwaukee.com/wp-content/uploads/2019/07/Bastille-Days-4.jpg
END:VEVENT
BEGIN:VEVENT
DTSTART;TZID=America/Chicago:20240714T100000
DTEND;TZID=America/Chicago:20240714T150000
DTSTAMP:20260420T215236
CREATED:20240515T232202Z
LAST-MODIFIED:20240515T232202Z
UID:785959-1720951200-1720969200@urbanmilwaukee.com
SUMMARY:Riverwest Farmers Market
DESCRIPTION:The Riverwest Farmers Market is held Sundays\, June 2 through Oct. 27\, 2024\, from 10:00 a.m. to 3:00 p.m. at 2700 N. Pierce St. between Center and Hadley streets in the heart of the Riverwest neighborhood of Milwaukee. There will be no market on July 7. \nThe market offers a plethora of seasonal fruits and vegetables\, local honey and eggs\, freshly made bread\, sweet bakery items\, handcrafted body care items\, and heaping bouquets of flowers. Our mission is to make fresh\, naturally grown\, local food accessible to all. \nVisit our Taste It Tent on June 30\, July 28\, Aug. 25\, Sept. 22 and Oct. 13 \nAt the Taste It Tent\, visitors can sample an array of fresh fruits and vegetables\, discover creative ways to incorporate them into their daily meals\, and learn about the benefits of a wholesome diet. By encouraging more people to visit the markets\, we not only support our hardworking farmers but also foster education and health within our communities. \n
URL:https://urbanmilwaukee.com/event/riverwest-farmers-market-6/
LOCATION:2700 N. Pierce St.\, Milwaukee
CATEGORIES:Food & Drink
ATTACH;FMTTYPE=image/jpeg:https://urbanmilwaukee.com/wp-content/uploads/2024/05/Riverwest-Farmers-Marketj.jpg
END:VEVENT
END:VCALENDAR