BEGIN:VCALENDAR
VERSION:2.0
PRODID:-//Urban Milwaukee - ECPv4.6.9//NONSGML v1.0//EN
CALSCALE:GREGORIAN
METHOD:PUBLISH
X-WR-CALNAME:Urban Milwaukee
X-ORIGINAL-URL:https://urbanmilwaukee.com
X-WR-CALDESC:Events for Urban Milwaukee
BEGIN:VEVENT
DTSTART;TZID=America/Chicago:20240703T100000
DTEND;TZID=America/Chicago:20240703T150000
DTSTAMP:20260421T172217
CREATED:20240515T210608Z
LAST-MODIFIED:20240515T210608Z
UID:785828-1720000800-1720018800@urbanmilwaukee.com
SUMMARY:﻿Brown Deer Farmers Market
DESCRIPTION:The Brown Deer Farmers Market is held Wednesdays\, June 26 through Oct. 23\, 2024\, from 10:00 a.m. to 3:00 p.m. at Village Park and Pond (4920 W. Green Brook Dr.) near Brown Deer Village Hall. \nThe market offers locally grown vegetables\, fruits\, flowers and plants\, mushrooms\, honey\, cheese and meats\, maple syrup\, pickles and salsa\, eggs\, home baked goods\, artisan booths\, youth entrepreneurs\, and other local specialty vendors. Live music every market from 11 a.m. to 1 p.m. \nVisit our Taste It Tent on July 17\, Aug. 21\, Sept. 18 and Oct. 16 \nAt the Taste It Tent\, visitors can sample an array of fresh fruits and vegetables\, discover creative ways to incorporate them into their daily meals\, and learn about the benefits of a wholesome diet. By encouraging more people to visit the markets\, we not only support our hardworking farmers but also foster education and health within our communities. \n
URL:https://urbanmilwaukee.com/event/%ef%bb%bfbrown-deer-farmers-market-2/
LOCATION:4920 W. Green Brook Dr.\, Brown Deer
CATEGORIES:Food & Drink
ATTACH;FMTTYPE=image/png:https://urbanmilwaukee.com/wp-content/uploads/2024/05/Brown-Deer-Farmers-Market-logo.png
END:VEVENT
BEGIN:VEVENT
DTSTART;TZID=America/Chicago:20240703T163000
DTEND;TZID=America/Chicago:20240703T190000
DTSTAMP:20260421T172217
CREATED:20240628T053743Z
LAST-MODIFIED:20240628T053743Z
UID:785014-1720024200-1720033200@urbanmilwaukee.com
SUMMARY:Family Flicks: Teenage Mutant Ninja Turtles
DESCRIPTION:Come join us for FREE summer fun with BAYSHORE’s Family Flicks movie nights presented by Shorewest Realtors – Northshore Office and St. Francis Children’s Center! Bring the whole family and experience a variety of pre-show activities and entertainment\, and then enjoy our featured PG-rated films on the Big Screen. Bring your lawn chairs and blankets\, alcohol and animals are prohibited. Festivities take place in The Yard\, the open central community space in the heart of BAYSHORE. \nPre-Show Entertainment: 4:30 – 5:30pm\nElite Sports Clubs Bounce House \nTeenage Mutant Ninja Turtles: Mutant Mayhem: 5:30 – 7:00pm\nRaphael\, Leonardo\, Donatello\, and Michelangelo are four turtle brothers with a unique set of skills and a penchant for mischief\, which runs them afoul of New York City. Yet when a horde of sinister mutants begins to wreak havoc\, the city must learn to rely on the turtles if they are to be saved. \nPop-Ups & Food Trucks\nHawaii Fluid Art\, Vibez Creative Arts Studio\, Hot Box Pizza MKE\, Kona Ice\, Shorewest Realtors – Northshore Office\, St. Francis Children’s Center \n
URL:https://urbanmilwaukee.com/event/family-flicks-teenage-mutant-ninja-turtles/
CATEGORIES:Arts & Entertainment,Food & Drink,Kids
ATTACH;FMTTYPE=image/jpeg:https://urbanmilwaukee.com/wp-content/uploads/2024/05/bayshore_FamilyFlicks2024_TMNT_600x600-email.jpg
END:VEVENT
BEGIN:VEVENT
DTSTART;TZID=America/Chicago:20240703T190000
DTEND;TZID=America/Chicago:20240703T210000
DTSTAMP:20260421T172217
CREATED:20240628T053930Z
LAST-MODIFIED:20240628T053930Z
UID:793441-1720033200-1720040400@urbanmilwaukee.com
SUMMARY:Coalition to March on the RNC: Trivia Night & Raffle
DESCRIPTION:The Coalition to March on the RNC is hosting a Trivia Night and Raffle fundraiser at Sugar Maple\, 441 E Lincoln Ave\, on July 3rd starting at 7pm. We are raising funds for the coalition to help support our medics and other needs of our March and Rally on July 15th. \n
URL:https://urbanmilwaukee.com/event/coalition-to-march-on-the-rnc-trivia-night-raffle/
LOCATION:441 E. Lincoln Ave.\, Milwaukee\, WI\, 53207\, United States
CATEGORIES:Fundraiser
ATTACH;FMTTYPE=image/jpeg:https://urbanmilwaukee.com/wp-content/uploads/2024/06/IMG_5240.jpeg
END:VEVENT
END:VCALENDAR