BEGIN:VCALENDAR
VERSION:2.0
PRODID:-//Urban Milwaukee - ECPv4.6.9//NONSGML v1.0//EN
CALSCALE:GREGORIAN
METHOD:PUBLISH
X-WR-CALNAME:Urban Milwaukee
X-ORIGINAL-URL:https://urbanmilwaukee.com
X-WR-CALDESC:Events for Urban Milwaukee
BEGIN:VEVENT
DTSTART;TZID=America/Chicago:20240630T100000
DTEND;TZID=America/Chicago:20240630T150000
DTSTAMP:20260422T021325
CREATED:20240515T232131Z
LAST-MODIFIED:20240515T232131Z
UID:785957-1719741600-1719759600@urbanmilwaukee.com
SUMMARY:Riverwest Farmers Market
DESCRIPTION:The Riverwest Farmers Market is held Sundays\, June 2 through Oct. 27\, 2024\, from 10:00 a.m. to 3:00 p.m. at 2700 N. Pierce St. between Center and Hadley streets in the heart of the Riverwest neighborhood of Milwaukee. There will be no market on July 7. \nThe market offers a plethora of seasonal fruits and vegetables\, local honey and eggs\, freshly made bread\, sweet bakery items\, handcrafted body care items\, and heaping bouquets of flowers. Our mission is to make fresh\, naturally grown\, local food accessible to all. \nVisit our Taste It Tent on June 30\, July 28\, Aug. 25\, Sept. 22 and Oct. 13 \nAt the Taste It Tent\, visitors can sample an array of fresh fruits and vegetables\, discover creative ways to incorporate them into their daily meals\, and learn about the benefits of a wholesome diet. By encouraging more people to visit the markets\, we not only support our hardworking farmers but also foster education and health within our communities. \n
URL:https://urbanmilwaukee.com/event/riverwest-farmers-market-5/
LOCATION:2700 N. Pierce St.\, Milwaukee
CATEGORIES:Food & Drink
ATTACH;FMTTYPE=image/jpeg:https://urbanmilwaukee.com/wp-content/uploads/2024/05/Riverwest-Farmers-Marketj.jpg
END:VEVENT
BEGIN:VEVENT
DTSTART;TZID=America/Chicago:20240630T103000
DTEND;TZID=America/Chicago:20240630T190000
DTSTAMP:20260422T021325
CREATED:20240628T053212Z
LAST-MODIFIED:20240628T053212Z
UID:793409-1719743400-1719774000@urbanmilwaukee.com
SUMMARY:Optimist Theatre Presents: Shakespeare in the City!
DESCRIPTION:FREE event! Running every Saturday and Sunday now through July 21st\, Optimist Theatre is touring four titles plus Shakespeare-themed theatre games at outdoor locations across Milwaukee. Each date features multiple play offerings and performances by associated groups – sometimes in multiple parks! \nOn Sunday\, June 30th\, join us for one or all of the following offerings: \n10:30 am: The PLAY’s the Thing Workshops: Theatre Games and Adventures\n11:30 am: Another Midsummer Night’s Dream\n1:15 pm: Performance by Ko-Thi Dance Company\n2:30 pm: The Comedy of Romeo & Juliet\, Kinda\, Sorta\n4:30 pm: Pocket Park Puppet Players’ Macbeth\n5:30 pm: Hamlet (One Woman as Everyone) \nFor full details and registration info\, visit www.optimisttheatre.org/2024season.html \n
URL:https://urbanmilwaukee.com/event/optimist-theatre-presents-shakespeare-in-the-city-2/
LOCATION:2405 W Forest Home Ave\, Milwaukee\, WI\, 53215\, United States
CATEGORIES:Arts & Entertainment
ATTACH;FMTTYPE=image/png:https://urbanmilwaukee.com/wp-content/uploads/2024/06/Optimist-800-by-6001-11.png
ORGANIZER;CN="Optimist%20Theatre":MAILTO:ssfry@optimisttheatre.org
END:VEVENT
BEGIN:VEVENT
DTSTART;TZID=America/Chicago:20240630T110000
DTEND;TZID=America/Chicago:20240630T130000
DTSTAMP:20260422T021325
CREATED:20240628T053344Z
LAST-MODIFIED:20240628T053344Z
UID:788395-1719745200-1719752400@urbanmilwaukee.com
SUMMARY:Americana Brunch with Panalure & Friends
DESCRIPTION:Kick back with a special Sunday morning performance of original Americana music by Panalure with special guests Betty & Damian of Testa Rosa and Denny Rauen. Discourse will have their cafe menu available\, featuring caffeine cocktails created by owner/host Ryan Castelaz\, author of “The New Art of Coffee.” No cover. 158 S. Barkley Street. \n
URL:https://urbanmilwaukee.com/event/americana-brunch-with-panalure-friends/
LOCATION:158 S. Barkley St.\, Milwaukee\, WI\, 53204\, United States
CATEGORIES:Arts & Entertainment
ATTACH;FMTTYPE=image/jpeg:https://urbanmilwaukee.com/wp-content/uploads/2024/05/C6205F69-28D9-436E-A13B-674DD6D16BB0-scaled.jpeg
END:VEVENT
BEGIN:VEVENT
DTSTART;TZID=America/Chicago:20240630T120000
DTEND;TZID=America/Chicago:20240630T140000
DTSTAMP:20260422T021325
CREATED:20240628T053621Z
LAST-MODIFIED:20240628T053621Z
UID:793543-1719748800-1719756000@urbanmilwaukee.com
SUMMARY:Girls Rock MKE June Camp Showcase
DESCRIPTION:The public is invited to cheer on heartwarming performances and highlight the talents of Girls Rock MKE’s youth campers this Sunday\, June 30\, 2024. This family-friendly event will be held from 12 p.m. to 2 p.m. (doors open at 11:30 a.m.) at Turner Hall Ballroom\, and will feature one song each from seven brand new camper bands. \n
URL:https://urbanmilwaukee.com/event/girls-rock-mke-june-camp-showcase/
LOCATION:1034 N. 4th St.\, Milwaukee\, WI\, 53203\, United States
CATEGORIES:Arts & Entertainment
ATTACH;FMTTYPE=image/png:https://urbanmilwaukee.com/wp-content/uploads/2024/06/GR-Jun24-Showcase-Facebook-Post940x788px.png
END:VEVENT
END:VCALENDAR