BEGIN:VCALENDAR
VERSION:2.0
PRODID:-//Urban Milwaukee - ECPv4.6.9//NONSGML v1.0//EN
CALSCALE:GREGORIAN
METHOD:PUBLISH
X-WR-CALNAME:Urban Milwaukee
X-ORIGINAL-URL:https://urbanmilwaukee.com
X-WR-CALDESC:Events for Urban Milwaukee
BEGIN:VEVENT
DTSTART;TZID=America/Chicago:20240628T180000
DTEND;TZID=America/Chicago:20240628T210000
DTSTAMP:20260422T052952
CREATED:20240627T181821Z
LAST-MODIFIED:20240627T181821Z
UID:783626-1719597600-1719608400@urbanmilwaukee.com
SUMMARY:Sounds of Summer: The First Wave
DESCRIPTION:Party on with BAYSHORE’s Sounds of Summer concert series presented by OnMilwaukee and Milwaukee Radio Group. Every Friday from 6:00 – 9:00 p.m. through Aug. 23\, enjoy a bustling shopping and dining experience while surrounded by free\, lively entertainment in The Yard\, a large\, open-air community space located in the heart of BAYSHORE. Bring your dancing shoes\, lawn chairs and blankets! Carry-in alcohol and animals are prohibited. \nThe Tap will offer a lively outdoor Beer Garden featuring thirty-six craft beers from local and regional brewers\, as well as a variety of wines\, hard seltzers\, and non-alcohol beverages. \nThe First Wave: The First Wave is America’s finest new wave tribute band. The Milwaukee-based entertainers specialize in the darker side of the 80’s new wave and 80’s alternative music. \nFood Trucks & Pop-Ups: Ochos Mexican Grill\, Rose Mob Grill\, Tiffany’s Dessert Bar\, Vibez Creative Arts Space \n
URL:https://urbanmilwaukee.com/event/sounds-of-summer-the-first-wave/
LOCATION:5800 N. Bayshore Dr.\, Glendale\, WI\, 53217\, United States
CATEGORIES:Arts & Entertainment
ATTACH;FMTTYPE=image/jpeg:https://urbanmilwaukee.com/wp-content/uploads/2024/05/bayshore_SoundsofSummer2024_TheFirstWave_1080x1080-Instagram.jpg
END:VEVENT
BEGIN:VEVENT
DTSTART;TZID=America/Chicago:20240628T193000
DTEND;TZID=America/Chicago:20240628T230000
DTSTAMP:20260422T052952
CREATED:20240628T052550Z
LAST-MODIFIED:20240628T052550Z
UID:787210-1719603000-1719615600@urbanmilwaukee.com
SUMMARY:Colby T. Helms & The Virginia Creepers with Dandy L Freling
DESCRIPTION:Join Anodyne Coffee Roasting Co. for an evening of live music featuring Colby T. Helms & The Virginia Creepers and Dandy L. Freling! \nColby T. Helms & The Virginia Creepers \nAt the bottom of the Southwest Virginia foothills half-a-mile from the nearest neighbor\, 21-year-old Colby T. Helms resides in an “underground house” built by his late father on land his family has owned for generations. Colby first dreamed of making music his life at age 12\, when a group of Blue Ridge Mountain old-time and bluegrass players performed songs like The Ozark Mountain Daredevils’ “Standing On The Rock” and the gospel classic “A Beautiful Life” at his father’s funeral in Boones Mill\, VA. To make his dream a reality\, he taught himself guitar\, banjo\, and mandolin by watching local performers and YouTube videos. On the day he turned 16\, he bought his first car\, a stick-shift Jeep Wrangler\, and hit the road to play anywhere people would have him. A veteran performer in the Blue Ridge/Appalachian Mountains region by age 18\, Colby wrote the songs that would become his upcoming semi-autobiographical concept album\, ‘Tales of Misfortune’\, as a senior in high school. The album delves into the beginning of his story – starting off as a dream and ending with the passing and remembrance of his father. “Higher Ground” is about the choices he has made to realize his dream of becoming a touring musician – and their cost. “Mountain Brandy” brings the listener back to Colby’s home at the bottom of the Blue Ridge Mountains and sets the tone for the rest of the album. “Smoke and Flames” chronicles his experience as a fledgling musician\, honing his craft and searching for validation while still in high school. Album closer “Daddy’s Pocket Knife” cuts the deepest. A true story that also serves as a metaphor for Colby’s own artistic journey\, it reminds us that some things lost can be found. Colby T. Helms will release his debut album on Photo Finish Records in January 2024. He is managed by Dolphus Ramseur and booked by Paul Lohr and John Everhart of New Frontier Touring. \nDandy L. Freling \nA Boot Stompin’ Finger Pickin’ Folkie \nA highway-kind traveler combining a touch of the high and lonesome hollers of the Appalachian hill people with the low-down\, dusty grooves of the cosmic cowboys\, Dandy has created a unique songwriter banquet sure to satisfy the hunger of any weary passerby. A boot stompin’ finger picker with remnant hollers of the greats of our past – Don’t be afraid to stop awhile\, and fill up your plate\, there’s plenty to go around. \n
URL:https://urbanmilwaukee.com/event/colby-t-helms-the-virginia-creepers-with-dandy-l-freling/
LOCATION:224 W. Bruce St.\, Milwaukee\, WI\, 53204\, United States
CATEGORIES:Arts & Entertainment
ATTACH;FMTTYPE=image/jpeg:https://urbanmilwaukee.com/wp-content/uploads/2021/11/dsc01852.jpg
END:VEVENT
END:VCALENDAR