BEGIN:VCALENDAR
VERSION:2.0
PRODID:-//Urban Milwaukee - ECPv4.6.9//NONSGML v1.0//EN
CALSCALE:GREGORIAN
METHOD:PUBLISH
X-WR-CALNAME:Urban Milwaukee
X-ORIGINAL-URL:https://urbanmilwaukee.com
X-WR-CALDESC:Events for Urban Milwaukee
BEGIN:VEVENT
DTSTART;TZID=America/Chicago:20240621T090000
DTEND;TZID=America/Chicago:20240621T180000
DTSTAMP:20260422T160728
CREATED:20240607T065747Z
LAST-MODIFIED:20250603T095728Z
UID:790262-1718960400-1718992800@urbanmilwaukee.com
SUMMARY:3 Day Huge Rummage Sale Benefitting Second Hand Purrs
DESCRIPTION:Second Hand Purrs huge 3-day rummage sale will be happening soon! \nThursday\, June 20\, 9 a.m. – 6 p.m.\nFriday\, June 21\, 9 a.m. – 6 p.m.\nSaturday\, June 22\, 9 a.m. – 4 p.m. \nOnce again\, it will be at the American Legion Hall in Oak Creek\, 9327 South Shepard Ave. Inside and air conditioned!!! \nWe have everything from A to Z on sale: electronics\, furniture\, collectibles\, glassware\, music\, bedding\, housewares\, home décor\, some tools\, children’s items\, frames\, variety of holiday stuff\, and pet items. Rain or shine! \n
URL:https://urbanmilwaukee.com/event/3-day-huge-rummage-sale-benefitting-second-hand-purrs-2/
LOCATION:9327 South Shepard Ave\, Oak Creek\, 53154\, United States
CATEGORIES:Fundraiser,Pets
ATTACH;FMTTYPE=image/jpeg:https://urbanmilwaukee.com/wp-content/uploads/2024/06/Rummage-Flyer-2024-scaled.jpg
ORGANIZER;CN="Second%20Hand%20Purrs":MAILTO:secondhandpurrs@gmail.com
END:VEVENT
BEGIN:VEVENT
DTSTART;TZID=America/Chicago:20240621T110000
DTEND;TZID=America/Chicago:20240621T203000
DTSTAMP:20260422T160728
CREATED:20240613T053848Z
LAST-MODIFIED:20240613T053848Z
UID:782758-1718967600-1719001800@urbanmilwaukee.com
SUMMARY:20th Annual Shorewood Criterium Classic
DESCRIPTION:Shorewood will return to playing host for a day to the largest cycling event in the country\, the 20th Annual Shorewood Criterium Classic on Friday\, June 21st\, 2024! The Tour of America’s Dairyland features 11 days of competitive racing around Wisconsin and brings in riders from amateurs to professionals. In addition\, our local event includes kids races (littles\, middles and tweens) and more fun at the Kensington Square block party! \n
URL:https://urbanmilwaukee.com/event/20th-annual-shorewood-criterium-classic/
LOCATION:4200 N. Oakland Avenue\, Shorewood\, WI\, 53211
CATEGORIES:Active,Food & Drink,Kids
ATTACH;FMTTYPE=image/jpeg:https://urbanmilwaukee.com/wp-content/uploads/2024/04/1.jpg
END:VEVENT
BEGIN:VEVENT
DTSTART;TZID=America/Chicago:20240621T180000
DTEND;TZID=America/Chicago:20240621T210000
DTSTAMP:20260422T160728
CREATED:20240613T053942Z
LAST-MODIFIED:20240613T053942Z
UID:783493-1718992800-1719003600@urbanmilwaukee.com
SUMMARY:Sounds of Summer: The Britins
DESCRIPTION:Party on with BAYSHORE’s Sounds of Summer concert series presented by OnMilwaukee and Milwaukee Radio Group. Every Friday from 6:00 – 9:00 p.m. through Aug. 23\, enjoy a bustling shopping and dining experience while surrounded by free\, lively entertainment in The Yard\, a large\, open-air community space located in the heart of BAYSHORE. Bring your dancing shoes\, lawn chairs and blankets! Carry-in alcohol and animals are prohibited. \nThe Tap will offer a lively outdoor Beer Garden featuring thirty-six craft beers from local and regional brewers\, as well as a variety of wines\, hard seltzers\, and non-alcohol beverages. \nThe Britins: Milwaukee’s Britins recreate the Beatles era that influenced so many top groups and artists today. Join The Britins as they play hits from the Fab Four\, from “Love Me Do” to “Let It Be”. \nFood Trucks & Pop-Ups: El Sazon Dominicano\, Shorty’s Grilled Cheese\, Tiffany’s Dessert Bar\, Vibez Creative Arts Space \n
URL:https://urbanmilwaukee.com/event/sounds-of-summer-the-britins/
LOCATION:5800 N. Bayshore Dr.\, Glendale\, WI\, 53217\, United States
CATEGORIES:Arts & Entertainment
ATTACH;FMTTYPE=image/jpeg:https://urbanmilwaukee.com/wp-content/uploads/2024/05/bayshore_SoundsofSummer2024_TheBritins_600x600-email.jpg
END:VEVENT
BEGIN:VEVENT
DTSTART;TZID=America/Chicago:20240621T193000
DTEND;TZID=America/Chicago:20240621T230000
DTSTAMP:20260422T160728
CREATED:20240613T054056Z
LAST-MODIFIED:20240613T054056Z
UID:790351-1718998200-1719010800@urbanmilwaukee.com
SUMMARY:Direct Hit + So Zuppy + Bad Crime + Death Kill Overdrive
DESCRIPTION:Join Anodyne Coffee Roasting Co. for an evening of live music featuring Direct Hit\, So Zuppy\, Bad Crime and Death Kill Overdrive! \nDirect Hit \nDirect Hit is a punk rock band based in Milwaukee\, Wisconsin\, USA\, currently signed to San Francisco’s Fat Wreck Chords. Since 2007\, the group has written and recorded several EPs and four full-length albums of music ranging from vein-popping hardcore to electronic-tinged pop\, and toured the US\, Canada\, UK\, Europe\, and Australia in between appearances at Riot Fest\, Summerfest\, Groezrock\, and more. Direct Hit’s new-ish 5-piece lineup consists of longtime members Nick Woods and Devon Kay (guitar + vocals) with Logan Stang (the Slow Death) on drums\, Joram Zbichorski (Devon Kay + the Solutions) on bass and recent addition Maura Weaver (Mixtapes\, the Homeless Gospel Choir) providing vocals and 3rd guitar. The band is currently writing new material for a full-length record to be co-released with a graphic novel created by Nick Woods\, Walker Dubois\, Jenny Lapham\, and Dylan Brown. \nSo Zuppy \nSo Zuppy is the solo project of producer Micah Foust. Over the past several years this he has perfected a bright and bubbly bedroom pop production merged with a distinct soft voice and gleaming vocal harmonies\, adding texture through synth and drum sounds that he makes from field recordings and everyday noises. \nBad Crime \nMilwaukee RNR featuring current and former members of Dislocation\, Direct Hit!\, Chinese Telephones\, Hex Tripper\, and Overhand. \nDeath Kill Overdrive \nIowa City rock band featuring Oliver LaFave\, Kane Edwards\, Molly Enochson\, Jeff Keyser \n
URL:https://urbanmilwaukee.com/event/direct-hit-so-zuppy-bad-crime-death-kill-overdrive/
LOCATION:224 W. Bruce St.\, Milwaukee\, WI\, 53204\, United States
CATEGORIES:Arts & Entertainment
ATTACH;FMTTYPE=image/jpeg:https://urbanmilwaukee.com/wp-content/uploads/2021/11/dsc01852.jpg
END:VEVENT
BEGIN:VEVENT
DTSTART;TZID=America/Chicago:20240621T193000
DTEND;TZID=America/Chicago:20240621T213000
DTSTAMP:20260422T160728
CREATED:20240613T054252Z
LAST-MODIFIED:20240613T054252Z
UID:788086-1718998200-1719005400@urbanmilwaukee.com
SUMMARY:Vanya and Sonia and Masha and Spike
DESCRIPTION:Middle-aged Vanya and his adopted sister Sonia live a quiet life in the Bucks County\, Pennsylvania farmhouse where they grew up.  Their peace is disturbed when their movie star sister Masha returns unannounced with her much younger boy toy\, Spike.  Old resentments flare up\, eventually leading to threats to sell the house.  Three siblings.  One hot mess.  Also on the scene are the sassy maid Cassandra\, who can predict the future\, and a lovely young aspiring actress named Nina from next door.  A weekend of rivalry\, regret\, and raucousness begins! \n
URL:https://urbanmilwaukee.com/event/vanya-and-sonia-and-masha-and-spike-3/
LOCATION:1500 S. 73 Rd Street\, West Allis\, WI 53214\, 53214\, United States
CATEGORIES:Comedy
ATTACH;FMTTYPE=image/jpeg:https://urbanmilwaukee.com/wp-content/uploads/2024/05/9x4rqLs4RUCmj0qklky9nw.large_-1.jpg
END:VEVENT
END:VCALENDAR