BEGIN:VCALENDAR
VERSION:2.0
PRODID:-//Urban Milwaukee - ECPv4.6.9//NONSGML v1.0//EN
CALSCALE:GREGORIAN
METHOD:PUBLISH
X-WR-CALNAME:Urban Milwaukee
X-ORIGINAL-URL:https://urbanmilwaukee.com
X-WR-CALDESC:Events for Urban Milwaukee
BEGIN:VEVENT
DTSTART;TZID=America/Chicago:20240619T163000
DTEND;TZID=America/Chicago:20240619T190000
DTSTAMP:20260422T190206
CREATED:20240607T065329Z
LAST-MODIFIED:20240607T065329Z
UID:784955-1718814600-1718823600@urbanmilwaukee.com
SUMMARY:Family Flicks: Rock Dog 3: Battle The Beat
DESCRIPTION:Come join us for FREE summer fun with BAYSHORE’s Family Flicks movie nights presented by Shorewest Realtors – Northshore Office and St. Francis Children’s Center! Bring the whole family and experience a variety of pre-show activities and entertainment\, and then enjoy our featured PG-rated films on the Big Screen. Bring your lawn chairs and blankets\, alcohol and animals are prohibited. Festivities take place in The Yard\, the open central community space in the heart of Bayshore. \nPre-Show Entertainment: 4:30 – 5:30 p.m.\nHAWS Mobile Unit \nRock Dog 3: Battle The Beat: 5:30 – 7:00 p.m.\nYoung performers admit that they have never heard of the legendary Angus Scattergood. Musician Bodi decides to restore his name as a Rock Legend. \nPop-Ups & Food Trucks\nHawaii Fluid Art\, Vibez Creative Arts Studio\, El Sazon Dominicano\, Shorewest Realtors – Northshore Office\, St. Francis Children’s Center \n
URL:https://urbanmilwaukee.com/event/family-flicks-rock-dog-3-battle-the-beat/
LOCATION:5800 N. Bayshore Dr.\, Glendale\, WI\, 53217\, United States
CATEGORIES:Arts & Entertainment,Food & Drink,Kids
ATTACH;FMTTYPE=image/jpeg:https://urbanmilwaukee.com/wp-content/uploads/2024/05/bayshore_FamilyFlicks2024_RockDog_600x600-email.jpg
END:VEVENT
BEGIN:VEVENT
DTSTART;TZID=America/Chicago:20240619T190000
DTEND;TZID=America/Chicago:20240619T230000
DTSTAMP:20260422T190206
CREATED:20240607T065129Z
LAST-MODIFIED:20240607T065129Z
UID:787199-1718823600-1718838000@urbanmilwaukee.com
SUMMARY:Mary Shelley + Delicious Monsters
DESCRIPTION:Join Anodyne Coffee Roasting Co. for an evening of live music featuring Mary Shelley and Delicious Monsters! \nPunk music you can dance to. That’s what you get from the genre-hopping\, instrument-swapping members of Brooklyn’s Mary Shelley. Post-punk rhythms are imbued with elements of dance/disco beats\, shoegaze\, hip-hop and more\, while influences stretch across generations\, sounds and styles\, ricocheting in range from IDLES to Talking Heads\, Radiohead to Kendrick Lamar\, Dolly Parton to Viagra Boys. Always\, the electric four-piece scraps rules in favor of creative impulse\, ensuring each new song sounds nothing like their last and crafting a surprise-packed catalog that has caught—and kept—people’s attention. All resulting in a rapidly growing following that has led the band to share stages with the likes of Gogol Bordello\, Tigercub\, Boy Jr.\, Sheer Mag and more. \nTickets are $12 in advance or $15 at the door. \n
URL:https://urbanmilwaukee.com/event/mary-shelley-delicious-monsters/
LOCATION:224 W. Bruce St.\, Milwaukee\, WI\, 53204\, United States
CATEGORIES:Arts & Entertainment
ATTACH;FMTTYPE=image/jpeg:https://urbanmilwaukee.com/wp-content/uploads/2021/11/dsc01852.jpg
END:VEVENT
END:VCALENDAR