BEGIN:VCALENDAR
VERSION:2.0
PRODID:-//Urban Milwaukee - ECPv4.6.9//NONSGML v1.0//EN
CALSCALE:GREGORIAN
METHOD:PUBLISH
X-WR-CALNAME:Urban Milwaukee
X-ORIGINAL-URL:https://urbanmilwaukee.com
X-WR-CALDESC:Events for Urban Milwaukee
BEGIN:VEVENT
DTSTART;TZID=America/Chicago:20240617T190000
DTEND;TZID=America/Chicago:20240617T210000
DTSTAMP:20260422T220124
CREATED:20240607T064923Z
LAST-MODIFIED:20240607T064923Z
UID:789387-1718650800-1718658000@urbanmilwaukee.com
SUMMARY:'Patio Daze' Free Music Series featuring Panalure
DESCRIPTION:Join Panalure for a laid back summer evening of live music on The Ivy House’s charming garden patio. Unwind with a cool beverage from the outdoor bar\, enjoy street eats from Frida’s Cocina. \nDoors 5 p.m.; Food truck 6 p.m.; Music 7 p.m. No cover. \n
URL:https://urbanmilwaukee.com/event/patio-daze-free-music-series-featuring-panalure/
LOCATION:906 S. Barclay St.\, Milwaukee\, WI\, 53204\, United States
CATEGORIES:Arts & Entertainment
ATTACH;FMTTYPE=image/jpeg:https://urbanmilwaukee.com/wp-content/uploads/2024/06/6A7245FF-8D4C-490E-A572-830A12174AAF.jpeg
END:VEVENT
END:VCALENDAR