BEGIN:VCALENDAR
VERSION:2.0
PRODID:-//Urban Milwaukee - ECPv4.6.9//NONSGML v1.0//EN
CALSCALE:GREGORIAN
METHOD:PUBLISH
X-WR-CALNAME:Urban Milwaukee
X-ORIGINAL-URL:https://urbanmilwaukee.com
X-WR-CALDESC:Events for Urban Milwaukee
BEGIN:VEVENT
DTSTART;TZID=America/Chicago:20240614T190000
DTEND;TZID=America/Chicago:20240616T173000
DTSTAMP:20260422T232619
CREATED:20240607T064704Z
LAST-MODIFIED:20240607T064704Z
UID:790171-1718391600-1718559000@urbanmilwaukee.com
SUMMARY:Lost Tales Performance
DESCRIPTION:New twists on folk tales from Venezuela\, Poland\, Korea\, Abenaki First Nation\, the Akan people of Ghana and more! Be prepared for amazing costumes\, fast-paced humor\, poignant lessons\, confusing accents\, and lots of audience interaction. What tales will be told\, how they are told\, character roles and all other aspects of Lost Tales are entirely created by MYT students. A perfect\, all-ages show to end the school year! \n
URL:https://urbanmilwaukee.com/event/lost-tales-performance/
LOCATION:2648 N Hackett Ave\, Milwaukee\, WI\, 53211\, United States
CATEGORIES:Arts & Entertainment
ATTACH;FMTTYPE=image/jpeg:https://urbanmilwaukee.com/wp-content/uploads/2024/06/lt-75.jpg
END:VEVENT
BEGIN:VEVENT
DTSTART;TZID=America/Chicago:20240614T193000
DTEND;TZID=America/Chicago:20240616T163000
DTSTAMP:20260422T232619
CREATED:20240606T052803Z
LAST-MODIFIED:20240606T052803Z
UID:788083-1718393400-1718555400@urbanmilwaukee.com
SUMMARY:Vanya and Sonia and Masha and Spike
DESCRIPTION:Join Inspiration Studios for a performance of “Vanya and Sonia and Masha and Spike.” \nMiddle-aged Vanya and his adopted sister Sonia live a quiet life in the Bucks County\, Pennsylvania farmhouse where they grew up.  Their peace is disturbed when their movie star sister Masha returns unannounced with her much younger boy toy\, Spike.  Old resentments flare up\, eventually leading to threats to sell the house.  Three siblings.  One hot mess.  Also on the scene are the sassy maid Cassandra\, who can predict the future\, and a lovely young aspiring actress named Nina from next door.  A weekend of rivalry\, regret\, and raucousness begins! \n
URL:https://urbanmilwaukee.com/event/vanya-and-sonia-and-masha-and-spike-2/
LOCATION:1500 S. 73rd Street\, West Allis\, WI\, 53214\, United States
CATEGORIES:Arts & Entertainment,Comedy
ATTACH;FMTTYPE=image/jpeg:https://urbanmilwaukee.com/wp-content/uploads/2024/05/9x4rqLs4RUCmj0qklky9nw.large_.jpg
END:VEVENT
BEGIN:VEVENT
DTSTART;TZID=America/Chicago:20240616T100000
DTEND;TZID=America/Chicago:20240616T150000
DTSTAMP:20260422T232619
CREATED:20240515T232009Z
LAST-MODIFIED:20240515T232009Z
UID:785953-1718532000-1718550000@urbanmilwaukee.com
SUMMARY:Riverwest Farmers Market
DESCRIPTION:The Riverwest Farmers Market is held Sundays\, June 2 through Oct. 27\, 2024\, from 10:00 a.m. to 3:00 p.m. at 2700 N. Pierce St. between Center and Hadley streets in the heart of the Riverwest neighborhood of Milwaukee. There will be no market on July 7. \nThe market offers a plethora of seasonal fruits and vegetables\, local honey and eggs\, freshly made bread\, sweet bakery items\, handcrafted body care items\, and heaping bouquets of flowers. Our mission is to make fresh\, naturally grown\, local food accessible to all. \nVisit our Taste It Tent on June 30\, July 28\, Aug. 25\, Sept. 22 and Oct. 13 \nAt the Taste It Tent\, visitors can sample an array of fresh fruits and vegetables\, discover creative ways to incorporate them into their daily meals\, and learn about the benefits of a wholesome diet. By encouraging more people to visit the markets\, we not only support our hardworking farmers but also foster education and health within our communities. \n
URL:https://urbanmilwaukee.com/event/riverwest-farmers-market-3/
LOCATION:2700 N. Pierce St.\, Milwaukee
CATEGORIES:Food & Drink
ATTACH;FMTTYPE=image/jpeg:https://urbanmilwaukee.com/wp-content/uploads/2024/05/Riverwest-Farmers-Marketj.jpg
END:VEVENT
BEGIN:VEVENT
DTSTART;TZID=America/Chicago:20240616T100000
DTEND;TZID=America/Chicago:20240616T170000
DTSTAMP:20260422T232619
CREATED:20240606T051823Z
LAST-MODIFIED:20240606T051823Z
UID:790060-1718532000-1718557200@urbanmilwaukee.com
SUMMARY:Lakefront Festival of Art
DESCRIPTION:Enjoy a fun-filled weekend of art\, food\, music\, and activities for all ages at the Milwaukee Art Museum’s Lakefront Festival of Art! Meet more than 100 artists from across the nation and shop paintings\, ceramics\, fiber\, metalwork\, jewelry\, and more. Sample Milwaukee flavor from local restaurants\, lounge in the sunshine in the beer and wine gardens\, and make art in the outdoor Kohl’s Art Studio. \n
URL:https://urbanmilwaukee.com/event/lakefront-festival-of-art-9/
LOCATION:700 N Art Museum Dr\, Milwaukee\, WI\, 53202\, United States
CATEGORIES:Arts & Entertainment
ATTACH;FMTTYPE=image/jpeg:https://urbanmilwaukee.com/wp-content/uploads/2024/05/LFOA2024_orig.jpg
END:VEVENT
END:VCALENDAR