BEGIN:VCALENDAR
VERSION:2.0
PRODID:-//Urban Milwaukee - ECPv4.6.9//NONSGML v1.0//EN
CALSCALE:GREGORIAN
METHOD:PUBLISH
X-WR-CALNAME:Urban Milwaukee
X-ORIGINAL-URL:https://urbanmilwaukee.com
X-WR-CALDESC:Events for Urban Milwaukee
BEGIN:VEVENT
DTSTART;TZID=America/Chicago:20240613T150000
DTEND;TZID=America/Chicago:20240613T183000
DTSTAMP:20260423T033757
CREATED:20240515T220945Z
LAST-MODIFIED:20240515T220945Z
UID:785891-1718290800-1718303400@urbanmilwaukee.com
SUMMARY:Jackson Park Farmers Market
DESCRIPTION:The Jackson Park Farmers Market is held Thursday evenings\, June 13 through Oct. 3\, 2024\, from 3:00 p.m. to 6:30 p.m. at 3500 W. Forest Home Ave. On the KK Riverway Parkway between S. 43rd St. and W. Forest Home Ave.\, next to the Boat House. There will not be a market July 4\, 2024. \nThe market offers fresh produce\, honey\, coffee\, tea\, flowers\, popcorn\, bakery\, prepared food including food trucks\, kids activities\, health and wellness community partners and live music. Operated by the Jackson Park Community Association. \nVisit our Taste It Tent each week. \nAt the Taste It Tent\, visitors can sample an array of fresh fruits and vegetables\, discover creative ways to incorporate them into their daily meals\, and learn about the benefits of a wholesome diet. By encouraging more people to visit the markets\, we not only support our hardworking farmers but also foster education and health within our communities. \n
URL:https://urbanmilwaukee.com/event/jackson-park-farmers-market/
LOCATION:3500 W. Forest Home Ave.\, Milwaukee
CATEGORIES:Food & Drink
ATTACH;FMTTYPE=image/jpeg:https://urbanmilwaukee.com/wp-content/uploads/2024/05/﻿Jackson-Park-Farmers-Market.jpg
END:VEVENT
BEGIN:VEVENT
DTSTART;TZID=America/Chicago:20240613T171500
DTEND;TZID=America/Chicago:20240613T181500
DTSTAMP:20260423T033757
CREATED:20240606T051040Z
LAST-MODIFIED:20240606T051040Z
UID:775279-1718298900-1718302500@urbanmilwaukee.com
SUMMARY:StoryStarter Workshop: AfterDark: For the Culture
DESCRIPTION:New to storytelling? Or in need of a refresh on the basics? Want to practice a story to tell at our AfterDark: For The Culture event? This workshop is for you! \n*This Brave Space workshop is an affinity space for Black and Brown community members. \nThis workshop takes place directly before the AfterDark: For the Culture event and is meant to be a place to workshop a story you might want to tell on-stage later that night. If you aren’t ready to throw your name in the hat\, no worries! This space is open to anyone who is interested in becoming a better storyteller\, and is a perfect way for you to connect with other storytellers before our StorySlam! \nIn this workshop experienced storytelling coaches will guide you through an interactive training covering the need-to-know details of the craft. Discover\, shape and share your stories with confidence. Space is limited\, reserve a spot today!\n.\nThis workshop gives you: \n\nA step-by-step guide to crafting a story\nThe confidence to someday tell your story on our stage\nSimple storytelling framework you can use everyday\nThe tools to become a superb storyteller or public speaker\n\nRegistering for the workshop does not register you for the StorySlam. \n
URL:https://urbanmilwaukee.com/event/storystarter-workshop-afterdark-for-the-culture/
LOCATION:220 E. Pittsburgh Ave.\, Milwaukee\, WI\, 53204\, United States
CATEGORIES:Arts & Entertainment,Comedy
ATTACH;FMTTYPE=image/png:https://urbanmilwaukee.com/wp-content/uploads/2024/03/ADFTC-wkshop-June-13-2.png
ORGANIZER;CN="Ex%20Fabul":MAILTO:info@exfabula.org
END:VEVENT
BEGIN:VEVENT
DTSTART;TZID=America/Chicago:20240613T173000
DTEND;TZID=America/Chicago:20240613T193000
DTSTAMP:20260423T033757
CREATED:20240606T051450Z
LAST-MODIFIED:20240606T051450Z
UID:789532-1718299800-1718307000@urbanmilwaukee.com
SUMMARY:"Waiting For The Day" Kickoff Event
DESCRIPTION:Diesel Productions MKE and Sincerely In Song invite community leaders and interested individuals to The WI Conservatory of Music\, 1584 N. Prospect Avenue in Milwaukee\, for a FREE and relaxed evening of networking\, live music\, and partnering to support voter registration and poll attendance in the 2024 elections. \nMusic by Charlie Vibes Akoustik\, with vocalist Shanti Lleone\, includes the live premiere of “Waiting For The Day”\, written to support organizations which facilitate voter participation and work to ensure the democratic process remains true. \nFree admittance with RSVP by Wednesday\, June 12. Each reservation comes with a complimentary beverage\, and for-purchase refreshment. RSVP by emailing cshort@wcmusic.org. \n
URL:https://urbanmilwaukee.com/event/waiting-for-the-day-kickoff-event/
LOCATION:1584 N. Prospect Ave.\, Milwaukee\, WI\, 53202\, United States
CATEGORIES:Arts & Entertainment
ATTACH;FMTTYPE=image/jpeg:https://urbanmilwaukee.com/wp-content/uploads/2024/06/Image-6-3-24-at-3.12 PM.jpg
END:VEVENT
BEGIN:VEVENT
DTSTART;TZID=America/Chicago:20240613T190000
DTEND;TZID=America/Chicago:20240613T203000
DTSTAMP:20260423T033757
CREATED:20240606T051607Z
LAST-MODIFIED:20240606T051607Z
UID:775257-1718305200-1718310600@urbanmilwaukee.com
SUMMARY:Ex Fabula AfterDark: For the Culture
DESCRIPTION:“AfterDark: For The Culture” – a night celebrating Black and Brown voices. Stories\, spoken word\, and poetry that represents YOU. \nCome listen to some of Milwaukee’s favorite storytellers or drop your name for a chance to share an original poem or true\, personal story on “culture.” \nYou can also submit an UltraShort! These are short stories (a few sentences) on the night’s theme that the emcee reads on stage. (They can be anonymous!) \nGet feedback on your piece\, or connect with other storytellers\, in our FREE\, pre-show workshop. \nHYFIN x Ex Fabula: connecting the culture through stories. We’re excited to see you. \n
URL:https://urbanmilwaukee.com/event/ex-fabula-afterdark-for-the-culture/
LOCATION:220 E. Pittsburgh Ave.\, Milwaukee\, WI\, 53204\, United States
CATEGORIES:Arts & Entertainment,Comedy
ATTACH;FMTTYPE=image/png:https://urbanmilwaukee.com/wp-content/uploads/2024/03/June-13-Web-banner.png
END:VEVENT
END:VCALENDAR