BEGIN:VCALENDAR
VERSION:2.0
PRODID:-//Urban Milwaukee - ECPv4.6.9//NONSGML v1.0//EN
CALSCALE:GREGORIAN
METHOD:PUBLISH
X-WR-CALNAME:Urban Milwaukee
X-ORIGINAL-URL:https://urbanmilwaukee.com
X-WR-CALDESC:Events for Urban Milwaukee
BEGIN:VEVENT
DTSTART;TZID=America/Chicago:20240609T090000
DTEND;TZID=America/Chicago:20240609T130000
DTSTAMP:20260423T093632
CREATED:20240530T064526Z
LAST-MODIFIED:20240530T064526Z
UID:784613-1717923600-1717938000@urbanmilwaukee.com
SUMMARY:Native Plant Sale
DESCRIPTION:Gardening with native plants provides many ecological benefits\, including creating habitats for birds\, butterflies\, and other wildlife. Prairie Future Seed Company will offer a wide selection of live plants for purchase. \nPre-orders will be taken online Thursday\, May 23 at noon – Wednesday\, June 5 at noon. Check back during this time for a link. Pre-orders will need to be picked up at the Center the morning of the sale. \nIn-person shopping is free to all and registration is not required. \n
URL:https://urbanmilwaukee.com/event/native-plant-sale-3/
LOCATION:1111 E. Brown Deer Rd.\, Milwaukee\, WI\, 53217\, United States
CATEGORIES:Environment
ATTACH;FMTTYPE=image/jpeg:https://urbanmilwaukee.com/wp-content/uploads/2024/05/schlitz-audubon-native-plant-sale-01-scaled-1.jpg
END:VEVENT
BEGIN:VEVENT
DTSTART;TZID=America/Chicago:20240609T100000
DTEND;TZID=America/Chicago:20240609T150000
DTSTAMP:20260423T093632
CREATED:20240515T231910Z
LAST-MODIFIED:20240515T231910Z
UID:785951-1717927200-1717945200@urbanmilwaukee.com
SUMMARY:Riverwest Farmers Market
DESCRIPTION:The Riverwest Farmers Market is held Sundays\, June 2 through Oct. 27\, 2024\, from 10:00 a.m. to 3:00 p.m. at 2700 N. Pierce St. between Center and Hadley streets in the heart of the Riverwest neighborhood of Milwaukee. There will be no market on July 7. \nThe market offers a plethora of seasonal fruits and vegetables\, local honey and eggs\, freshly made bread\, sweet bakery items\, handcrafted body care items\, and heaping bouquets of flowers. Our mission is to make fresh\, naturally grown\, local food accessible to all. \nVisit our Taste It Tent on June 30\, July 28\, Aug. 25\, Sept. 22 and Oct. 13 \nAt the Taste It Tent\, visitors can sample an array of fresh fruits and vegetables\, discover creative ways to incorporate them into their daily meals\, and learn about the benefits of a wholesome diet. By encouraging more people to visit the markets\, we not only support our hardworking farmers but also foster education and health within our communities. \n
URL:https://urbanmilwaukee.com/event/riverwest-farmers-market-2/
LOCATION:2700 N. Pierce St.\, Milwaukee\, WISCONSIN
CATEGORIES:Food & Drink
ATTACH;FMTTYPE=image/jpeg:https://urbanmilwaukee.com/wp-content/uploads/2024/05/Riverwest-Farmers-Marketj.jpg
END:VEVENT
BEGIN:VEVENT
DTSTART;TZID=America/Chicago:20240609T140000
DTEND;TZID=America/Chicago:20240609T160000
DTSTAMP:20260423T093632
CREATED:20240530T063434Z
LAST-MODIFIED:20240530T063434Z
UID:788579-1717941600-1717948800@urbanmilwaukee.com
SUMMARY:James and the Giant Peach
DESCRIPTION:Great for kids (and nostalgic adults)! \nWhen James is sent by his conniving aunts to chop down their old fruit tree\, he discovers a magic potion that results in a tremendous peach… and launches a journey of enormous proportions. Suddenly\, James finds himself in the center of the gigantic peach – among human-sized insects with equally oversized personalities – but\, after it falls from the tree and rolls into the ocean\, the group faces hunger\, sharks and plenty of disagreements. Thanks to James’ quick wit and creative thinking\, the residents learn to live and work together as a family. The dangerous voyage is a success\, but the adventure takes a whole new twist once they land on the Empire State Building. \n​A delightfully offbeat adaptation of the classic Roald Dahl adventure\, the creative possibilities with James and the Giant Peach are endless. Featuring a wickedly tuneful score by the Tony Award-nominated team of Pasek and Paul and a curiously quirky book by Timothy Allen McDonald\, critics rave: James and the Giant Peach is a “masterpeach!” \n
URL:https://urbanmilwaukee.com/event/james-and-the-giant-peach-5/
LOCATION:255 S Water St\,\, Milwaukee\, WI\, 53204\, United States
CATEGORIES:Arts & Entertainment
ATTACH;FMTTYPE=image/jpeg:https://urbanmilwaukee.com/wp-content/uploads/2024/05/James-and-the-Giant-Peach.jpg
END:VEVENT
END:VCALENDAR