BEGIN:VCALENDAR
VERSION:2.0
PRODID:-//Urban Milwaukee - ECPv4.6.9//NONSGML v1.0//EN
CALSCALE:GREGORIAN
METHOD:PUBLISH
X-WR-CALNAME:Urban Milwaukee
X-ORIGINAL-URL:https://urbanmilwaukee.com
X-WR-CALDESC:Events for Urban Milwaukee
BEGIN:VEVENT
DTSTART;TZID=America/Chicago:20240607T200000
DTEND;TZID=America/Chicago:20240608T010000
DTSTAMP:20260423T110324
CREATED:20240530T063844Z
LAST-MODIFIED:20240530T063844Z
UID:783342-1717790400-1717808400@urbanmilwaukee.com
SUMMARY:Le Freak Reunion Dance Party
DESCRIPTION:The one & only VICE featured Milwaukee dance party\, Le Freak\, will be back for 1 night this Summer!!! The whole gang is back together for one last pizza party! \nDrink specials & no cover \nJune 7th 8pm-1am @ Boone & Crockett on the patio!\nMilwaukee Pride afterparty!\nDJS: Asher Gray\, Slim Britt\, Lolo\nPhotos: Shakylegs\,\nVisuals: Video Villains \n
URL:https://urbanmilwaukee.com/event/le-freak-reunion-dance-party/
LOCATION:818 S. Water St.\, Milwaukee\, WI\, 53204\, United States
CATEGORIES:Arts & Entertainment
ATTACH;FMTTYPE=image/png:https://urbanmilwaukee.com/wp-content/uploads/2024/05/LE-FREAK-FLYER.png
END:VEVENT
BEGIN:VEVENT
DTSTART;TZID=America/Chicago:20240608T090000
DTEND;TZID=America/Chicago:20240608T130000
DTSTAMP:20260423T110324
CREATED:20240515T200352Z
LAST-MODIFIED:20240515T204802Z
UID:785734-1717837200-1717851600@urbanmilwaukee.com
SUMMARY:Oak Creek Farmers Market
DESCRIPTION:The Oak Creek Farmers Market is held Saturdays\, May 11 through Oct. 19\, 2024\, from 9:00 a.m. to 1:00 p.m. at Drexel Town Square. \nThe market offers locally grown farm fresh foods\, such as vine-ripened produce and fruits\, cheeses\, eggs\, meats\, honey\, and flowers. Seasonal items\, such as strawberries\, apples\, and sweetcorn\, are also available at their peak of freshness. The proximity to the businesses within Drexel Town Square\, offers patrons a wide variety of food and beverage options to enjoy before\, during\, and after their time at the market. \nVisit our Taste It Tent each week. \nAt the Taste It Tent\, visitors can sample an array of fresh fruits and vegetables\, discover creative ways to incorporate them into their daily meals\, and learn about the benefits of a wholesome diet. By encouraging more people to visit the markets\, we not only support our hardworking farmers but also foster education and health within our communities. \n
URL:https://urbanmilwaukee.com/event/oak-creek-farmers-market-5/
LOCATION:361 W. Town Square Way\, Oak Creek\, WI\, 53154\, United States
CATEGORIES:Food & Drink
ATTACH;FMTTYPE=image/jpeg:https://urbanmilwaukee.com/wp-content/uploads/2024/05/oak-creek.jpg
END:VEVENT
BEGIN:VEVENT
DTSTART;TZID=America/Chicago:20240608T120000
DTEND;TZID=America/Chicago:20240608T150000
DTSTAMP:20260423T110324
CREATED:20240530T062925Z
LAST-MODIFIED:20240530T062925Z
UID:788568-1717848000-1717858800@urbanmilwaukee.com
SUMMARY:Wear Orange/National Gun Violence Prevention Weekend
DESCRIPTION:June 7-9 is National Gun Violence Prevention Weekend. To honor victims and survivors of gun violence\, wear orange\, and join in the activities at Safe and Sound. \nThis year’s events will include a candlelight vigil to honor and remember loved ones taken by gun violence\, and a press conference and peace walk to raise awareness and build our community of survivors and advocates. The candlelight vigil will be Friday\, June 7\, at 6:00 p.m. \nThe Peace Walk will begin at Safe and Sound at noon on Saturday. Come early for the press conference beginning at 10\, and to sign the Safe Summer pledge. Join in these events with WAVE\, Safe and Sound\, Brady\, Moms Demand Action\, Milwaukee’s Office of Community Wellness and Safety\, and others to support survivors and speak out against gun violence. \nIf you’ve had a loved one taken by gun violence\, you can honor them and tell their story in a digital memorial. This can be found on the events page of WAVE’s website\, www.WaveEdFund.org. \n
URL:https://urbanmilwaukee.com/event/wear-orange-national-gun-violence-prevention-weekend-2/
LOCATION:4422 W. Leon Terrace\, Milwaukee\, WI\, 53216\, United States
CATEGORIES:Health
ATTACH;FMTTYPE=image/png:https://urbanmilwaukee.com/wp-content/uploads/2024/05/WO2024FinalFlyer.png
ORGANIZER;CN="WAVE%20Educational%20Fund":MAILTO:hj@waveedfund.org
END:VEVENT
BEGIN:VEVENT
DTSTART;TZID=America/Chicago:20240608T130000
DTEND;TZID=America/Chicago:20240608T143000
DTSTAMP:20260423T110324
CREATED:20240530T064015Z
LAST-MODIFIED:20240530T064015Z
UID:786852-1717851600-1717857000@urbanmilwaukee.com
SUMMARY:Pridefest Youth StorySlam
DESCRIPTION:Ex Fabula StorySlams are live events where community members connect and share true\, personal stories related to the theme\, told without props or notes. Come just to listen – or throw your name in the hat for a chance to share a true story related to the theme ‘Love Out Loud’ – Stories all about who we’re loving out loud: family\, self love\, love for our besties – don’t forget about pets! \nAt the end of the StorySlam\, the audience votes by ballot to choose an Audience Favorite and our secret judges will select a Judges Favorite! There will be opportunities for youth to be a paid storyteller or volunteer\, with extra cash prizes for the Audience Favorite and Judges Favorite. \nThe audience can also be a part of the storytelling by submitting UltraShorts! These are “ultra-short” stories on the StorySlam’s theme that will be read onstage by the emcee. \nThis event is free\, but space is limited\, so use the “Add To Cart” button below to reserve your spot. There will be opportunities for youth to be a paid storyteller or volunteer\, with extra cash prizes for Audience Favorite and Judges Favorite! Use this Google Form to sign up to be a storyteller and/or a volunteer. \nAttendees need to RSVP\, even if you have filled out the form to participate as a volunteer or storyteller. \nWant to practice your story before the slam? Join us for the free Pridefest StoryStarter workshop on June 1st from 12pm-1:30pm. \nLocation: Pridefest Youth Area- Henry W. Maier Festival Park (Summerfest Grounds) 200 N. Harbor Drive Milwaukee WI 53202 \nOnline registration will end at 9am CST on Sat\, June 8th. Registration will be available at the door. \n
URL:https://urbanmilwaukee.com/event/pridefest-youth-storyslam/
LOCATION:635 E. Summerfest Pl.\, Milwaukee\, WI\, 53202\, United States
CATEGORIES:Arts & Entertainment,Comedy
ATTACH;FMTTYPE=image/png:https://urbanmilwaukee.com/wp-content/uploads/2024/05/Screenshot-2024-05-21-at-11.53.08 AM.png
END:VEVENT
BEGIN:VEVENT
DTSTART;TZID=America/Chicago:20240608T140000
DTEND;TZID=America/Chicago:20240608T160000
DTSTAMP:20260423T110324
CREATED:20240530T063311Z
LAST-MODIFIED:20240530T063311Z
UID:788575-1717855200-1717862400@urbanmilwaukee.com
SUMMARY:James and the Giant Peach
DESCRIPTION:Great for kids (and nostalgic adults)! \nWhen James is sent by his conniving aunts to chop down their old fruit tree\, he discovers a magic potion that results in a tremendous peach… and launches a journey of enormous proportions. Suddenly\, James finds himself in the center of the gigantic peach – among human-sized insects with equally oversized personalities – but\, after it falls from the tree and rolls into the ocean\, the group faces hunger\, sharks and plenty of disagreements. Thanks to James’ quick wit and creative thinking\, the residents learn to live and work together as a family. The dangerous voyage is a success\, but the adventure takes a whole new twist once they land on the Empire State Building. \n​A delightfully offbeat adaptation of the classic Roald Dahl adventure\, the creative possibilities with James and the Giant Peach are endless. Featuring a wickedly tuneful score by the Tony Award-nominated team of Pasek and Paul and a curiously quirky book by Timothy Allen McDonald\, critics rave: James and the Giant Peach is a “masterpeach!” \n
URL:https://urbanmilwaukee.com/event/james-and-the-giant-peach-3/
LOCATION:255 S Water St\,\, Milwaukee\, WI\, 53204\, United States
CATEGORIES:Arts & Entertainment
ATTACH;FMTTYPE=image/jpeg:https://urbanmilwaukee.com/wp-content/uploads/2024/05/James-and-the-Giant-Peach.jpg
END:VEVENT
BEGIN:VEVENT
DTSTART;TZID=America/Chicago:20240608T170000
DTEND;TZID=America/Chicago:20240608T190000
DTSTAMP:20260423T110324
CREATED:20240530T063404Z
LAST-MODIFIED:20240530T063404Z
UID:788577-1717866000-1717873200@urbanmilwaukee.com
SUMMARY:James and the Giant Peach
DESCRIPTION:Great for kids (and nostalgic adults)! \nWhen James is sent by his conniving aunts to chop down their old fruit tree\, he discovers a magic potion that results in a tremendous peach… and launches a journey of enormous proportions. Suddenly\, James finds himself in the center of the gigantic peach – among human-sized insects with equally oversized personalities – but\, after it falls from the tree and rolls into the ocean\, the group faces hunger\, sharks and plenty of disagreements. Thanks to James’ quick wit and creative thinking\, the residents learn to live and work together as a family. The dangerous voyage is a success\, but the adventure takes a whole new twist once they land on the Empire State Building. \n​A delightfully offbeat adaptation of the classic Roald Dahl adventure\, the creative possibilities with James and the Giant Peach are endless. Featuring a wickedly tuneful score by the Tony Award-nominated team of Pasek and Paul and a curiously quirky book by Timothy Allen McDonald\, critics rave: James and the Giant Peach is a “masterpeach!” \n
URL:https://urbanmilwaukee.com/event/james-and-the-giant-peach-4/
LOCATION:255 S Water St\,\, Milwaukee\, WI\, 53204\, United States
CATEGORIES:Arts & Entertainment
ATTACH;FMTTYPE=image/jpeg:https://urbanmilwaukee.com/wp-content/uploads/2024/05/James-and-the-Giant-Peach.jpg
END:VEVENT
BEGIN:VEVENT
DTSTART;TZID=America/Chicago:20240608T173000
DTEND;TZID=America/Chicago:20240608T213000
DTSTAMP:20260423T110324
CREATED:20240530T064249Z
LAST-MODIFIED:20240530T064249Z
UID:762211-1717867800-1717882200@urbanmilwaukee.com
SUMMARY:Water Lantern Festival
DESCRIPTION:The Water Lantern Festival is bringing people together for a celebration of light and community! This unforgettable evening will be filled with tasty food trucks\, fun music\, activities\, and thousands of lanterns lighting up the night with love\, hope\, and happiness. \nThe event is taking place on Saturday\, June 8 at Veterans Park! \nTickets are selling fast! Make sure to claim yours now on our website (www.waterlanternfestival.com) and follow us on social media @waterlanternfestival. \nUse coupon code “TWINKLE5” for a $5 discount at checkout! Visit www.WaterLanternFestival.com for more details. \n
URL:https://urbanmilwaukee.com/event/water-lantern-festival/
LOCATION:1010 N Lincoln Memorial Drive\, Milwaukee\, WI\, 53202\, United States
CATEGORIES:Arts & Entertainment
ATTACH;FMTTYPE=image/jpeg:https://urbanmilwaukee.com/wp-content/uploads/2024/01/Nashville-WLF-Promo-3-scaled.jpg
END:VEVENT
BEGIN:VEVENT
DTSTART;TZID=America/Chicago:20240608T200000
DTEND;TZID=America/Chicago:20240608T220000
DTSTAMP:20260423T110324
CREATED:20240530T064406Z
LAST-MODIFIED:20240530T064406Z
UID:785629-1717876800-1717884000@urbanmilwaukee.com
SUMMARY:Laughing Liberally Milwaukee
DESCRIPTION:With right wing attacks on LGBTQ rights\, abortion rights\, voting rights and more\, we need progressive laughs now more than ever. That’s why we’re excited to present Laughing Liberally Milwaukee\, a monthly progressive political comedy show featuring Milwaukee’s top liberal and progressive comedians. \nLaughing Liberally Milwaukee is hosted by comedian\, cartoonist and satirist Matthew Filipowicz. Matthew’s work has been featured by CNN\, NPR\, PBS\, HBO\, BBC\, the New York Times\, the Wall Street Journal\, the Atlantic\, the Nation\, the London Times\, Ain’t It Cool News\, and the Huffington Post. Matthew also hosts the creatively titled Laughing Liberally Milwaukee Podcast. \nComedians on the June 8th bill include Jason Hillman\, Marcos Lara\, Alice Pauser\, Shawn Vasquez\, and sketch comedy troupe The Accountants Of Homeland Security. \nIn addition to some of the finest progressive comedians Milwaukee has to offer\, each Laughing Liberally Milwaukee features a special interview with a local activist\, journalist\, or political figure. This month’s guest is Rocky Aleman from Your Move MKE. \n
URL:https://urbanmilwaukee.com/event/laughing-liberally-milwaukee-14/
LOCATION:420 S. 1st St.\, Milwaukee\, WI\, 53202\, United States
CATEGORIES:Arts & Entertainment,Comedy,Politics
ATTACH;FMTTYPE=image/jpeg:https://urbanmilwaukee.com/wp-content/uploads/2024/05/Laughing-Liberally-MKE-2024-1920.jpg
END:VEVENT
END:VCALENDAR