BEGIN:VCALENDAR
VERSION:2.0
PRODID:-//Urban Milwaukee - ECPv4.6.9//NONSGML v1.0//EN
CALSCALE:GREGORIAN
METHOD:PUBLISH
X-WR-CALNAME:Urban Milwaukee
X-ORIGINAL-URL:https://urbanmilwaukee.com
X-WR-CALDESC:Events for Urban Milwaukee
BEGIN:VEVENT
DTSTART;TZID=America/Chicago:20240606T100000
DTEND;TZID=America/Chicago:20240606T200000
DTSTAMP:20260423T143238
CREATED:20240530T061921Z
LAST-MODIFIED:20240530T061921Z
UID:786276-1717668000-1717704000@urbanmilwaukee.com
SUMMARY:Free Day + Celebration: Freedom!
DESCRIPTION:Join the Milwaukee Art Museum at the intersection of Pride and Juneteenth for a Free Day + Celebration in support of a more inclusive Milwaukee. Celebrate Black and LGBTQIA+ communities and freedom through campus-wide activities featuring artists and experts. Come as you are to enjoy free Museum admission and all-ages fun\, including art making\, music\, and yoga. \n
URL:https://urbanmilwaukee.com/event/free-day-celebration-freedom/
LOCATION:700 N Art Museum Dr\, Milwaukee\, WI\, 53202\, United States
CATEGORIES:Arts & Entertainment
ATTACH;FMTTYPE=image/jpeg:https://urbanmilwaukee.com/wp-content/uploads/2024/05/free-day-celeb-event-header.jpg
END:VEVENT
BEGIN:VEVENT
DTSTART;TZID=America/Chicago:20240606T181500
DTEND;TZID=America/Chicago:20240606T191500
DTSTAMP:20260423T143238
CREATED:20240530T062048Z
LAST-MODIFIED:20240530T062408Z
UID:786278-1717697700-1717701300@urbanmilwaukee.com
SUMMARY:Lecture: Valerie Cassel Oliver on Sam Gilliam
DESCRIPTION:Join distinguished curator and scholar Valerie Cassel Oliver\, Sydney and Frances Lewis Family Curator of Modern and Contemporary Art at the Virginia Museum of Fine Arts\, for a presentation on the revolutionary work of Sam Gilliam (1933–2022).This presentation highlights Gilliam’s “Carousel Merge 2\,” currently on view in the Museum’s gallery K119. Explore Gilliam’s legacy\, his influence on Abstract Expressionism\, and why his drape paintings dramatically altered the medium. \n
URL:https://urbanmilwaukee.com/event/lecture-valerie-cassel-oliver-on-sam-gilliam/
LOCATION:700 N Art Museum Dr\, Milwaukee\, WI\, 53202\, United States
CATEGORIES:Arts & Entertainment
ATTACH;FMTTYPE=image/jpeg:https://urbanmilwaukee.com/wp-content/uploads/2024/05/carousel-merge-II_gilliam.jpg
END:VEVENT
BEGIN:VEVENT
DTSTART;TZID=America/Chicago:20240606T190000
DTEND;TZID=America/Chicago:20240606T210000
DTSTAMP:20260423T143238
CREATED:20240530T063156Z
LAST-MODIFIED:20240530T063156Z
UID:786293-1717700400-1717707600@urbanmilwaukee.com
SUMMARY:James and the Giant Peach
DESCRIPTION:Great for kids (and nostalgic adults)! \nWhen James is sent by his conniving aunts to chop down their old fruit tree\, he discovers a magic potion that results in a tremendous peach… and launches a journey of enormous proportions. Suddenly\, James finds himself in the center of the gigantic peach – among human-sized insects with equally oversized personalities – but\, after it falls from the tree and rolls into the ocean\, the group faces hunger\, sharks and plenty of disagreements. Thanks to James’ quick wit and creative thinking\, the residents learn to live and work together as a family. The dangerous voyage is a success\, but the adventure takes a whole new twist once they land on the Empire State Building. \n​A delightfully offbeat adaptation of the classic Roald Dahl adventure\, the creative possibilities with James and the Giant Peach are endless. Featuring a wickedly tuneful score by the Tony Award-nominated team of Pasek and Paul and a curiously quirky book by Timothy Allen McDonald\, critics rave: James and the Giant Peach is a “masterpeach!” \n
URL:https://urbanmilwaukee.com/event/james-and-the-giant-peach/
LOCATION:255 S Water St\,\, Milwaukee\, WI\, 53204\, United States
CATEGORIES:Arts & Entertainment
ATTACH;FMTTYPE=image/jpeg:https://urbanmilwaukee.com/wp-content/uploads/2024/05/James-and-the-Giant-Peach.jpg
END:VEVENT
END:VCALENDAR