BEGIN:VCALENDAR
VERSION:2.0
PRODID:-//Urban Milwaukee - ECPv4.6.9//NONSGML v1.0//EN
CALSCALE:GREGORIAN
METHOD:PUBLISH
X-WR-CALNAME:Urban Milwaukee
X-ORIGINAL-URL:https://urbanmilwaukee.com
X-WR-CALDESC:Events for Urban Milwaukee
BEGIN:VEVENT
DTSTART;TZID=America/Chicago:20240602T063000
DTEND;TZID=America/Chicago:20240602T120000
DTSTAMP:20260423T202650
CREATED:20240530T061413Z
LAST-MODIFIED:20240530T061413Z
UID:765662-1717309800-1717329600@urbanmilwaukee.com
SUMMARY:The UPAF Ride for the Arts presented by Miller Lite
DESCRIPTION:The UPAF Ride for the Arts\, presented by Miller Lite\, is BACK on Sunday\, June 2\, 2024. \nEnjoy the spectacular views of our city from the Hoan Bridge and remind yourself what makes Milwaukee so great as you ride along Lake Michigan on Lincoln Memorial Drive. NEW this year\, enjoy live performances\, family activities and excitement at UPAFest\, the official finish line party at Henry Maier Festival Park. \nThere is a route for all ages and abilities ranging from 7 to 20 miles (that can be repeated for those who want a longer distance) in addition to our 1.5 mile Arts Path through Lakeshore State Park\, perfect for kids and families! \nRegister today at UPAFRide.org. \nPrice: $55 for adults\, Kids 12 and under Ride free thanks to the Brewers Community Foundation \n
URL:https://urbanmilwaukee.com/event/the-upaf-ride-for-the-arts-presented-by-miller-lite/
CATEGORIES:Arts & Entertainment,Fundraiser
ATTACH;FMTTYPE=image/png:https://urbanmilwaukee.com/wp-content/uploads/2024/02/UPAF-RIDE.png
END:VEVENT
BEGIN:VEVENT
DTSTART;TZID=America/Chicago:20240602T100000
DTEND;TZID=America/Chicago:20240602T150000
DTSTAMP:20260423T202650
CREATED:20240515T231829Z
LAST-MODIFIED:20240515T231829Z
UID:785941-1717322400-1717340400@urbanmilwaukee.com
SUMMARY:Riverwest Farmers Market
DESCRIPTION:The Riverwest Farmers Market is held Sundays\, June 2 through Oct. 27\, 2024\, from 10:00 a.m. to 3:00 p.m. at 2700 N. Pierce St. between Center and Hadley streets in the heart of the Riverwest neighborhood of Milwaukee. There will be no market on July 7. \nThe market offers a plethora of seasonal fruits and vegetables\, local honey and eggs\, freshly made bread\, sweet bakery items\, handcrafted body care items\, and heaping bouquets of flowers. Our mission is to make fresh\, naturally grown\, local food accessible to all. \nVisit our Taste It Tent on June 30\, July 28\, Aug. 25\, Sept. 22 and Oct. 13 \nAt the Taste It Tent\, visitors can sample an array of fresh fruits and vegetables\, discover creative ways to incorporate them into their daily meals\, and learn about the benefits of a wholesome diet. By encouraging more people to visit the markets\, we not only support our hardworking farmers but also foster education and health within our communities. \n
URL:https://urbanmilwaukee.com/event/riverwest-farmers-market/
LOCATION:2700 N. Pierce St.\, Milwaukee
CATEGORIES:Food & Drink
ATTACH;FMTTYPE=image/jpeg:https://urbanmilwaukee.com/wp-content/uploads/2024/05/Riverwest-Farmers-Marketj.jpg
END:VEVENT
BEGIN:VEVENT
DTSTART;TZID=America/Chicago:20240602T110000
DTEND;TZID=America/Chicago:20240602T150000
DTSTAMP:20260423T202650
CREATED:20240530T061801Z
LAST-MODIFIED:20240530T061801Z
UID:786209-1717326000-1717340400@urbanmilwaukee.com
SUMMARY:Food Trucks and Jazz
DESCRIPTION:Ten great Milwaukee food trucks! Check the website for a full list of trucks. Come for the food\, stay for the jazz! \nTwo great Milwaukee jazz bands!  Hear all your favorite jazz standards by The E.P. Jazz Combo from 11 a.m. 1 p.m. Then from 1 p.m. to 3 p.m. hear the versatility and virtuosity of one of Milwaukee’s best jazz bands; The J Ryan Trio! \nThere’s a playground and bag toss games for the kids. Also $6 flower pot decorating for the kids. Buy a pot\, get paint\, decorations\, a plant to plant and a fabulous photo opportunity! \nThis event is a fund raiser for THE ROTARY CLUB OF MITCHELL FIELD. Proceeds from beverage sales benefit local charity projects and Rotary International’s END POLIO NOW! We are very\, very close to eliminating polio from our planet! \nWant to be a Vendor? Information at www.foodtruckfrenzy.org. \n
URL:https://urbanmilwaukee.com/event/food-trucks-and-jazz/
LOCATION:4230 Kirkwood Ave\, St. Francis\, WI\, 53235\, United States
CATEGORIES:Arts & Entertainment,Food & Drink,Fundraiser
ATTACH;FMTTYPE=image/jpeg:https://urbanmilwaukee.com/wp-content/uploads/2024/05/XvnV6VZO2UOP9pMzMjVweA.large_.jpg
END:VEVENT
END:VCALENDAR