BEGIN:VCALENDAR
VERSION:2.0
PRODID:-//Urban Milwaukee - ECPv4.6.9//NONSGML v1.0//EN
CALSCALE:GREGORIAN
METHOD:PUBLISH
X-WR-CALNAME:Urban Milwaukee
X-ORIGINAL-URL:https://urbanmilwaukee.com
X-WR-CALDESC:Events for Urban Milwaukee
BEGIN:VEVENT
DTSTART;TZID=America/Chicago:20240525T090000
DTEND;TZID=America/Chicago:20240525T130000
DTSTAMP:20260424T075816
CREATED:20240515T200047Z
LAST-MODIFIED:20240515T204826Z
UID:785728-1716627600-1716642000@urbanmilwaukee.com
SUMMARY:Oak Creek Farmers Market
DESCRIPTION:The Oak Creek Farmers Market is held Saturdays\, May 11 through Oct. 19\, 2024\, from 9:00 a.m. to 1:00 p.m. at Drexel Town Square. \nThe market offers locally grown farm fresh foods\, such as vine-ripened produce and fruits\, cheeses\, eggs\, meats\, honey\, and flowers. Seasonal items\, such as strawberries\, apples\, and sweetcorn\, are also available at their peak of freshness. The proximity to the businesses within Drexel Town Square\, offers patrons a wide variety of food and beverage options to enjoy before\, during\, and after their time at the market. \nVisit our Taste It Tent each week. \nAt the Taste It Tent\, visitors can sample an array of fresh fruits and vegetables\, discover creative ways to incorporate them into their daily meals\, and learn about the benefits of a wholesome diet. By encouraging more people to visit the markets\, we not only support our hardworking farmers but also foster education and health within our communities. \n
URL:https://urbanmilwaukee.com/event/oak-creek-farmers-market-3/
LOCATION:361 W. Town Square Way\, Oak Creek\, WI\, 53154\, United States
CATEGORIES:Food & Drink
ATTACH;FMTTYPE=image/jpeg:https://urbanmilwaukee.com/wp-content/uploads/2024/05/oak-creek.jpg
END:VEVENT
BEGIN:VEVENT
DTSTART;TZID=America/Chicago:20240525T100000
DTEND;TZID=America/Chicago:20240525T180000
DTSTAMP:20260424T075816
CREATED:20240522T154837Z
LAST-MODIFIED:20240522T154837Z
UID:776716-1716631200-1716660000@urbanmilwaukee.com
SUMMARY:Ikea Family Kite Festival
DESCRIPTION:On Saturday\, May 25th\, and Sunday May 26th\, Gift of Wings is hosting The Gift of Wings IKEA Family Kite Festival. The festival has been running for 37 Years in Veterans Park\, a Milwaukee County Park\, on Milwaukee’s lakefront. The event will begin at 10:00 am\, through 6:00 pm\, (5 pm Sunday) with the GRAND LAUNCH of 600+ kites at NOON! http://www.youtube.com/watch?v=xrNgcpp5Mn8 \nFor the 13th time in Milwaukee\, The Fabulous Windjammers precision kite flying team will be performing three times each day during this event. They are the world – renowned professional kite flying team from Detroit.\nThe Chicago Fire kite Team will also be flying with all six members for the 23nd straight year. http://www.youtube.com/watch?v=d5J5X2dKmr0 \nIn addition\, Yves Laforest and the Canadian Dream Team from Montreal\, Quebec\, will be making their 23rd appearance with their 2 large Super Giant Whale kites\, and their 120 ft Trilobite kite\, and the all new GIANT IKEA Shark kite\, a Family Kite Festival Exclusive. http://www.youtube.com/watch?v=mIQHOrtUCrk\nMilwaukee’s own Mike Delfar and Paul Koepke\, all Professional kite flyers\, will also be performing. Jean Lemire from Montreal will attempt to fly three dual line stunt kites all at the same time. Free Kite Flying lessons from the Kite Whispererers\, Brett Williams and Jim Cosca. \nWe will also be giving away free kites to the first 100 kids that participate in the Mad City Windows “KIDS MAD DASH”. Imagine 100 kids launching their kites all at the same time. LOOK OUT!! Gift of Wings will be selling Kites and food during the event. It’s all new this Spring!!\nThe IKEA FAMILY KITE FESTIVAL… AIM HIGH..SIKTA HÖGT… is a FREE event\, with plenty of FREE parking! \n
URL:https://urbanmilwaukee.com/event/ikea-family-kite-festival-2/
LOCATION:1010 N Lincoln Memorial Drive\, Milwaukee\, WI\, 53202\, United States
CATEGORIES:Arts & Entertainment
ATTACH;FMTTYPE=image/jpeg:https://urbanmilwaukee.com/wp-content/uploads/2024/03/Grand-Launch.jpg
END:VEVENT
BEGIN:VEVENT
DTSTART;TZID=America/Chicago:20240525T140000
DTEND;TZID=America/Chicago:20240525T170000
DTSTAMP:20260424T075816
CREATED:20240522T155134Z
LAST-MODIFIED:20240522T155134Z
UID:774429-1716645600-1716656400@urbanmilwaukee.com
SUMMARY:Moulin Rouge! The Musical
DESCRIPTION:Pop the champagne\, MOULIN ROUGE! THE MUSICAL is the winner of 10 Tony Awards® — including Best Musical! \nEnter a world of splendor and romance\, of eye-popping excess\, of glitz\, grandeur\, and glory! A world where Bohemians and aristocrats rub elbows and revel in electrifying enchantment. Welcome to MOULIN ROUGE! THE MUSICAL! Baz Luhrmann’s revolutionary film comes to life onstage\, remixed in a new musical mash-up extravaganza. Directed by Tony Award® winner Alex Timbers\, MOULIN ROUGE! THE MUSICAL is a theatrical celebration of Truth\, Beauty\, Freedom\, and — above all — Love. With a book by Tony Award® winner John Logan; music supervision\, orchestrations\, and arrangements by Tony Award® winner Justin Levine; and choreography by Tony Award® winner Sonya Tayeh\, MOULIN ROUGE! is more than a musical — it is a state of mind. \n“Eye-popping spectacle and off-the-charts energy”\n-David Rooney\, The Hollywood Reporter \n“Euphoric. Gasp-inducing. Forbidden pleasures abound in this SPECTACULAR musical. In ‘Moulin Rouge\,’ life is beautiful.”\n-Ben Brantley\, The New York Times \n“A knockout night at the theater…an emotional wallop.”\n-Alexandra Starr\, NPR \n
URL:https://urbanmilwaukee.com/event/moulin-rouge-the-musical-9/
LOCATION:929 N. Water St.\, Milwaukee\, WI\, 53202\, United States
CATEGORIES:Arts & Entertainment
ATTACH;FMTTYPE=image/jpeg:https://urbanmilwaukee.com/wp-content/uploads/2024/03/1788-Courtney-Reed-and-Conor-Ryan-in-the-North-American-Tour-of-Moulin-Rouge-The-Musical-photo-by-Matthew-Murphy-for-MurphyMade-12-scaled.jpg
END:VEVENT
BEGIN:VEVENT
DTSTART;TZID=America/Chicago:20240525T180000
DTEND;TZID=America/Chicago:20240525T210000
DTSTAMP:20260424T075816
CREATED:20240522T155247Z
LAST-MODIFIED:20240625T154113Z
UID:773755-1716660000-1716670800@urbanmilwaukee.com
SUMMARY:The Dinner Detective
DESCRIPTION:The Dinner Detective invites YOU to join us for a night full of mystery and mayhem with lots of laughs along the way! Everyone is a SUSPECT and the crime could be happening right at YOUR table! No cheesy costumes\, no hokey song and dance. Based on actual cold cases\, prizes are available for the TOP SLEUTH. Get your tickets now before it’s too late! \n
URL:https://urbanmilwaukee.com/event/the-dinner-detective-milwaukee-11/
LOCATION:333 W Kilbourn Ave\, Milwaukee\, WI\, 53203
CATEGORIES:Arts & Entertainment,Comedy,Food & Drink
ATTACH;FMTTYPE=image/jpeg:https://urbanmilwaukee.com/wp-content/uploads/2024/03/DD-Detective-Image-1-1.jpg
END:VEVENT
BEGIN:VEVENT
DTSTART;TZID=America/Chicago:20240525T193000
DTEND;TZID=America/Chicago:20240525T223000
DTSTAMP:20260424T075816
CREATED:20240522T155353Z
LAST-MODIFIED:20240522T155353Z
UID:774431-1716665400-1716676200@urbanmilwaukee.com
SUMMARY:Moulin Rouge! The Musical
DESCRIPTION:Pop the champagne\, MOULIN ROUGE! THE MUSICAL is the winner of 10 Tony Awards® — including Best Musical! \nEnter a world of splendor and romance\, of eye-popping excess\, of glitz\, grandeur\, and glory! A world where Bohemians and aristocrats rub elbows and revel in electrifying enchantment. Welcome to MOULIN ROUGE! THE MUSICAL! Baz Luhrmann’s revolutionary film comes to life onstage\, remixed in a new musical mash-up extravaganza. Directed by Tony Award® winner Alex Timbers\, MOULIN ROUGE! THE MUSICAL is a theatrical celebration of Truth\, Beauty\, Freedom\, and — above all — Love. With a book by Tony Award® winner John Logan; music supervision\, orchestrations\, and arrangements by Tony Award® winner Justin Levine; and choreography by Tony Award® winner Sonya Tayeh\, MOULIN ROUGE! is more than a musical — it is a state of mind. \n“Eye-popping spectacle and off-the-charts energy”\n-David Rooney\, The Hollywood Reporter \n“Euphoric. Gasp-inducing. Forbidden pleasures abound in this SPECTACULAR musical. In ‘Moulin Rouge\,’ life is beautiful.”\n-Ben Brantley\, The New York Times \n“A knockout night at the theater…an emotional wallop.”\n-Alexandra Starr\, NPR \n
URL:https://urbanmilwaukee.com/event/moulin-rouge-the-musical-10/
LOCATION:929 N. Water St.\, Milwaukee\, WI\, 53202\, United States
CATEGORIES:Arts & Entertainment
ATTACH;FMTTYPE=image/jpeg:https://urbanmilwaukee.com/wp-content/uploads/2024/03/1788-Courtney-Reed-and-Conor-Ryan-in-the-North-American-Tour-of-Moulin-Rouge-The-Musical-photo-by-Matthew-Murphy-for-MurphyMade-13-scaled.jpg
END:VEVENT
BEGIN:VEVENT
DTSTART;TZID=America/Chicago:20240525T193000
DTEND;TZID=America/Chicago:20240525T213000
DTSTAMP:20260424T075816
CREATED:20240523T063735Z
LAST-MODIFIED:20240604T122804Z
UID:787319-1716665400-1716672600@urbanmilwaukee.com
SUMMARY:Wisconsin Premiere of Maeve's Camellia
DESCRIPTION:Wisconsin Premiere of a new play written and directed by Kim E. Ruyle.\nProduced by Selective Shows LLC. \nStarring Carrie Counihan and Ben Ruyle\nThe first date between Maeve\, a PhD psychologist\, and Rob\, a blue-collar welder\, turns into a weekend whirlwind of sensuality\, conflict\, and surprises as this unlikely couple explores attraction\, compatibility\, and love later in life. Their verbal swordplay slices away layers to reveal the inner lives of these vibrant mature characters. Sometimes amusing\, other times painful\, their banter takes them to a place they could not have predicted and leads to a stunning conclusion. \nRun time is approximately 2 hours. R-rated for nudity and adult content. \nMay 17-19 and 24-26\, 2024. Fri and Sat at 7:30pm\, Sun at 2pm. \nFollow Maeve’s Camellia on Facebook for more information!\nhttps://www.facebook.com/people/Maeves-Camellia/61556686190037/?mibextid=LQQJ4d \n
URL:https://urbanmilwaukee.com/event/wisconsin-premiere-of-maeves-camellia-2/
LOCATION:628 N 10th St\, Milwaukee\, WI\, 53233\, United States
CATEGORIES:Arts & Entertainment
ATTACH;FMTTYPE=image/png:https://urbanmilwaukee.com/wp-content/uploads/2024/03/Maeves-Camellia_AdShepEx.png
END:VEVENT
END:VCALENDAR