BEGIN:VCALENDAR
VERSION:2.0
PRODID:-//Urban Milwaukee - ECPv4.6.9//NONSGML v1.0//EN
CALSCALE:GREGORIAN
METHOD:PUBLISH
X-WR-CALNAME:Urban Milwaukee
X-ORIGINAL-URL:https://urbanmilwaukee.com
X-WR-CALDESC:Events for Urban Milwaukee
BEGIN:VEVENT
DTSTART;TZID=America/Chicago:20240524T193000
DTEND;TZID=America/Chicago:20240524T213000
DTSTAMP:20260424T092814
CREATED:20240514T062227Z
LAST-MODIFIED:20240604T122618Z
UID:775385-1716579000-1716586200@urbanmilwaukee.com
SUMMARY:Wisconsin Premiere of Maeve's Camellia
DESCRIPTION:Wisconsin Premiere of a new play written and directed by Kim E. Ruyle.\nProduced by Selective Shows LLC. \nStarring Carrie Counihan and Ben Ruyle\nThe first date between Maeve\, a PhD psychologist\, and Rob\, a blue-collar welder\, turns into a weekend whirlwind of sensuality\, conflict\, and surprises as this unlikely couple explores attraction\, compatibility\, and love later in life. Their verbal swordplay slices away layers to reveal the inner lives of these vibrant mature characters. Sometimes amusing\, other times painful\, their banter takes them to a place they could not have predicted and leads to a stunning conclusion. \nRun time is approximately 2 hours. R-rated for nudity and adult content. \nMay 17-19 and 24-26\, 2024. Fri and Sat at 7:30pm\, Sun at 2pm. \nFollow Maeve’s Camellia on Facebook for more information!\nhttps://www.facebook.com/people/Maeves-Camellia/61556686190037/?mibextid=LQQJ4d \n
URL:https://urbanmilwaukee.com/event/wisconsin-premiere-of-maeves-camellia/
LOCATION:628 N 10th St\, Milwaukee\, WI\, 53233\, United States
CATEGORIES:Arts & Entertainment
ATTACH;FMTTYPE=image/png:https://urbanmilwaukee.com/wp-content/uploads/2024/03/Maeves-Camellia_AdShepEx.png
END:VEVENT
BEGIN:VEVENT
DTSTART;TZID=America/Chicago:20240524T193000
DTEND;TZID=America/Chicago:20240524T223000
DTSTAMP:20260424T092814
CREATED:20240522T154449Z
LAST-MODIFIED:20240522T154449Z
UID:774427-1716579000-1716589800@urbanmilwaukee.com
SUMMARY:Moulin Rouge! The Musical
DESCRIPTION:Pop the champagne\, MOULIN ROUGE! THE MUSICAL is the winner of 10 Tony Awards® — including Best Musical! \nEnter a world of splendor and romance\, of eye-popping excess\, of glitz\, grandeur\, and glory! A world where Bohemians and aristocrats rub elbows and revel in electrifying enchantment. Welcome to MOULIN ROUGE! THE MUSICAL! Baz Luhrmann’s revolutionary film comes to life onstage\, remixed in a new musical mash-up extravaganza. Directed by Tony Award® winner Alex Timbers\, MOULIN ROUGE! THE MUSICAL is a theatrical celebration of Truth\, Beauty\, Freedom\, and — above all — Love. With a book by Tony Award® winner John Logan; music supervision\, orchestrations\, and arrangements by Tony Award® winner Justin Levine; and choreography by Tony Award® winner Sonya Tayeh\, MOULIN ROUGE! is more than a musical — it is a state of mind. \n“Eye-popping spectacle and off-the-charts energy”\n-David Rooney\, The Hollywood Reporter \n“Euphoric. Gasp-inducing. Forbidden pleasures abound in this SPECTACULAR musical. In ‘Moulin Rouge\,’ life is beautiful.”\n-Ben Brantley\, The New York Times \n“A knockout night at the theater…an emotional wallop.”\n-Alexandra Starr\, NPR \n
URL:https://urbanmilwaukee.com/event/moulin-rouge-the-musical-8/
LOCATION:929 N. Water St.\, Milwaukee\, WI\, 53202\, United States
CATEGORIES:Arts & Entertainment
ATTACH;FMTTYPE=image/jpeg:https://urbanmilwaukee.com/wp-content/uploads/2024/03/1788-Courtney-Reed-and-Conor-Ryan-in-the-North-American-Tour-of-Moulin-Rouge-The-Musical-photo-by-Matthew-Murphy-for-MurphyMade-11-scaled.jpg
END:VEVENT
BEGIN:VEVENT
DTSTART;TZID=America/Chicago:20240524T200000
DTEND;TZID=America/Chicago:20240524T230000
DTSTAMP:20260424T092814
CREATED:20240523T064149Z
LAST-MODIFIED:20240523T064149Z
UID:787137-1716580800-1716591600@urbanmilwaukee.com
SUMMARY:Moonglow + Hanna Simone + Josh Trimble and the Juice
DESCRIPTION:Join Anodyne Coffee Roasting Co. for an evening of live music featuring Moonglow\, Hanna Simone and Josh Trimble and the Juice! \nMoonglow is a pop-soul band fueled by the cosmic love-vibrations emanated from moonlit drives down ethereal boulevards. The band features the dynamic vocals and keyboard playing of leader Joe\, driving funky riffs from guitarist Isaac\, a Pop/Soul backbeat provided by rhythm section Brent and Sterling on bass and drums\, and the unmatched sultry saxophone playing provided by Tyler. Their live shows aim to get you groovin’ and tug on your nostalgic heart strings. \nHanna Simone is a 25 year old American singer songwriter from Milwaukee\, Wisconsin. \nInfluenced by Brandi Carlile\, Jewel\, and Adele. In a live setting\, a driving passion is evident as her blues vocals blend with the high-energy rock edge provided by the musicianship and creativity of her band. Intricate lyrics\, matched with her timbre\, demonstrate her musical sensibilities as an independent artist. Hanna aims to persuade the audience to feel a real musical connection and intimacy with lyrical vulnerability and honesty. \nJosh Trimble was born and raised in Milwaukee\, Wisconsin. He currently resides in Chicago where he is recording and co-producing his debut project\, “Love & Adolescence” along side his dear friend and fellow creative\, Liam Hartnett. \nTickets are $12 in advance or $15 day of show. \n
URL:https://urbanmilwaukee.com/event/moonglow-hanna-simone-josh-trimble-and-the-juice/
LOCATION:224 W. Bruce St.\, Milwaukee\, WI\, 53204\, United States
CATEGORIES:Arts & Entertainment
ATTACH;FMTTYPE=image/jpeg:https://urbanmilwaukee.com/wp-content/uploads/2021/11/dsc01852.jpg
END:VEVENT
END:VCALENDAR