BEGIN:VCALENDAR
VERSION:2.0
PRODID:-//Urban Milwaukee - ECPv4.6.9//NONSGML v1.0//EN
CALSCALE:GREGORIAN
METHOD:PUBLISH
X-WR-CALNAME:Urban Milwaukee
X-ORIGINAL-URL:https://urbanmilwaukee.com
X-WR-CALDESC:Events for Urban Milwaukee
BEGIN:VEVENT
DTSTART;TZID=America/Chicago:20240519T133000
DTEND;TZID=America/Chicago:20240519T160000
DTSTAMP:20260424T172241
CREATED:20240516T112441Z
LAST-MODIFIED:20240516T112441Z
UID:737151-1716125400-1716134400@urbanmilwaukee.com
SUMMARY:Milwaukee Ballet Presents: MKE MIX
DESCRIPTION:Experience ballet at its most modern in MKE MIX\, our new contemporary triple-bill series at the historic Pabst Theater. In three creative pieces\, our choreographers and dancers will challenge the definition of ballet and showcase the startling and thrilling ways ballet has evolved in the twenty-first century. \n
URL:https://urbanmilwaukee.com/event/milwaukee-ballet-presents-mke-mix-4/
LOCATION:144 E. Wells St.\, Milwaukee\, WI\, 53202
CATEGORIES:Arts & Entertainment
ATTACH;FMTTYPE=image/jpeg:https://urbanmilwaukee.com/wp-content/uploads/2023/08/MKE-MIX-3.jpg
END:VEVENT
END:VCALENDAR