BEGIN:VCALENDAR
VERSION:2.0
PRODID:-//Urban Milwaukee - ECPv4.6.9//NONSGML v1.0//EN
CALSCALE:GREGORIAN
METHOD:PUBLISH
X-WR-CALNAME:Urban Milwaukee
X-ORIGINAL-URL:https://urbanmilwaukee.com
X-WR-CALDESC:Events for Urban Milwaukee
BEGIN:VEVENT
DTSTART;TZID=America/Chicago:20240518T090000
DTEND;TZID=America/Chicago:20240518T130000
DTSTAMP:20260424T185008
CREATED:20240515T195802Z
LAST-MODIFIED:20240515T204836Z
UID:785724-1716022800-1716037200@urbanmilwaukee.com
SUMMARY:Oak Creek Farmers Market
DESCRIPTION:The Oak Creek Farmers Market is held Saturdays\, May 11 through Oct. 19\, 2024\, from 9:00 a.m. to 1:00 p.m. at Drexel Town Square. \nThe market offers locally grown farm fresh foods\, such as vine-ripened produce and fruits\, cheeses\, eggs\, meats\, honey\, and flowers. Seasonal items\, such as strawberries\, apples\, and sweetcorn\, are also available at their peak of freshness. The proximity to the businesses within Drexel Town Square\, offers patrons a wide variety of food and beverage options to enjoy before\, during\, and after their time at the market. \nVisit our Taste It Tent each week. \nAt the Taste It Tent\, visitors can sample an array of fresh fruits and vegetables\, discover creative ways to incorporate them into their daily meals\, and learn about the benefits of a wholesome diet. By encouraging more people to visit the markets\, we not only support our hardworking farmers but also foster education and health within our communities. \n
URL:https://urbanmilwaukee.com/event/oak-creek-farmers-market-2/
LOCATION:361 W. Town Square Way\, Oak Creek\, WI\, 53154\, United States
CATEGORIES:Food & Drink
ATTACH;FMTTYPE=image/jpeg:https://urbanmilwaukee.com/wp-content/uploads/2024/05/oak-creek.jpg
END:VEVENT
BEGIN:VEVENT
DTSTART;TZID=America/Chicago:20240518T100000
DTEND;TZID=America/Chicago:20240518T150000
DTSTAMP:20260424T185008
CREATED:20240514T062434Z
LAST-MODIFIED:20240514T062434Z
UID:775990-1716026400-1716044400@urbanmilwaukee.com
SUMMARY:Family Generations Expo
DESCRIPTION:Grandparents\, parents and grandchildren will enjoy the fun and festivities at the FREE indoor Family Generations Expo. There will be a variety of games and activities including a Barbie photo booth\, Hot Wheels racing\, Magna Tiles\, Pac Man\, bean bag toss\, dance mats\, Rock’ Em Sock’ Em Robots\, putting green\, life size version of Operation\, Pong and more. Enter the free hourly drawings for a Visa gift card. \nA variety of companies and agencies will be on hand providing beneficial and practical information. From home improvement projects to financial planning\, Social Security details to Medicare plans\, health care tips to retirement communities\, you’ll find the answers and resources you want\, all in one place! \nTake advantage of a variety of free health screenings which will be available including blood pressure\, body mass index (BMI)\, memory\, hearing and balance. \nMake informed decisions for one’s health and security by attending one of the free educational seminars about Medicare plans or get assistance with understanding and completing the documentation needed to have a Power of Attorney for Healthcare (POA). \nGrandparents and parents won’t want to miss taking a trip down memory lane in Toy Town to see nostalgic toys from past decades. Vote for your favorite toy and receive a free gift. Then the whole family can take a break and relax with a beverage and snack in the indoor beer and soda garden. \nThere will be something for everyone of all ages from 5 to 95 at the free Family Generations Expo. For more information and to register for 2 free raffle tickets for the hourly gift card drawings visit www.FamilyGenerationsExpo.com \n
URL:https://urbanmilwaukee.com/event/family-generations-expo/
LOCATION:6000 W. Ryan Rd\, Franklin\, WI\, 53132\, United States
CATEGORIES:Kids
ATTACH;FMTTYPE=image/jpeg:https://urbanmilwaukee.com/wp-content/uploads/2024/03/Expo-logo-jpg.jpg
END:VEVENT
BEGIN:VEVENT
DTSTART;TZID=America/Chicago:20240518T120000
DTEND;TZID=America/Chicago:20240518T150000
DTSTAMP:20260424T185008
CREATED:20240511T064921Z
LAST-MODIFIED:20240511T064921Z
UID:785088-1716033600-1716044400@urbanmilwaukee.com
SUMMARY:Senior Screenings
DESCRIPTION:Thursday\, May 16 | 7 p.m.\nFriday\, May 17 | 3 p.m. and 7 p.m.\nSaturday\, May 18 | 12 p.m. and 3 p.m. \nThe Department of Film\, Video\, Animation & New Genres is proud to celebrate the graduating class of 2024 and their fantastic thesis films! Seniors work all year on their thesis films; writing\, directing\, producing\, editing\, and polishing these films. Come celebrate their hard work and watch some of the most unique and exciting films from the next generation of artists and filmmakers coming out of Milwaukee! \nWe are proud to collaborate with the UWM Union Cinema to put on a multi-day event! Join us in celebrating their incredible achievement! \nThere will also be a virtual edition of the programs online for those unable to attend in person. Stay tuned for more information on specific programs as we get closer to the screening dates. \n
URL:https://urbanmilwaukee.com/event/senior-screenings-3/
LOCATION:2200 E Kenwood Blvd\, Milwaukee\, WI\, Milwaukee\, 53211\, United States
CATEGORIES:Arts & Entertainment
ATTACH;FMTTYPE=image/jpeg:https://urbanmilwaukee.com/wp-content/uploads/2024/05/2023-Senior-Screenings-1-scaled-e1701183486742.jpg
END:VEVENT
BEGIN:VEVENT
DTSTART;TZID=America/Chicago:20240518T140000
DTEND;TZID=America/Chicago:20240518T170000
DTSTAMP:20260424T185008
CREATED:20240514T062551Z
LAST-MODIFIED:20240514T062551Z
UID:774411-1716040800-1716051600@urbanmilwaukee.com
SUMMARY:Moulin Rouge! The Musical
DESCRIPTION:Pop the champagne\, MOULIN ROUGE! THE MUSICAL is the winner of 10 Tony Awards® — including Best Musical! \nEnter a world of splendor and romance\, of eye-popping excess\, of glitz\, grandeur\, and glory! A world where Bohemians and aristocrats rub elbows and revel in electrifying enchantment. Welcome to MOULIN ROUGE! THE MUSICAL! Baz Luhrmann’s revolutionary film comes to life onstage\, remixed in a new musical mash-up extravaganza. Directed by Tony Award® winner Alex Timbers\, MOULIN ROUGE! THE MUSICAL is a theatrical celebration of Truth\, Beauty\, Freedom\, and — above all — Love. With a book by Tony Award® winner John Logan; music supervision\, orchestrations\, and arrangements by Tony Award® winner Justin Levine; and choreography by Tony Award® winner Sonya Tayeh\, MOULIN ROUGE! is more than a musical — it is a state of mind. \n“Eye-popping spectacle and off-the-charts energy”\n-David Rooney\, The Hollywood Reporter \n“Euphoric. Gasp-inducing. Forbidden pleasures abound in this SPECTACULAR musical. In ‘Moulin Rouge\,’ life is beautiful.”\n-Ben Brantley\, The New York Times \n“A knockout night at the theater…an emotional wallop.”\n-Alexandra Starr\, NPR \n
URL:https://urbanmilwaukee.com/event/moulin-rouge-the-musical-5/
LOCATION:929 N. Water St.\, Milwaukee\, WI\, 53202\, United States
CATEGORIES:Arts & Entertainment
ATTACH;FMTTYPE=image/jpeg:https://urbanmilwaukee.com/wp-content/uploads/2024/03/1788-Courtney-Reed-and-Conor-Ryan-in-the-North-American-Tour-of-Moulin-Rouge-The-Musical-photo-by-Matthew-Murphy-for-MurphyMade-4-scaled.jpg
END:VEVENT
BEGIN:VEVENT
DTSTART;TZID=America/Chicago:20240518T150000
DTEND;TZID=America/Chicago:20240518T170000
DTSTAMP:20260424T185008
CREATED:20240514T062651Z
LAST-MODIFIED:20240514T062651Z
UID:763180-1716044400-1716051600@urbanmilwaukee.com
SUMMARY:Piano Men 2
DESCRIPTION:Come ready to laugh\, clap and sing along as two virtuoso pianists play dazzling renditions of YOUR favorite hits\, live! Piano Men 2 transforms the Stackner Cabaret into a sizzling\, anything-can-happen Piano Bar where the best of rock\, pop\, classical\, Broadway and more combine to create an unforgettable and unbelievably fun experience. No two shows are ever the same\, so bring your song requests as this hit production makes its return by popular demand. \nCreated by Mark Clements \n
URL:https://urbanmilwaukee.com/event/piano-men-2-33/
LOCATION:108 E. Wells St.\, Milwaukee\, WI\, 53202\, United States
CATEGORIES:Arts & Entertainment
ATTACH;FMTTYPE=image/png:https://urbanmilwaukee.com/wp-content/uploads/2024/01/Piano-Men-2-1200x900-60.png
END:VEVENT
BEGIN:VEVENT
DTSTART;TZID=America/Chicago:20240518T193000
DTEND;TZID=America/Chicago:20240518T210000
DTSTAMP:20260424T185008
CREATED:20240514T062753Z
LAST-MODIFIED:20240514T062753Z
UID:783760-1716060600-1716066000@urbanmilwaukee.com
SUMMARY:Theatre Gigante & Albe/Ravenna Teatro present 'HERETHEREWHERE'
DESCRIPTION:An enigmatic theatrical piece that fluctuates between keen absurdity and poetic musings\, interweaving dialogue\, monologues\, music\, video\, and a lot of playful wisdom. \nHERETHEREWHERE\, a captivating theatrical journey brought to life by the collaborating trio of Isabelle Kralj & Mark Anderson (Theatre Gigante)\, and Alessandro Renda (Albe/Ravenna Teatro)\, is a mesmerizing exploration of the human quest to find answers. With a unique and original text by awarded Slovenian playwright Rok Vilčnik\, and with additional text by Anderson\, Renda\, and Kralj\, this performance takes its audience on a ride through the chaos and unpredictability of a world marked by existential bewilderment. \nOnstage\, three clown-esque figures\, their memories of the past obscured\, attempt to locate themselves in the present in order to secure a future. Trapped in a surreal moment\, they have received an enigmatic invitation to a party\, with no clue as to the date\, location\, or time. The mystery engages them in absurd attempts to unravel the invitation’s secrets. They work together in their bewilderment\, while breaking away to delve into thoughtful musings of contemporary dilemmas\, alone. The absurdity of their quest for answers intertwines seamlessly with moments of profound\, poetic reflection. \nIn the typical Gigante manner\, this blend of amusing and perplexing dialogues and monologues invites the audience’s astute\, thought-provoking engagement. \nAgainst this backdrop\, linguistic nuances emerge as the performers switch effortlessly between their mother tongues—English\, Slovenian\, and Italian. The incorporation of video images from their respective countries adds an extra layer to the narrative\, offering glimpses into three distinct daily lives\, three survival strategies\, and three ways of existence. \nHERETHEREWHERE is a testament to the artistic collaboration between Albe/Ravenna Teatro and Theatre Gigante. The roots of this collaboration trace back to 2015 when Gigante presented Marco Martinelli’s “Rumore di acque” with Renda in the title role. \nThe encounter between Kralj\, Anderson\, and Renda led to a fruitful partnership that continues with this collaboration – originally scheduled to premiere in Milwaukee in 2020\, but which was disrupted by the pandemic. \nThe creative synergy between Gigante and Slovenian writer Rok Vilčnik has produced Gigante’s production of Vilčnik’s TARZAN\, the video production/project of A COSMIC FAIRY TALE A DAY KEEPS THE DOCTOR AWAY\, and the publication of a book of Vilčnik’s COSMIC FAIRY TALES – a project of the University of Maribor\, Slovenia / Professor Melita Koletnik. The collaboration with Vilčnik\, Kralj\, and Anderson continues today\, resulting in HERETHEREWHERE. \nNotably\, this marks the first international co-production for Albe/Ravenna Teatro and Theatre Gigante. \nHERETHEREWHERE runs for one weekend in Milwaukee\, and will subsequently tour to Italy\, for a Fall run in Ravenna. \nPost-show talkback May 18 and May 19. \nA THEATRE GIGANTE – ALBE/RAVENNA TEATRO Co-Production \nConceived\, Created\, and Performed by\nAlessandro Renda\, Isabelle Kralj\, and Mark Anderson \nWritten by\nRok Vilčnik (text from Light is a Lone Traveller) \nwith additional texts by\nAlessandro Renda\, Isabelle Kralj\, and Mark Anderson \nDirected by\nAlessandro Renda\, Isabelle Kralj\, and Mark Anderson\nin collaboration with Rok Vilčnik \nMusic by\nFrank Pahl\nwith additional music by IKP\, Vivaldi\, Jason Powell\, and Unknown \nVideography by\nAlessandro Renda \nAnimation by\nJustin Thomas \nLighting by\nColin Gawronski \nTechnical Direction by\nSam Fitzwater Butchart \n
URL:https://urbanmilwaukee.com/event/theatre-gigante-albe-ravenna-teatro-present-heretherewhere-2/
LOCATION:1925 E. Kenilworth Place\, Milwaukee\, Wisconsin 53202\, Milwaukee\, WI\, 53202\, United States
CATEGORIES:Arts & Entertainment
ATTACH;FMTTYPE=image/jpeg:https://urbanmilwaukee.com/wp-content/uploads/2024/05/https___cdn.evbuc_.com_images_735067269_203575355638_1_original-1.jpg
END:VEVENT
BEGIN:VEVENT
DTSTART;TZID=America/Chicago:20240518T193000
DTEND;TZID=America/Chicago:20240518T220000
DTSTAMP:20260424T185008
CREATED:20240516T112334Z
LAST-MODIFIED:20240516T112507Z
UID:737148-1716060600-1716069600@urbanmilwaukee.com
SUMMARY:Milwaukee Ballet Presents: MKE MIX
DESCRIPTION:Experience ballet at its most modern in MKE MIX\, our new contemporary triple-bill series at the historic Pabst Theater. In three creative pieces\, our choreographers and dancers will challenge the definition of ballet and showcase the startling and thrilling ways ballet has evolved in the twenty-first century. \n
URL:https://urbanmilwaukee.com/event/milwaukee-ballet-presents-mke-mix-3/
LOCATION:WI
CATEGORIES:Arts & Entertainment
ATTACH;FMTTYPE=image/jpeg:https://urbanmilwaukee.com/wp-content/uploads/2023/08/MKE-MIX-2.jpg
END:VEVENT
END:VCALENDAR