BEGIN:VCALENDAR
VERSION:2.0
PRODID:-//Urban Milwaukee - ECPv4.6.9//NONSGML v1.0//EN
CALSCALE:GREGORIAN
METHOD:PUBLISH
X-WR-CALNAME:Urban Milwaukee
X-ORIGINAL-URL:https://urbanmilwaukee.com
X-WR-CALDESC:Events for Urban Milwaukee
BEGIN:VEVENT
DTSTART;TZID=America/Chicago:20240517T150000
DTEND;TZID=America/Chicago:20240517T190000
DTSTAMP:20260424T202931
CREATED:20240511T064855Z
LAST-MODIFIED:20240511T064855Z
UID:785086-1715958000-1715972400@urbanmilwaukee.com
SUMMARY:Senior Screenings
DESCRIPTION:Thursday\, May 16 | 7 p.m.\nFriday\, May 17 | 3 p.m. and 7 p.m.\nSaturday\, May 18 | 12 p.m. and 3 p.m. \nThe Department of Film\, Video\, Animation & New Genres is proud to celebrate the graduating class of 2024 and their fantastic thesis films! Seniors work all year on their thesis films; writing\, directing\, producing\, editing\, and polishing these films. Come celebrate their hard work and watch some of the most unique and exciting films from the next generation of artists and filmmakers coming out of Milwaukee! \nWe are proud to collaborate with the UWM Union Cinema to put on a multi-day event! Join us in celebrating their incredible achievement! \nThere will also be a virtual edition of the programs online for those unable to attend in person. Stay tuned for more information on specific programs as we get closer to the screening dates. \n
URL:https://urbanmilwaukee.com/event/senior-screenings-2/
LOCATION:2200 E Kenwood Blvd\, Milwaukee\, WI\, Milwaukee\, 53211\, United States
CATEGORIES:Arts & Entertainment
ATTACH;FMTTYPE=image/jpeg:https://urbanmilwaukee.com/wp-content/uploads/2024/05/2023-Senior-Screenings-1-scaled-e1701183486742.jpg
END:VEVENT
BEGIN:VEVENT
DTSTART;TZID=America/Chicago:20240517T163000
DTEND;TZID=America/Chicago:20240517T190000
DTSTAMP:20260424T202931
CREATED:20240514T055054Z
LAST-MODIFIED:20240514T055054Z
UID:763744-1715963400-1715972400@urbanmilwaukee.com
SUMMARY:St. Bernadette Parish Fish Fry
DESCRIPTION:Join us for a delicious fish fry dinner at St. Bernadette Parish\, 8200 West Denver Avenue\, Milwaukee \nA $16 dinner includes: \n\n3 pieces of fish (cod)\ncoleslaw\nfries\nrye roll\ntartar sauce\nlemon wedge\ncoffee\n\nAlso available for purchase: \n\nsoda\nbeer\ndesserts ($1 each)\nsmall portion dinner ($13-includes 2 pieces of fish and the sides)\nfamily bucket ($40-includes 1.5 pounds of fish and the sides)\n\nWe offer carryout and sit-down dining. ​We can accommodate large groups. Just give the parish office a call (414-358-4600) or send an e-mail (stbernadette@nwmcp.org) ahead of time and we will reserve enough tables for your group members to sit together. \nOur facilities are handicapped accessible. \n
URL:https://urbanmilwaukee.com/event/st-bernadette-parish-fish-fry-6/
CATEGORIES:Food & Drink,Fundraiser
ATTACH;FMTTYPE=image/jpeg:https://urbanmilwaukee.com/wp-content/uploads/2024/01/FishFry_2_T_19_4c-scaled.jpeg
END:VEVENT
BEGIN:VEVENT
DTSTART;TZID=America/Chicago:20240517T190000
DTEND;TZID=America/Chicago:20240517T230000
DTSTAMP:20260424T202931
CREATED:20240514T055218Z
LAST-MODIFIED:20240514T055218Z
UID:776966-1715972400-1715986800@urbanmilwaukee.com
SUMMARY:Enchanted Forest Gala Benefiting Fostering Community
DESCRIPTION:Step into a magical evening of drinks and dancing at South Second (838 S. 2nd Street)\, a stunning historic venue nestled in the heart of Walker’s Point. \nPresented by WGIRLS Milwaukee\, Enchanted Forest brings the city’s prominent young professionals and leaders together for a night to remember – all to support an amazing charity. Proceeds benefit Fostering Community\, a Milwaukee 501(c)(3) nonprofit empowering families in adoption and foster care through community-based support. \nWhat to Expect:\nEach ticket gets you access to dancing\, 1 included drink + cash bar\, heavy appetizers\, activity stations\, unique silent auction packages from Milwaukee businesses\, wine and beer pull\, entertainment\, and more! \nAfter Party:\nJoin us after the gala 11PM-close for an after party at Fuel Cafe\, a Walker’s Point neighborhood restaurant and bar just an 8-minute walk from the gala (630 S 5th St). 15% of your purchase will go towards Fostering Community. No ticket is required to attend the after party. \nDon’t miss an enchanted evening for charity that will leave you spellbound! \n
URL:https://urbanmilwaukee.com/event/enchanted-forest-gala-benefiting-fostering-community/
LOCATION:838 S. 2nd St.\, Milwaukee\, WI\, 53204\, United States
CATEGORIES:Arts & Entertainment,Food & Drink,Fundraiser
ATTACH;FMTTYPE=image/png:https://urbanmilwaukee.com/wp-content/uploads/2024/03/Enchanted-Forest-Gala-Urban-Milwaukee.png
ORGANIZER;CN="WGIRLS%20Milwaukee":MAILTO:wgirlsmke@wgirls.org
END:VEVENT
BEGIN:VEVENT
DTSTART;TZID=America/Chicago:20240517T193000
DTEND;TZID=America/Chicago:20240517T210000
DTSTAMP:20260424T202931
CREATED:20240514T055319Z
LAST-MODIFIED:20240514T055319Z
UID:783757-1715974200-1715979600@urbanmilwaukee.com
SUMMARY:Theatre Gigante & Albe/Ravenna Teatro present 'HERETHEREWHERE'
DESCRIPTION:An enigmatic theatrical piece that fluctuates between keen absurdity and poetic musings\, interweaving dialogue\, monologues\, music\, video\, and a lot of playful wisdom. \nHERETHEREWHERE\, a captivating theatrical journey brought to life by the collaborating trio of Isabelle Kralj & Mark Anderson (Theatre Gigante)\, and Alessandro Renda (Albe/Ravenna Teatro)\, is a mesmerizing exploration of the human quest to find answers. With a unique and original text by awarded Slovenian playwright Rok Vilčnik\, and with additional text by Anderson\, Renda\, and Kralj\, this performance takes its audience on a ride through the chaos and unpredictability of a world marked by existential bewilderment. \nOnstage\, three clown-esque figures\, their memories of the past obscured\, attempt to locate themselves in the present in order to secure a future. Trapped in a surreal moment\, they have received an enigmatic invitation to a party\, with no clue as to the date\, location\, or time. The mystery engages them in absurd attempts to unravel the invitation’s secrets. They work together in their bewilderment\, while breaking away to delve into thoughtful musings of contemporary dilemmas\, alone. The absurdity of their quest for answers intertwines seamlessly with moments of profound\, poetic reflection. \nIn the typical Gigante manner\, this blend of amusing and perplexing dialogues and monologues invites the audience’s astute\, thought-provoking engagement. \nAgainst this backdrop\, linguistic nuances emerge as the performers switch effortlessly between their mother tongues—English\, Slovenian\, and Italian. The incorporation of video images from their respective countries adds an extra layer to the narrative\, offering glimpses into three distinct daily lives\, three survival strategies\, and three ways of existence. \nHERETHEREWHERE is a testament to the artistic collaboration between Albe/Ravenna Teatro and Theatre Gigante. The roots of this collaboration trace back to 2015 when Gigante presented Marco Martinelli’s “Rumore di acque” with Renda in the title role. \nThe encounter between Kralj\, Anderson\, and Renda led to a fruitful partnership that continues with this collaboration – originally scheduled to premiere in Milwaukee in 2020\, but which was disrupted by the pandemic. \nThe creative synergy between Gigante and Slovenian writer Rok Vilčnik has produced Gigante’s production of Vilčnik’s TARZAN\, the video production/project of A COSMIC FAIRY TALE A DAY KEEPS THE DOCTOR AWAY\, and the publication of a book of Vilčnik’s COSMIC FAIRY TALES – a project of the University of Maribor\, Slovenia / Professor Melita Koletnik. The collaboration with Vilčnik\, Kralj\, and Anderson continues today\, resulting in HERETHEREWHERE. \nNotably\, this marks the first international co-production for Albe/Ravenna Teatro and Theatre Gigante. \nHERETHEREWHERE runs for one weekend in Milwaukee\, and will subsequently tour to Italy\, for a Fall run in Ravenna. \nPost-show talkback May 18 and May 19. \nA THEATRE GIGANTE – ALBE/RAVENNA TEATRO Co-Production \nConceived\, Created\, and Performed by\nAlessandro Renda\, Isabelle Kralj\, and Mark Anderson \nWritten by\nRok Vilčnik (text from Light is a Lone Traveller) \nwith additional texts by\nAlessandro Renda\, Isabelle Kralj\, and Mark Anderson \nDirected by\nAlessandro Renda\, Isabelle Kralj\, and Mark Anderson\nin collaboration with Rok Vilčnik \nMusic by\nFrank Pahl\nwith additional music by IKP\, Vivaldi\, Jason Powell\, and Unknown \nVideography by\nAlessandro Renda \nAnimation by\nJustin Thomas \nLighting by\nColin Gawronski \nTechnical Direction by\nSam Fitzwater Butchart \n
URL:https://urbanmilwaukee.com/event/theatre-gigante-albe-ravenna-teatro-present-heretherewhere/
LOCATION:1925 E. Kenilworth Place\, Milwaukee\, Wisconsin 53202\, Milwaukee\, WI\, 53202\, United States
CATEGORIES:Arts & Entertainment
ATTACH;FMTTYPE=image/jpeg:https://urbanmilwaukee.com/wp-content/uploads/2024/05/https___cdn.evbuc_.com_images_735067269_203575355638_1_original.jpg
ORGANIZER;CN="Theatre%20Gigante":MAILTO:info@theatregigante.org
END:VEVENT
BEGIN:VEVENT
DTSTART;TZID=America/Chicago:20240517T193000
DTEND;TZID=America/Chicago:20240517T220000
DTSTAMP:20260424T202931
CREATED:20240514T060911Z
LAST-MODIFIED:20240514T060911Z
UID:737144-1715974200-1715983200@urbanmilwaukee.com
SUMMARY:Milwaukee Ballet Presents: MKE MIX
DESCRIPTION:Experience ballet at its most modern in MKE MIX\, our new contemporary triple-bill series at the historic Pabst Theater. In three creative pieces\, our choreographers and dancers will challenge the definition of ballet and showcase the startling and thrilling ways ballet has evolved in the twenty-first century. \n
URL:https://urbanmilwaukee.com/event/milwaukee-ballet-presents-mke-mix-2/
LOCATION:144 E. Wells St.\, Milwaukee\, WI\, 53202
CATEGORIES:Arts & Entertainment
ATTACH;FMTTYPE=image/jpeg:https://urbanmilwaukee.com/wp-content/uploads/2023/08/MKE-MIX-1.jpg
END:VEVENT
BEGIN:VEVENT
DTSTART;TZID=America/Chicago:20240517T193000
DTEND;TZID=America/Chicago:20240517T223000
DTSTAMP:20260424T202931
CREATED:20240514T061009Z
LAST-MODIFIED:20240514T061009Z
UID:774408-1715974200-1715985000@urbanmilwaukee.com
SUMMARY:Moulin Rouge! The Musical
DESCRIPTION:Pop the champagne\, MOULIN ROUGE! THE MUSICAL is the winner of 10 Tony Awards® — including Best Musical! \nEnter a world of splendor and romance\, of eye-popping excess\, of glitz\, grandeur\, and glory! A world where Bohemians and aristocrats rub elbows and revel in electrifying enchantment. Welcome to MOULIN ROUGE! THE MUSICAL! Baz Luhrmann’s revolutionary film comes to life onstage\, remixed in a new musical mash-up extravaganza. Directed by Tony Award® winner Alex Timbers\, MOULIN ROUGE! THE MUSICAL is a theatrical celebration of Truth\, Beauty\, Freedom\, and — above all — Love. With a book by Tony Award® winner John Logan; music supervision\, orchestrations\, and arrangements by Tony Award® winner Justin Levine; and choreography by Tony Award® winner Sonya Tayeh\, MOULIN ROUGE! is more than a musical — it is a state of mind. \n“Eye-popping spectacle and off-the-charts energy”\n-David Rooney\, The Hollywood Reporter \n“Euphoric. Gasp-inducing. Forbidden pleasures abound in this SPECTACULAR musical. In ‘Moulin Rouge\,’ life is beautiful.”\n-Ben Brantley\, The New York Times \n“A knockout night at the theater…an emotional wallop.”\n-Alexandra Starr\, NPR \n
URL:https://urbanmilwaukee.com/event/moulin-rouge-the-musical-4/
LOCATION:929 N. Water St.\, Milwaukee\, WI\, 53202\, United States
CATEGORIES:Arts & Entertainment
ATTACH;FMTTYPE=image/jpeg:https://urbanmilwaukee.com/wp-content/uploads/2024/03/1788-Courtney-Reed-and-Conor-Ryan-in-the-North-American-Tour-of-Moulin-Rouge-The-Musical-photo-by-Matthew-Murphy-for-MurphyMade-3-scaled.jpg
END:VEVENT
BEGIN:VEVENT
DTSTART;TZID=America/Chicago:20240517T200000
DTEND;TZID=America/Chicago:20240517T220000
DTSTAMP:20260424T202931
CREATED:20240514T062330Z
LAST-MODIFIED:20240514T062330Z
UID:763178-1715976000-1715983200@urbanmilwaukee.com
SUMMARY:Piano Men 2
DESCRIPTION:Come ready to laugh\, clap and sing along as two virtuoso pianists play dazzling renditions of YOUR favorite hits\, live! Piano Men 2 transforms the Stackner Cabaret into a sizzling\, anything-can-happen Piano Bar where the best of rock\, pop\, classical\, Broadway and more combine to create an unforgettable and unbelievably fun experience. No two shows are ever the same\, so bring your song requests as this hit production makes its return by popular demand. \nCreated by Mark Clements \n
URL:https://urbanmilwaukee.com/event/piano-men-2-32/
LOCATION:108 E. Wells St.\, Milwaukee\, WI\, 53202\, United States
CATEGORIES:Arts & Entertainment
ATTACH;FMTTYPE=image/png:https://urbanmilwaukee.com/wp-content/uploads/2024/01/Piano-Men-2-1200x900-59.png
END:VEVENT
END:VCALENDAR