BEGIN:VCALENDAR
VERSION:2.0
PRODID:-//Urban Milwaukee - ECPv4.6.9//NONSGML v1.0//EN
CALSCALE:GREGORIAN
METHOD:PUBLISH
X-WR-CALNAME:Urban Milwaukee
X-ORIGINAL-URL:https://urbanmilwaukee.com
X-WR-CALDESC:Events for Urban Milwaukee
BEGIN:VEVENT
DTSTART;TZID=America/Chicago:20240515T193000
DTEND;TZID=America/Chicago:20240515T213000
DTSTAMP:20260424T234355
CREATED:20240511T063445Z
LAST-MODIFIED:20240511T063445Z
UID:763171-1715801400-1715808600@urbanmilwaukee.com
SUMMARY:Piano Men 2
DESCRIPTION:Come ready to laugh\, clap and sing along as two virtuoso pianists play dazzling renditions of YOUR favorite hits\, live! Piano Men 2 transforms the Stackner Cabaret into a sizzling\, anything-can-happen Piano Bar where the best of rock\, pop\, classical\, Broadway and more combine to create an unforgettable and unbelievably fun experience. No two shows are ever the same\, so bring your song requests as this hit production makes its return by popular demand. \nCreated by Mark Clements \n
URL:https://urbanmilwaukee.com/event/piano-men-2-30/
LOCATION:108 E. Wells St.\, Milwaukee\, WI\, 53202\, United States
CATEGORIES:Arts & Entertainment
ATTACH;FMTTYPE=image/png:https://urbanmilwaukee.com/wp-content/uploads/2024/01/Piano-Men-2-1200x900-57.png
END:VEVENT
BEGIN:VEVENT
DTSTART;TZID=America/Chicago:20240515T193000
DTEND;TZID=America/Chicago:20240515T223000
DTSTAMP:20260424T234355
CREATED:20240511T064712Z
LAST-MODIFIED:20240511T064712Z
UID:774401-1715801400-1715812200@urbanmilwaukee.com
SUMMARY:Moulin Rouge! The Musical
DESCRIPTION:Pop the champagne\, MOULIN ROUGE! THE MUSICAL is the winner of 10 Tony Awards® — including Best Musical! \nEnter a world of splendor and romance\, of eye-popping excess\, of glitz\, grandeur\, and glory! A world where Bohemians and aristocrats rub elbows and revel in electrifying enchantment. Welcome to MOULIN ROUGE! THE MUSICAL! Baz Luhrmann’s revolutionary film comes to life onstage\, remixed in a new musical mash-up extravaganza. Directed by Tony Award® winner Alex Timbers\, MOULIN ROUGE! THE MUSICAL is a theatrical celebration of Truth\, Beauty\, Freedom\, and — above all — Love. With a book by Tony Award® winner John Logan; music supervision\, orchestrations\, and arrangements by Tony Award® winner Justin Levine; and choreography by Tony Award® winner Sonya Tayeh\, MOULIN ROUGE! is more than a musical — it is a state of mind. \n“Eye-popping spectacle and off-the-charts energy”\n-David Rooney\, The Hollywood Reporter \n“Euphoric. Gasp-inducing. Forbidden pleasures abound in this SPECTACULAR musical. In ‘Moulin Rouge\,’ life is beautiful.”\n-Ben Brantley\, The New York Times \n“A knockout night at the theater…an emotional wallop.”\n-Alexandra Starr\, NPR \n
URL:https://urbanmilwaukee.com/event/moulin-rouge-the-musical-2/
LOCATION:929 N. Water St.\, Milwaukee\, WI\, 53202\, United States
CATEGORIES:Arts & Entertainment
ATTACH;FMTTYPE=image/jpeg:https://urbanmilwaukee.com/wp-content/uploads/2024/03/1788-Courtney-Reed-and-Conor-Ryan-in-the-North-American-Tour-of-Moulin-Rouge-The-Musical-photo-by-Matthew-Murphy-for-MurphyMade-1-scaled.jpg
END:VEVENT
END:VCALENDAR