BEGIN:VCALENDAR
VERSION:2.0
PRODID:-//Urban Milwaukee - ECPv4.6.9//NONSGML v1.0//EN
CALSCALE:GREGORIAN
METHOD:PUBLISH
X-WR-CALNAME:Urban Milwaukee
X-ORIGINAL-URL:https://urbanmilwaukee.com
X-WR-CALDESC:Events for Urban Milwaukee
BEGIN:VEVENT
DTSTART;TZID=America/Chicago:20240513T173000
DTEND;TZID=America/Chicago:20240513T181500
DTSTAMP:20260425T031009
CREATED:20240511T062843Z
LAST-MODIFIED:20240511T062843Z
UID:777127-1715621400-1715624100@urbanmilwaukee.com
SUMMARY:Outdoor Community Yoga Class
DESCRIPTION:Join us once again for outdoor yoga on select Monday or Tuesday evenings from mid-May thru October 2024. \nEach week (weather permitting)\, I’ll lead you through a relaxing 45-minute yoga flow. This year\, we will meet on the grassy area on the north side of McKinley Elementary School (89th/90th & Wright). \nPasadena Yoga Tuesdays is a “pay what you’d like” donation-based class (suggested amount is $5-10; for those who asked\, my Venmo is CMoyer). You do not need to register in advance; however\, everyone who participates must sign a waiver. \nBe sure to bring your own mat\, towel\, water bottle and a neighbor/friend! \n2024 Schedule: Dates Subject to Change. \nNOTE: Please join our group Facebook page for the most up to date information on class cancellations due to weather or schedule changes: https://www.facebook.com/groups/187318076723983 \nMAY\nMondays 5/13 & 5/20; Tuesday\, 5/28\nJUNE\nMondays 6/10 & 6/24; Tuesday\, 6/18\nJULY\nMondays 7/1\, 7/8 & 7/15; Tuesday\, 7/30\nAUGUST\nMondays 8/5\, 8/12\, 8/26; Tuesday\,8/20\nSEPTEMBER\nMondays 9/9\, 9/16\, 9/23 & 9/30; Tuesday\, 9/3\nOCTOBER\nMondays 10/7\, 10/14\, 10/21 & 10/28 \n
URL:https://urbanmilwaukee.com/event/outdoor-community-yoga-class-2/
LOCATION:2435 N. 89th\, Wauwatosa\, WI\, 53226\, United States
CATEGORIES:Health
ATTACH;FMTTYPE=image/png:https://urbanmilwaukee.com/wp-content/uploads/2024/04/Photo-Apr-01-2024-11-46-50-AM.png
ORGANIZER;CN="Caitlin%20Moyer":MAILTO:caitlin@caitlinmoyer.com
END:VEVENT
BEGIN:VEVENT
DTSTART;TZID=America/Chicago:20240513T180000
DTEND;TZID=America/Chicago:20240513T190000
DTSTAMP:20260425T031009
CREATED:20240511T062927Z
LAST-MODIFIED:20240511T062927Z
UID:780937-1715623200-1715626800@urbanmilwaukee.com
SUMMARY:Barnes & Noble: Book Club with Author Stephanie Dray!
DESCRIPTION:Join Barnes & Noble BAYSHORE for a very special book club for Becoming Madame Secretary. Author Stephanie Dray will Zoom in live to answer all of your questions and tell everyone about the book! They look forward to seeing you there! \n
URL:https://urbanmilwaukee.com/event/barnes-noble-book-club-with-author-stephanie-dray/
LOCATION:WI
CATEGORIES:Arts & Entertainment
ATTACH;FMTTYPE=image/jpeg:https://urbanmilwaukee.com/wp-content/uploads/2024/04/BandN-Instagram-Graphics.jpg
END:VEVENT
END:VCALENDAR