BEGIN:VCALENDAR
VERSION:2.0
PRODID:-//Urban Milwaukee - ECPv4.6.9//NONSGML v1.0//EN
CALSCALE:GREGORIAN
METHOD:PUBLISH
X-WR-CALNAME:Urban Milwaukee
X-ORIGINAL-URL:https://urbanmilwaukee.com
X-WR-CALDESC:Events for Urban Milwaukee
BEGIN:VEVENT
DTSTART;TZID=America/Chicago:20240508T133000
DTEND;TZID=America/Chicago:20240508T153000
DTSTAMP:20260425T113621
CREATED:20240507T223528Z
LAST-MODIFIED:20240507T223528Z
UID:763932-1715175000-1715182200@urbanmilwaukee.com
SUMMARY:Nina Simone: Four Women
DESCRIPTION:The creator of some of our nation’s most powerful Civil Rights anthems\, Nina Simone shook the world with her music. After the 1963 bombing of the 16th Street Baptist Church in Birmingham\, Simone’s tribute song “Four Women” transformed her from gifted pianist to trailblazing activist\, charting a new course as an agent of change and healing. This play with music shines a light on how she found her true calling and gave voice to a movement through impactful and inspirational songs like “Mississippi Goddam\,” “Go Limp” and “Sinnerman.” \nBy Christina Ham\nDirected by Malkia Stampley \n
URL:https://urbanmilwaukee.com/event/nina-simone-four-women-14/
LOCATION:108 E. Wells St.\, Milwaukee\, WI\, 53202\, United States
CATEGORIES:Arts & Entertainment
ATTACH;FMTTYPE=image/png:https://urbanmilwaukee.com/wp-content/uploads/2024/01/Nina-simone-1200x900-26.png
END:VEVENT
BEGIN:VEVENT
DTSTART;TZID=America/Chicago:20240508T190000
DTEND;TZID=America/Chicago:20240508T210000
DTSTAMP:20260425T113621
CREATED:20240507T225153Z
LAST-MODIFIED:20240507T225153Z
UID:774244-1715194800-1715202000@urbanmilwaukee.com
SUMMARY:Cream City Book Club: 'Tom Lake' by Ann Patchett
DESCRIPTION:Come discuss “Tom Lake” by Ann Patchett. Ticket includes a glass of house wine and a fun bookish community.\nCream City Book Club is moderated by Nicole Mattke and meets at The Starling monthly. Ticket sales close at noon the day prior to each event. Included are prepared\, engaging discussion questions and a glass of house wine\, with additional drinks available on site for purchase. \n
URL:https://urbanmilwaukee.com/event/cream-city-book-club-tom-lake-by-ann-patchett/
LOCATION:102 N. Water St.\, Milwaukee\, WI\, 53202\, United States
CATEGORIES:Arts & Entertainment
ATTACH;FMTTYPE=image/png:https://urbanmilwaukee.com/wp-content/uploads/2024/03/CCBC-Logo.png
END:VEVENT
BEGIN:VEVENT
DTSTART;TZID=America/Chicago:20240508T193000
DTEND;TZID=America/Chicago:20240508T210000
DTSTAMP:20260425T113621
CREATED:20240507T223752Z
LAST-MODIFIED:20240507T223752Z
UID:783259-1715196600-1715202000@urbanmilwaukee.com
SUMMARY:Popular Music Ensemble
DESCRIPTION:Popular Music Ensemble will perform music from the Pop/Rock/Folk genres. You will hear songs from the 1950’s to the present day. Students work in small groups to create a unique take on each song\, learning how to collaborate and bring something new to the audience. \n
URL:https://urbanmilwaukee.com/event/popular-music-ensemble/
LOCATION:2400 E. Kenwood Blvd.\, Milwaukee\, WI\, 53211\, United States
CATEGORIES:Arts & Entertainment
ATTACH;FMTTYPE=image/jpeg:https://urbanmilwaukee.com/wp-content/uploads/2024/05/PSOA-CAL-Placeholder-MUSIC-1.jpg
END:VEVENT
BEGIN:VEVENT
DTSTART;TZID=America/Chicago:20240508T193000
DTEND;TZID=America/Chicago:20240508T213000
DTSTAMP:20260425T113621
CREATED:20240507T223919Z
LAST-MODIFIED:20240507T223919Z
UID:763150-1715196600-1715203800@urbanmilwaukee.com
SUMMARY:Piano Men 2
DESCRIPTION:Come ready to laugh\, clap and sing along as two virtuoso pianists play dazzling renditions of YOUR favorite hits\, live! Piano Men 2 transforms the Stackner Cabaret into a sizzling\, anything-can-happen Piano Bar where the best of rock\, pop\, classical\, Broadway and more combine to create an unforgettable and unbelievably fun experience. No two shows are ever the same\, so bring your song requests as this hit production makes its return by popular demand. \nCreated by Mark Clements \n
URL:https://urbanmilwaukee.com/event/piano-men-2-24/
LOCATION:108 E. Wells St.\, Milwaukee\, WI\, 53202\, United States
CATEGORIES:Arts & Entertainment
ATTACH;FMTTYPE=image/png:https://urbanmilwaukee.com/wp-content/uploads/2024/01/Piano-Men-2-1200x900-49.png
END:VEVENT
BEGIN:VEVENT
DTSTART;TZID=America/Chicago:20240508T193000
DTEND;TZID=America/Chicago:20240508T213000
DTSTAMP:20260425T113621
CREATED:20240507T224015Z
LAST-MODIFIED:20240507T224015Z
UID:763930-1715196600-1715203800@urbanmilwaukee.com
SUMMARY:Nina Simone: Four Women
DESCRIPTION:The creator of some of our nation’s most powerful Civil Rights anthems\, Nina Simone shook the world with her music. After the 1963 bombing of the 16th Street Baptist Church in Birmingham\, Simone’s tribute song “Four Women” transformed her from gifted pianist to trailblazing activist\, charting a new course as an agent of change and healing. This play with music shines a light on how she found her true calling and gave voice to a movement through impactful and inspirational songs like “Mississippi Goddam\,” “Go Limp” and “Sinnerman.” \nBy Christina Ham\nDirected by Malkia Stampley \n
URL:https://urbanmilwaukee.com/event/nina-simone-four-women-15/
LOCATION:108 E. Wells St.\, Milwaukee\, WI\, 53202\, United States
CATEGORIES:Arts & Entertainment
ATTACH;FMTTYPE=image/png:https://urbanmilwaukee.com/wp-content/uploads/2024/01/Nina-simone-1200x900-25.png
END:VEVENT
END:VCALENDAR