BEGIN:VCALENDAR
VERSION:2.0
PRODID:-//Urban Milwaukee - ECPv4.6.9//NONSGML v1.0//EN
CALSCALE:GREGORIAN
METHOD:PUBLISH
X-WR-CALNAME:Urban Milwaukee
X-ORIGINAL-URL:https://urbanmilwaukee.com
X-WR-CALDESC:Events for Urban Milwaukee
BEGIN:VEVENT
DTSTART;TZID=America/Chicago:20240306T133000
DTEND;TZID=America/Chicago:20240306T153000
DTSTAMP:20260426T024808
CREATED:20240227T075444Z
LAST-MODIFIED:20240227T075444Z
UID:760967-1709731800-1709739000@urbanmilwaukee.com
SUMMARY:What the Constitution Means to Me
DESCRIPTION:Since its premiere in 2019\, this Pulitzer Prize finalist has taken the theatrical world by storm\, breathing new life into our Constitution by imagining how it will shape the next generation of Americans. As a teenager\, Heidi earned her college tuition by winning Constitutional debate competitions across the country. In this hilarious\, witty and refreshingly honest new play\, she revisits her fifteen-year-old self to trace the profound relationship between four generations of women and the lasting impact of the document that shaped their journey. \nPulitzer Prize Finalist\nBy Heidi Schreck\nDirected by Laura Braza \n
URL:https://urbanmilwaukee.com/event/what-the-constitution-means-to-me-25/
LOCATION:108 E. Wells St.\, Milwaukee\, WI\, 53202\, United States
CATEGORIES:Arts & Entertainment
ATTACH;FMTTYPE=image/jpeg:https://urbanmilwaukee.com/wp-content/uploads/2024/01/What-the-Constitution-Means-to-Me-1920x1080-31.jpg
END:VEVENT
BEGIN:VEVENT
DTSTART;TZID=America/Chicago:20240306T193000
DTEND;TZID=America/Chicago:20240306T210000
DTSTAMP:20260426T024808
CREATED:20240227T075536Z
LAST-MODIFIED:20240227T080449Z
UID:769226-1709753400-1709758800@urbanmilwaukee.com
SUMMARY:Artists Now! Guest Lecture Series: Rhea Myers
DESCRIPTION:NOTE: This is a virtual event. \nAn artist\, hacker and writer who places technology and culture in mutual interrogation to produce new ways to see the world. Collaborating with blockchain pioneers\, Myers has been making blockchain art\, writing blockchain art theory\, and composing blockchain stories. \nThe Peck School of the Arts Department of Art & Design proudly presents the 2023-24 Artists Now! Lecture Series featuring diverse creators working across traditional\, hybrid and emergent disciplines. Nationally and internationally recognized practitioners explore and expand the boundaries of contemporary creative visual practice through May 2024. \nZoom Meeting: https://wisconsin-edu.zoom.us/j/5173175108?pwd=SldvTmNpZmIvVVF1azNib0JjUlNtZz09#success \nZoom Meeting ID: 517 317 5108 \nZoom Passcode: 974465 \n
URL:https://urbanmilwaukee.com/event/__trashed-19/
LOCATION:WI
CATEGORIES:Arts & Entertainment
ATTACH;FMTTYPE=image/jpeg:https://urbanmilwaukee.com/wp-content/uploads/2024/02/rheamyers.jpeg
END:VEVENT
BEGIN:VEVENT
DTSTART;TZID=America/Chicago:20240306T193000
DTEND;TZID=America/Chicago:20240306T210000
DTSTAMP:20260426T024808
CREATED:20240227T075554Z
LAST-MODIFIED:20240227T080633Z
UID:769228-1709753400-1709758800@urbanmilwaukee.com
SUMMARY:Artists Now! Guest Lecture Series: Virgil Ortiz
DESCRIPTION:Ortiz moves into a new era combining art\, décor\, fashion\, video\, and film. One of the most innovative potters of his time\, Ortiz’s exquisite works have been exhibited in museum collections around the world including the Smithsonian Institution’s National Museum of the American Indian. \nThe Peck School of the Arts Department of Art & Design proudly presents the 2023-24 Artists Now! Lecture Series featuring diverse creators working across traditional\, hybrid and emergent disciplines. Nationally and internationally recognized practitioners explore and expand the boundaries of contemporary creative visual practice through May 2024. \nZoom Meeting: https://wisconsin-edu.zoom.us/j/5173175108?pwd=SldvTmNpZmIvVVF1azNib0JjUlNtZz09#success \nZoom Meeting ID: 517 317 5108 \nZoom Passcode: 974465 \n
URL:https://urbanmilwaukee.com/event/__trashed-20/
LOCATION:WI
CATEGORIES:Arts & Entertainment
ATTACH;FMTTYPE=image/jpeg:https://urbanmilwaukee.com/wp-content/uploads/2024/02/jm-OrtizMay17finalCover-copy.jpg
END:VEVENT
BEGIN:VEVENT
DTSTART;TZID=America/Chicago:20240306T193000
DTEND;TZID=America/Chicago:20240306T213000
DTSTAMP:20260426T024808
CREATED:20240227T075709Z
LAST-MODIFIED:20240227T075709Z
UID:759767-1709753400-1709760600@urbanmilwaukee.com
SUMMARY:Guys On Ice
DESCRIPTION:One of the Stackner Cabaret’s most popular musical comedies makes its encore as we celebrate our 70th Anniversary Season and the 25th Anniversary of when this show premiered at Milwaukee Rep! Life on the lake is easy\, especially when the fish are biting\, the jokes are funny\, there’s a ‘couple two three’ beers in the bucket and the Green Bay Packers are on the field. From the warmth of their shanty ‘up north\,’ old pals Marvin and Lloyd spin wit\, wisdom and hilarious songs about life\, love and the one that got away. Don’t miss this Wisconsin musical tradition\, featuring songs like “Ode to a Snowmobile Suit” and “The Wishing Hole.” \nBooks & Lyrics by Fred Alley\nMusic by James Kaplan\nDirected & Choreographed by Jeffrey Herbst \n
URL:https://urbanmilwaukee.com/event/guys-on-ice-58/
LOCATION:108 E. Wells St.\, Milwaukee\, WI\, 53202\, United States
CATEGORIES:Arts & Entertainment
ATTACH;FMTTYPE=image/jpeg:https://urbanmilwaukee.com/wp-content/uploads/2024/01/Guys-on-Ice-1080x1080-15.jpg
END:VEVENT
BEGIN:VEVENT
DTSTART;TZID=America/Chicago:20240306T193000
DTEND;TZID=America/Chicago:20240306T213000
DTSTAMP:20260426T024808
CREATED:20240227T075915Z
LAST-MODIFIED:20240227T075915Z
UID:762596-1709753400-1709760600@urbanmilwaukee.com
SUMMARY:The Chosen
DESCRIPTION:One of the most beloved novels of the 20th century comes to life in this captivating portrayal of faith\, family\, and friendship. In 1940s Brooklyn\, two brilliant young Jewish boys grow up sharing a love of baseball. Although they live just five blocks from each other\, the shadows of their fathers keep them a world apart. As they reach adulthood\, their complicated friendship will test the bounds of belief\, understanding and reconciliation. Set against the backdrop of WWII and the creation of the state of Israel\, Chaim Potok’s acclaimed story balances transformation and tradition\, growing up and growing wise\, and living out your truths – no matter the consequences. \nAdapted by Aaron Posner and Chaim Potok\nFrom the Novel by Chaim Potok\nDirected by Aaron Posner \n
URL:https://urbanmilwaukee.com/event/the-chosen-2/
LOCATION:108 E. Wells St.\, Milwaukee\, WI\, 53202\, United States
CATEGORIES:Arts & Entertainment
ATTACH;FMTTYPE=image/png:https://urbanmilwaukee.com/wp-content/uploads/2024/01/The-chosen-1200x900-2.png
END:VEVENT
BEGIN:VEVENT
DTSTART;TZID=America/Chicago:20240306T193000
DTEND;TZID=America/Chicago:20240306T213000
DTSTAMP:20260426T024808
CREATED:20240301T044949Z
LAST-MODIFIED:20240301T044949Z
UID:768709-1709753400-1709760600@urbanmilwaukee.com
SUMMARY:You on the Moors Now
DESCRIPTION:The UWM Theatre Department’s exploration of the moors culminates with an imagined reunion of 19th-century heroines from Pride and Prejudice\, Wuthering Heights\, Jane Eyre\, and Little Women. Only this time around\, these heroines resolutely decline the advances of their famous suitors and grapple with the challenge of reconciling historical romantic ideals with their contemporary perspectives on courtship. This clever play offers an empowering perspective on a group of women who not only reject their passionate suitors but also defy the conventions and societal norms expected of them. \n
URL:https://urbanmilwaukee.com/event/you-on-the-moors-now/
LOCATION:2400 E. Kenwood Blvd\, Art Building 2nd Fl.\, Milwaukee\, WI\, 53211\, United States
CATEGORIES:Arts & Entertainment
ATTACH;FMTTYPE=image/jpeg:https://urbanmilwaukee.com/wp-content/uploads/2024/02/PSOA_Theatre-Performance-You-on-the-Moors-Now-2024-CAL-1024x576-1.jpg
END:VEVENT
END:VCALENDAR