BEGIN:VCALENDAR
VERSION:2.0
PRODID:-//Urban Milwaukee - ECPv4.6.9//NONSGML v1.0//EN
CALSCALE:GREGORIAN
METHOD:PUBLISH
X-WR-CALNAME:Urban Milwaukee
X-ORIGINAL-URL:https://urbanmilwaukee.com
X-WR-CALDESC:Events for Urban Milwaukee
BEGIN:VEVENT
DTSTART;TZID=America/Chicago:20240302T140000
DTEND;TZID=America/Chicago:20240302T180000
DTSTAMP:20260425T201913
CREATED:20240225T063946Z
LAST-MODIFIED:20240225T063946Z
UID:763471-1709388000-1709402400@urbanmilwaukee.com
SUMMARY:Flannel Fest Beer + Trivia Walk
DESCRIPTION:Kick off Downtown Port Beer Week with us as you explore historic downtown Port Washington during our Flannel Fest Beer + Trivia Walk. Gather your friends and family to make this a team event (you can even win a bonus prize for best team name)! Don your best flannel for this Walk\, where you use your custom beer sample glass for a craft beer sample at 17 participating stops (plus 2 bonus non-beer stops)\, along with food samples and a timed trivia question. Winning trivia team/individual gets the coveted BEER TROPHY. Along the way\, get in on some awesome raffles\, flannel sales\, and flannel-y fun! \nTickets:\nBeer + Trivia Walk $40\nNon-Beer + Trivia Walk $25 \nREGISTRATION IS NOW OPEN!\nRegister here –> https://www.eventbrite.com/…/flannel-fest-beer-trivia…\nDay of registration takes place at the NEW Inventor’s Brewpub location\, Port’s own lakeside craft brewery (305 E Washington St). Be among the first to check out the space. At registration\, we will scan your ticket QR code\, get you your supplies\, and send you on your adventure. \n
URL:https://urbanmilwaukee.com/event/flannel-fest-beer-trivia-walk/
LOCATION:305 E Washington St\, Port Washington\, WI\, 53074\, United States
CATEGORIES:Arts & Entertainment,Food & Drink
ATTACH;FMTTYPE=image/jpeg:https://urbanmilwaukee.com/wp-content/uploads/2015/02/beer.jpg
END:VEVENT
BEGIN:VEVENT
DTSTART;TZID=America/Chicago:20240302T150000
DTEND;TZID=America/Chicago:20240302T170000
DTSTAMP:20260425T201913
CREATED:20240225T064058Z
LAST-MODIFIED:20240225T064058Z
UID:759746-1709391600-1709398800@urbanmilwaukee.com
SUMMARY:Guys On Ice
DESCRIPTION:One of the Stackner Cabaret’s most popular musical comedies makes its encore as we celebrate our 70th Anniversary Season and the 25th Anniversary of when this show premiered at Milwaukee Rep! Life on the lake is easy\, especially when the fish are biting\, the jokes are funny\, there’s a ‘couple two three’ beers in the bucket and the Green Bay Packers are on the field. From the warmth of their shanty ‘up north\,’ old pals Marvin and Lloyd spin wit\, wisdom and hilarious songs about life\, love and the one that got away. Don’t miss this Wisconsin musical tradition\, featuring songs like “Ode to a Snowmobile Suit” and “The Wishing Hole.” \nBooks & Lyrics by Fred Alley\nMusic by James Kaplan\nDirected & Choreographed by Jeffrey Herbst \n
URL:https://urbanmilwaukee.com/event/guys-on-ice-53/
LOCATION:108 E. Wells St.\, Milwaukee\, WI\, 53202\, United States
CATEGORIES:Arts & Entertainment
ATTACH;FMTTYPE=image/jpeg:https://urbanmilwaukee.com/wp-content/uploads/2024/01/Guys-on-Ice-1080x1080-10.jpg
END:VEVENT
BEGIN:VEVENT
DTSTART;TZID=America/Chicago:20240302T180000
DTEND;TZID=America/Chicago:20240302T213000
DTSTAMP:20260425T201913
CREATED:20240225T064351Z
LAST-MODIFIED:20240225T064351Z
UID:761622-1709402400-1709415000@urbanmilwaukee.com
SUMMARY:Vince Lombardi Cancer Foundation Award of Excellence
DESCRIPTION:Don’t miss your chance to join the Vince Lombardi Cancer Foundation at their 33rd annual Award of Excellence event! \nOn March 2\, 2024\, Milwaukee Bucks guard Pat Connaughton will accept the prestigious Award of Excellence from the Foundation. Tickets are available now at https://e.givesmart.com/events/zCK/ for this black-tie event located at the Pfister Hotel! \nThis ticket includes dinner\, a Q&A with Connaughton\, an open bar during the reception\, and complimentary valet parking. The Vince Lombardi Cancer Foundation will also honor VISIT Milwaukee President and CEO Peggy Williams-Smith\, she will be receiving the Sileno Kriete Award for her leadership while on the Vince Lombardi Cancer Foundation Board of Directors (2014-2023). \n“This year’s event is all about individuals’ impact in the fight against cancer and our duty to philanthropy\,” said Emily Phillips\, Financial Advisor\, Phillips Ristau Group – Baird\, and Vince Lombardi Cancer Foundation board member and Award of Excellence Dinner co-chair. \nVince Lombardi Cancer Foundation is also accepting donations in honor of individuals who are currently battling or have battled cancer\, as well as in memory of individuals who have passed away from cancer at lombardiaward.givesmart.com. The names and photos of these individuals will be shown during the 2024 Award of Excellence Dinner on March 2. \n
URL:https://urbanmilwaukee.com/event/vince-lombardi-cancer-foundation-award-of-excellence-2/
LOCATION:424 E. Wisconsin Ave.\, Milwaukee\, WI\, 53202\, United States
CATEGORIES:Food & Drink
ATTACH;FMTTYPE=image/png:https://urbanmilwaukee.com/wp-content/uploads/2024/01/download.png
END:VEVENT
BEGIN:VEVENT
DTSTART;TZID=America/Chicago:20240302T193000
DTEND;TZID=America/Chicago:20240302T210000
DTSTAMP:20260425T201913
CREATED:20240225T064811Z
LAST-MODIFIED:20240225T064811Z
UID:769037-1709407800-1709413200@urbanmilwaukee.com
SUMMARY:'I Wanna Fly'
DESCRIPTION:Milwaukee Opera Theatre presents “I Wanna Fly\,” an old-fashioned cabaret with a new-fashioned MOT angle! Using only the simplest ingredients: music\, text\, and a story\, Lynette explores the whole human experience and invites us to join her along the way. “I Wanna Fly” runs February 29th – March 10th. \nFeaturing Lynette Knapp Ryan and David Bonofiglio \nWith special guests Diane Lane\, and Jim and Max Ryan & an original song by Gwen Rice and Matt Zembrowski \nDirected by Jill Anna Ponasik \nLighting by Jim Padovano & sound by John Webber \n
URL:https://urbanmilwaukee.com/event/i-wanna-fly-2/
LOCATION:926 E. Burleigh St.\, Milwaukee\, WI\, 53212\, United States
CATEGORIES:Arts & Entertainment
ATTACH;FMTTYPE=image/jpeg:https://urbanmilwaukee.com/wp-content/uploads/2024/02/I-Wanna-Fly-Promos-62-2-scaled.jpg
END:VEVENT
BEGIN:VEVENT
DTSTART;TZID=America/Chicago:20240302T193000
DTEND;TZID=America/Chicago:20240302T213000
DTSTAMP:20260425T201913
CREATED:20240225T065050Z
LAST-MODIFIED:20240225T065050Z
UID:766923-1709407800-1709415000@urbanmilwaukee.com
SUMMARY:ON YOUR FEET! The Story of Emilio & Gloria Estefan
DESCRIPTION:HER VOICE. HIS VISION. THEIR STORY. \nON YOUR FEET! is the inspiring true story about heart\, heritage and two people who believed in their talent—and each other—to become an international sensation: Emilio and Gloria Estefan. Now their story is an all-new exhilarating original musical winning the hearts of critics and audiences alike\, with the Chicago Tribune declaring “IT’S A HIT!” and The New York Times cheering\, “The very air in the room seems to vibrate in this undeniably crowd-pleasing musical!” \nON YOUR FEET! features some of the most iconic songs of the past quarter-century\, including “Rhythm is Gonna Get You\,” “Conga\,” “Get On Your Feet\,” “Don’t Want To Lose You Now\,” “1-2-3” and “Coming Out of the Dark.” Prepare to be on your feet from start to finish! \n“Infectiously fun with genuine heart! If you aren’t humming a Gloria Estefan hit when you leave the theater\, it might be time to check your pulse.” – Associated Press \n“An exuberantly fun\, razzle-dazzle production!” – Variety \n“Exhilarating dancing\, invigorating music\, and a truly inspirational story!” – Huffington Post \n
URL:https://urbanmilwaukee.com/event/on-your-feet-the-story-of-emilio-gloria-estefan/
LOCATION:929 N. Water St.\, Milwaukee\, WI\, 53202\, United States
CATEGORIES:Arts & Entertainment
ATTACH;FMTTYPE=image/jpeg:https://urbanmilwaukee.com/wp-content/uploads/2022/11/Marcus-Performing-Arts-Center.jpg
END:VEVENT
BEGIN:VEVENT
DTSTART;TZID=America/Chicago:20240302T200000
DTEND;TZID=America/Chicago:20240302T200000
DTSTAMP:20260425T201913
CREATED:20240225T065312Z
LAST-MODIFIED:20240225T065312Z
UID:763812-1709409600-1709409600@urbanmilwaukee.com
SUMMARY:Paul Cebar Tomorrow Sound
DESCRIPTION:Join Anodyne Coffee Roasting Co. for an evening of live music featuring Paul Cebar Tomorrow Sound. \nPaul Cebar Tomorrow Sound are the latest in Fresh Venerable. Benefitting from years of unassuming and understated hipness\, they bring forth a funky\, lyrically charged racket that sits comfortably with soulful sounds the world over. \nIntricate but free-swinging\, explosive yet intimate\, fresh and green as grass. \nTickets are $15 in advance or $18 at the door. Doors open at 7 p.m. and the show begins at 8 p.m. \n
URL:https://urbanmilwaukee.com/event/paul-cebar-tomorrow-sound-4/
LOCATION:224 W. Bruce St\, Milwaukee\, WI\, 53204\, United States
CATEGORIES:Arts & Entertainment
ATTACH;FMTTYPE=image/jpeg:https://urbanmilwaukee.com/wp-content/uploads/2021/11/dsc01852.jpg
END:VEVENT
BEGIN:VEVENT
DTSTART;TZID=America/Chicago:20240302T200000
DTEND;TZID=America/Chicago:20240302T220000
DTSTAMP:20260425T201913
CREATED:20240225T065415Z
LAST-MODIFIED:20240225T065415Z
UID:759748-1709409600-1709416800@urbanmilwaukee.com
SUMMARY:Guys On Ice
DESCRIPTION:One of the Stackner Cabaret’s most popular musical comedies makes its encore as we celebrate our 70th Anniversary Season and the 25th Anniversary of when this show premiered at Milwaukee Rep! Life on the lake is easy\, especially when the fish are biting\, the jokes are funny\, there’s a ‘couple two three’ beers in the bucket and the Green Bay Packers are on the field. From the warmth of their shanty ‘up north\,’ old pals Marvin and Lloyd spin wit\, wisdom and hilarious songs about life\, love and the one that got away. Don’t miss this Wisconsin musical tradition\, featuring songs like “Ode to a Snowmobile Suit” and “The Wishing Hole.” \nBooks & Lyrics by Fred Alley\nMusic by James Kaplan\nDirected & Choreographed by Jeffrey Herbst \n
URL:https://urbanmilwaukee.com/event/guys-on-ice-54/
LOCATION:108 E. Wells St.\, Milwaukee\, WI\, 53202\, United States
CATEGORIES:Arts & Entertainment
ATTACH;FMTTYPE=image/jpeg:https://urbanmilwaukee.com/wp-content/uploads/2024/01/Guys-on-Ice-1080x1080-11.jpg
END:VEVENT
BEGIN:VEVENT
DTSTART;TZID=America/Chicago:20240302T200000
DTEND;TZID=America/Chicago:20240302T220000
DTSTAMP:20260425T201913
CREATED:20240225T065527Z
LAST-MODIFIED:20240225T065527Z
UID:760960-1709409600-1709416800@urbanmilwaukee.com
SUMMARY:What the Constitution Means to Me
DESCRIPTION:Since its premiere in 2019\, this Pulitzer Prize finalist has taken the theatrical world by storm\, breathing new life into our Constitution by imagining how it will shape the next generation of Americans. As a teenager\, Heidi earned her college tuition by winning Constitutional debate competitions across the country. In this hilarious\, witty and refreshingly honest new play\, she revisits her fifteen-year-old self to trace the profound relationship between four generations of women and the lasting impact of the document that shaped their journey. \nPulitzer Prize Finalist\nBy Heidi Schreck\nDirected by Laura Braza \n
URL:https://urbanmilwaukee.com/event/what-the-constitution-means-to-me-23/
LOCATION:108 E. Wells St.\, Milwaukee\, WI\, 53202\, United States
CATEGORIES:Arts & Entertainment
ATTACH;FMTTYPE=image/jpeg:https://urbanmilwaukee.com/wp-content/uploads/2024/01/What-the-Constitution-Means-to-Me-1920x1080-28.jpg
END:VEVENT
END:VCALENDAR